AnyEvent-ProcessPool v0.07 Perl 5 v5.41.10 x86_64-linux-thread-multi-ld
- Status
- Pass
- From
- Andreas J. König (ANDK)
- Dist
-
AnyEvent-ProcessPool v0.07
- Platform
- Perl 5 v5.41.10 x86_64-linux-thread-multi-ld
- Date
- 2025-03-29 11:48:55
- ID
- cb20a906-0c93-11f0-9f58-8c8c0d44ac1c
This distribution has been tested as part of the CPAN Testers
project, supporting the Perl programming language. See
http://wiki.cpantesters.org/ for more information or email
questions to cpan-testers-discuss@perl.org
--
Dear Jeff Ober,
This is a computer-generated report for AnyEvent-ProcessPool-0.07
on perl 5.41.10, created by CPAN-Reporter-1.2020.
Thank you for uploading your work to CPAN. Congratulations!
All tests were successful.
Sections of this report:
* Tester comments
* Program output
* Prerequisites
* Environment and other context
------------------------------
TESTER COMMENTS
------------------------------
Additional comments from tester:
this report is from an automated smoke testing program
and was not reviewed by a human for accuracy
------------------------------
PROGRAM OUTPUT
------------------------------
Output from '/usr/bin/make test':
PERL_DL_NONLAZY=1 "/tmp/basesmoker-reloperl-V1HQ/bin/perl" "-MExtUtils::Command::MM" "-MTest::Harness" "-e" "undef *Test::Harness::Switches; test_harness(0, 'blib/lib', 'blib/arch')" t/*.t t/AnyEvent/*.t t/AnyEvent/ProcessPool/*.t
#
# Versions for all modules listed in MYMETA.json (including optional ones):
#
# === Configure Requires ===
#
# Module Want Have
# ------------------- ---- ----
# ExtUtils::MakeMaker any 7.72
#
# === Build Requires ===
#
# Module Want Have
# ------------------- ---- ----
# ExtUtils::MakeMaker any 7.72
#
# === Test Requires ===
#
# Module Want Have
# ----------------------- ---- --------
# ExtUtils::MakeMaker any 7.72
# File::Spec any 3.93
# Test2::Bundle::Extended any 1.302209
# Test::More any 1.302209
# Test::Pod 1.41 1.52
#
# === Test Recommends ===
#
# Module Want Have
# ---------- -------- --------
# CPAN::Meta 2.120900 2.150010
#
# === Runtime Requires ===
#
# Module Want Have
# ----------------------- ---- --------
# AnyEvent 7.14 7.17
# AnyEvent::Open3::Simple 0.86 0.90
# Carp any 1.54
# Class::Load any 0.25
# Config any 5.041010
# Data::Dump::Streamer any 2.42
# Data::UUID::MT any 1.001
# Exporter any 5.79
# MIME::Base64 any 3.16_01
# PadWalker 2.3 2.5
# String::Escape any 2010.002
# Try::Catch any 1.1.0
# common::sense 3.74 3.75
# parent any 0.244
#
t/00-report-prereqs.t .............. ok
t/AnyEvent/ProcessPool.t ........... ok
t/AnyEvent/ProcessPool/Pipeline.t .. ok
t/AnyEvent/ProcessPool/Process.t ... ok
t/AnyEvent/ProcessPool/Task.t ...... ok
t/author-pod-syntax.t .............. skipped: these tests are for testing by the author
All tests successful.
Files=6, Tests=14, 4 wallclock secs ( 0.03 usr 0.01 sys + 2.19 cusr 0.44 csys = 2.67 CPU)
Result: PASS
------------------------------
PREREQUISITES
------------------------------
Prerequisite modules loaded:
requires:
Module Need Have
----------------------- ----- --------
AnyEvent 7.14 7.17
AnyEvent::Open3::Simple 0.86 0.90
Carp 0 1.54
Class::Load 0 0.25
common::sense 3.74 3.75
Config 0 5.041010
Data::Dump::Streamer 0 2.42
Data::UUID::MT 0 1.001
Exporter 0 5.79
MIME::Base64 0 3.16_01
PadWalker 2.3 2.5
parent 0 0.244
perl 5.010 5.041010
String::Escape 0 2010.002
Try::Catch 0 1.1.0
build_requires:
Module Need Have
----------------------- ----- --------
ExtUtils::MakeMaker 0 7.72
File::Spec 0 3.93
Test2::Bundle::Extended 0 1.302209
Test::More 0 1.302209
Test::Pod 1.41 1.52
configure_requires:
Module Need Have
----------------------- ----- --------
ExtUtils::MakeMaker 0 7.72
------------------------------
ENVIRONMENT AND OTHER CONTEXT
------------------------------
Environment variables:
AUTOMATED_TESTING = 1
LANG = en_US.UTF-8
LC_ADDRESS = de_DE.UTF-8
LC_IDENTIFICATION = de_DE.UTF-8
LC_MEASUREMENT = de_DE.UTF-8
LC_MONETARY = de_DE.UTF-8
LC_NAME = de_DE.UTF-8
LC_NUMERIC = de_DE.UTF-8
LC_PAPER = de_DE.UTF-8
LC_TELEPHONE = de_DE.UTF-8
LC_TIME = de_DE.UTF-8
PATH = /home/sand/bin:/usr/local/bin:/usr/local/sbin:/usr/sbin:/usr/bin:/sbin:/bin:/usr/games:/usr/local/games:/snap/bin:/usr/local/perl/bin:/usr/X11/bin
PERL = /tmp/basesmoker-reloperl-V1HQ/bin/perl
PERL5LIB = /tmp/loop_over_bdir-379475-q5o5iV/Net-ISP-Balance-1.31-0/blib/arch:/tmp/loop_over_bdir-379475-q5o5iV/Net-ISP-Balance-1.31-0/blib/lib:/tmp/loop_over_bdir-379475-q5o5iV/Lingua-YaTeA-0.626-0/blib/arch:/tmp/loop_over_bdir-379475-q5o5iV/Lingua-YaTeA-0.626-0/blib/lib:/tmp/loop_over_bdir-379475-q5o5iV/Module-ScanDeps-Static-1.7.2-0/blib/arch:/tmp/loop_over_bdir-379475-q5o5iV/Module-ScanDeps-Static-1.7.2-0/blib/lib:/tmp/loop_over_bdir-379475-q5o5iV/App-oo_modulino_zsh_completion_helper-0.06-0/blib/arch:/tmp/loop_over_bdir-379475-q5o5iV/App-oo_modulino_zsh_completion_helper-0.06-0/blib/lib:/tmp/loop_over_bdir-379475-q5o5iV/Devel-Required-0.16-0/blib/arch:/tmp/loop_over_bdir-379475-q5o5iV/Devel-Required-0.16-0/blib/lib
PERL5OPT =
PERL5_CPANPLUS_IS_RUNNING = 379484
PERL5_CPAN_IS_RUNNING = 379484
PERL_CANARY_STABILITY_NOPROMPT = 1
PERL_MM_USE_DEFAULT = 1
PERL_USE_UNSAFE_INC = 1
SHELL = /usr/bin/zsh
TERM = screen
Perl special variables (and OS-specific diagnostics, for MSWin32):
$^X = /tmp/basesmoker-reloperl-V1HQ/bin/perl
$UID/$EUID = 1005 / 1005
$GID = 1005 1005
$EGID = 1005 1005
Perl module toolchain versions installed:
Module Have
------------------- --------
CPAN 2.38
CPAN::Meta 2.150010
Cwd 3.92
ExtUtils::CBuilder 0.280240
ExtUtils::Command 7.72
ExtUtils::Install 2.22
ExtUtils::MakeMaker 7.72
ExtUtils::Manifest 1.75
ExtUtils::ParseXS 3.57
File::Spec 3.93
JSON 4.10
JSON::PP 4.16
Module::Build 0.4234
Module::Signature 0.89
Parse::CPAN::Meta 2.150010
Test2 1.302209
Test::Harness 3.50
Test::More 1.302209
YAML 1.31
YAML::Syck 1.34
version 0.9933
--
Summary of my perl5 (revision 5 version 41 subversion 10) configuration:
Commit id: 6a1cf63fc3f0e8d25b8f3837f9ca46b3bbc65885
Platform:
osname=linux
osvers=6.8.0-52-generic
archname=x86_64-linux-thread-multi-ld
uname='linux k93jammy 6.8.0-52-generic #53~22.04.1-ubuntu smp preempt_dynamic wed jan 15 19:18:46 utc 2 x86_64 x86_64 x86_64 gnulinux '
config_args='-Dprefix=/home/sand/src/perl/repoperls/installed-perls/host/k93jammy/v5.41.10/322f -Dmyhostname=k93jammy -Dinstallusrbinperl=n -Uversiononly -Dusedevel -des -Ui_db -Dlibswanted=cl pthread socket inet nsl gdbm dbm malloc dl ld sun m crypt sec util c cposix posix ucb BSD gdbm_compat -Duseithreads -Duselongdouble -DEBUGGING=-g'
hint=recommended
useposix=true
d_sigaction=define
useithreads=define
usemultiplicity=define
use64bitint=define
use64bitall=define
uselongdouble=define
usemymalloc=n
default_inc_excludes_dot=define
Compiler:
cc='cc'
ccflags ='-D_REENTRANT -D_GNU_SOURCE -fwrapv -fno-strict-aliasing -pipe -fstack-protector-strong -I/usr/local/include -D_LARGEFILE_SOURCE -D_FILE_OFFSET_BITS=64'
optimize='-O2 -g'
cppflags='-D_REENTRANT -D_GNU_SOURCE -fwrapv -fno-strict-aliasing -pipe -fstack-protector-strong -I/usr/local/include'
ccversion=''
gccversion='11.4.0'
gccosandvers=''
intsize=4
longsize=8
ptrsize=8
doublesize=8
byteorder=12345678
doublekind=3
d_longlong=define
longlongsize=8
d_longdbl=define
longdblsize=16
longdblkind=3
ivtype='long'
ivsize=8
nvtype='long double'
nvsize=16
Off_t='off_t'
lseeksize=8
alignbytes=16
prototype=define
Linker and Libraries:
ld='cc'
ldflags =' -fstack-protector-strong -L/usr/local/lib'
libpth=/usr/local/lib /usr/lib/x86_64-linux-gnu /usr/lib /usr/lib64
libs=-lpthread -lnsl -ldl -lm -lcrypt -lutil -lc
perllibs=-lpthread -lnsl -ldl -lm -lcrypt -lutil -lc
libc=/lib/x86_64-linux-gnu/libc.so.6
so=so
useshrplib=false
libperl=libperl.a
gnulibc_version='2.35'
Dynamic Linking:
dlsrc=dl_dlopen.xs
dlext=so
d_dlsymun=undef
ccdlflags='-Wl,-E'
cccdlflags='-fPIC'
lddlflags='-shared -O2 -g -L/usr/local/lib -fstack-protector-strong'
Characteristics of this binary (from libperl):
Compile-time options:
HAS_LONG_DOUBLE
HAS_STRTOLD
HAS_TIMES
MULTIPLICITY
PERLIO_LAYERS
PERL_COPY_ON_WRITE
PERL_DONT_CREATE_GVSV
PERL_HASH_FUNC_SIPHASH13
PERL_HASH_USE_SBOX32
PERL_MALLOC_WRAP
PERL_OP_PARENT
PERL_PRESERVE_IVUV
PERL_USE_DEVEL
PERL_USE_SAFE_PUTENV
USE_64_BIT_ALL
USE_64_BIT_INT
USE_ITHREADS
USE_LARGE_FILES
USE_LOCALE
USE_LOCALE_COLLATE
USE_LOCALE_CTYPE
USE_LOCALE_NUMERIC
USE_LOCALE_TIME
USE_LONG_DOUBLE
USE_PERLIO
USE_PERL_ATOF
USE_REENTRANT_API
USE_THREAD_SAFE_LOCALE
Built under linux
Compiled at Mar 25 2025 13:30:32
%ENV:
PERL="/tmp/basesmoker-reloperl-V1HQ/bin/perl"
PERL5LIB="/tmp/loop_over_bdir-379475-q5o5iV/Net-ISP-Balance-1.31-0/blib/arch:/tmp/loop_over_bdir-379475-q5o5iV/Net-ISP-Balance-1.31-0/blib/lib:/tmp/loop_over_bdir-379475-q5o5iV/Lingua-YaTeA-0.626-0/blib/arch:/tmp/loop_over_bdir-379475-q5o5iV/Lingua-YaTeA-0.626-0/blib/lib:/tmp/loop_over_bdir-379475-q5o5iV/Module-ScanDeps-Static-1.7.2-0/blib/arch:/tmp/loop_over_bdir-379475-q5o5iV/Module-ScanDeps-Static-1.7.2-0/blib/lib:/tmp/loop_over_bdir-379475-q5o5iV/App-oo_modulino_zsh_completion_helper-0.06-0/blib/arch:/tmp/loop_over_bdir-379475-q5o5iV/App-oo_modulino_zsh_completion_helper-0.06-0/blib/lib:/tmp/loop_over_bdir-379475-q5o5iV/Devel-Required-0.16-0/blib/arch:/tmp/loop_over_bdir-379475-q5o5iV/Devel-Required-0.16-0/blib/lib"
PERL5OPT=""
PERL5_CPANPLUS_IS_RUNNING="379484"
PERL5_CPAN_IS_RUNNING="379484"
PERL_CANARY_STABILITY_NOPROMPT="1"
PERL_MM_USE_DEFAULT="1"
PERL_USE_UNSAFE_INC="1"
@INC:
/tmp/loop_over_bdir-379475-q5o5iV/Net-ISP-Balance-1.31-0/blib/arch
/tmp/loop_over_bdir-379475-q5o5iV/Net-ISP-Balance-1.31-0/blib/lib
/tmp/loop_over_bdir-379475-q5o5iV/Lingua-YaTeA-0.626-0/blib/arch
/tmp/loop_over_bdir-379475-q5o5iV/Lingua-YaTeA-0.626-0/blib/lib
/tmp/loop_over_bdir-379475-q5o5iV/Module-ScanDeps-Static-1.7.2-0/blib/arch
/tmp/loop_over_bdir-379475-q5o5iV/Module-ScanDeps-Static-1.7.2-0/blib/lib
/tmp/loop_over_bdir-379475-q5o5iV/App-oo_modulino_zsh_completion_helper-0.06-0/blib/arch
/tmp/loop_over_bdir-379475-q5o5iV/App-oo_modulino_zsh_completion_helper-0.06-0/blib/lib
/tmp/loop_over_bdir-379475-q5o5iV/Devel-Required-0.16-0/blib/arch
/tmp/loop_over_bdir-379475-q5o5iV/Devel-Required-0.16-0/blib/lib
/home/sand/src/perl/repoperls/installed-perls/host/k93jammy/v5.41.10/322f/lib/site_perl/5.41.10/x86_64-linux-thread-multi-ld
/home/sand/src/perl/repoperls/installed-perls/host/k93jammy/v5.41.10/322f/lib/site_perl/5.41.10
/home/sand/src/perl/repoperls/installed-perls/host/k93jammy/v5.41.10/322f/lib/5.41.10/x86_64-linux-thread-multi-ld
/home/sand/src/perl/repoperls/installed-perls/host/k93jammy/v5.41.10/322f/lib/5.41.10
.