Module-Install-AutoLicense v0.10 Perl 5 v5.41.1 amd64-netbsd-thread-multi

Status
Pass
From
Carlos Guevara
Dist
Module-Install-AutoLicense v0.10
Platform
Perl 5 v5.41.1 amd64-netbsd-thread-multi
Date
2024-06-23 20:11:36
ID
cb18310e-319c-11ef-baf9-a6d3ba4ee712
This distribution has been tested as part of the CPAN Testers
project, supporting the Perl programming language.  See
http://wiki.cpantesters.org/ for more information or email
questions to cpan-testers-discuss@perl.org


--
Dear Chris Williams,

This is a computer-generated report for Module-Install-AutoLicense-0.10
on perl 5.41.1, created by CPAN-Reporter-1.2019.

Thank you for uploading your work to CPAN.  Congratulations!
All tests were successful.

Sections of this report:

    * Tester comments
    * Program output
    * Prerequisites
    * Environment and other context

------------------------------
TESTER COMMENTS
------------------------------

Additional comments from tester:

this report is from an automated smoke testing program
and was not reviewed by a human for accuracy

------------------------------
PROGRAM OUTPUT
------------------------------

Output from '/usr/bin/make test':

PERL_DL_NONLAZY=1 "/home/cpan/bin/perl/bin/perl5.41.1" "-MExtUtils::Command::MM" "-MTest::Harness" "-e" "undef *Test::Harness::Switches; test_harness(0, 'inc', 'blib/lib', 'blib/arch')" t/*.t
# Testing Module::Install::AutoLicense 0.10, Perl 5.041001, /home/cpan/bin/perl/bin/perl5.41.1
t/00_compile.t ....... ok
# include /home/cpan/.cpan/build/Module-Install-AutoLicense-0.10-0/dist/1Hm1Csl_xs/inc/Module/Install.pm
# include inc/Module/Install/Metadata.pm
# include inc/Module/Install/Base.pm
# include inc/Module/Install/AutoLicense.pm
# include inc/Module/Install/Makefile.pm
# include inc/Module/Install/WriteAll.pm
# include inc/Module/Install/Win32.pm
# include inc/Module/Install/Can.pm
# include inc/Module/Install/Fetch.pm
# Generating a Unix-style Makefile
# Writing Makefile for Foo::Bar
# Writing MYMETA.yml and MYMETA.json
# Writing META.yml
# rm -f  Bar.bso Bar.def  Bar.exp Bar.x   blib/arch/auto/Foo/Bar/extralibs.all  blib/arch/auto/Foo/Bar/extralibs.ld Makefile.aperl  *.a *.o  *perl.core MYMETA.json  MYMETA.yml blibdirs.ts  core core.*perl.*.?  core.[0-9] core.[0-9][0-9]  core.[0-9][0-9][0-9] core.[0-9][0-9][0-9][0-9]  core.[0-9][0-9][0-9][0-9][0-9] libBar.def  mon.out perl  perl perl.exe  perlmain.c pm_to_blib  pm_to_blib.ts so_locations  tmon.out
# rm -rf  blib
# mv Makefile Makefile.old > /dev/null 2>&1
# rm -f  Makefile Makefile.old
# rm -rf  Foo-Bar-0.01 MYMETA.yml
# rm -f Foo-Bar-0.01.tar.gz
# rm -f MANIFEST.bak _build
# "/home/cpan/bin/perl/bin/perl5.41.1" "-Iinc" "-Ilib" "-MModule::Install::Admin" -e "remove_meta()"
# rm -rf inc
# "/home/cpan/bin/perl/bin/perl5.41.1" "-Iinc" "-MExtUtils::Manifest=fullcheck" -e fullcheck
# Problem opening MANIFEST: No such file or directory at /home/cpan/bin/perl/lib/5.41.1/ExtUtils/Manifest.pm line 342.
# Problem opening MANIFEST: No such file or directory at /home/cpan/bin/perl/lib/5.41.1/ExtUtils/Manifest.pm line 342.
# Not in MANIFEST: LICENSE
# Not in MANIFEST: Makefile.PL
# rm -f LICENSE
t/01_dist.t .......... ok
# include /home/cpan/.cpan/build/Module-Install-AutoLicense-0.10-0/dist/jIpQwWgibA/inc/Module/Install.pm
# include inc/Module/Install/Metadata.pm
# include inc/Module/Install/Base.pm
# include inc/Module/Install/AutoLicense.pm
# include inc/Module/Install/Makefile.pm
# include inc/Module/Install/WriteAll.pm
# include inc/Module/Install/Win32.pm
# include inc/Module/Install/Can.pm
# include inc/Module/Install/Fetch.pm
# Generating a Unix-style Makefile
# Writing Makefile for Foo::Bar
# Writing MYMETA.yml and MYMETA.json
# Writing META.yml
# "/home/cpan/bin/perl/bin/perl5.41.1" "-Iinc" "-MExtUtils::Manifest=mkmanifest" -e mkmanifest
# Added to MANIFEST: inc/Module/Install.pm
# Added to MANIFEST: inc/Module/Install/AutoLicense.pm
# Added to MANIFEST: inc/Module/Install/Base.pm
# Added to MANIFEST: inc/Module/Install/Can.pm
# Added to MANIFEST: inc/Module/Install/Fetch.pm
# Added to MANIFEST: inc/Module/Install/Makefile.pm
# Added to MANIFEST: inc/Module/Install/Metadata.pm
# Added to MANIFEST: inc/Module/Install/Win32.pm
# Added to MANIFEST: inc/Module/Install/WriteAll.pm
# Added to MANIFEST: LICENSE
# Added to MANIFEST: Makefile.PL
# Added to MANIFEST: MANIFEST
# Added to MANIFEST: META.yml
# rm -rf Foo-Bar-0.01
# "/home/cpan/bin/perl/bin/perl5.41.1" "-Iinc" "-MExtUtils::Manifest=manicopy,maniread"  -e "manicopy(maniread(),'Foo-Bar-0.01', 'best');"
# mkdir Foo-Bar-0.01
# mkdir Foo-Bar-0.01/inc
# mkdir Foo-Bar-0.01/inc/Module
# mkdir Foo-Bar-0.01/inc/Module/Install
# Checking if your kit is complete...
# Looks good
# Generating a Unix-style Makefile
# Writing Makefile for Foo::Bar
# Writing MYMETA.yml and MYMETA.json
# rm -f  Bar.bso Bar.def  Bar.exp Bar.x   blib/arch/auto/Foo/Bar/extralibs.all  blib/arch/auto/Foo/Bar/extralibs.ld Makefile.aperl  *.a *.o  *perl.core MYMETA.json  MYMETA.yml blibdirs.ts  core core.*perl.*.?  core.[0-9] core.[0-9][0-9]  core.[0-9][0-9][0-9] core.[0-9][0-9][0-9][0-9]  core.[0-9][0-9][0-9][0-9][0-9] libBar.def  mon.out perl  perl perl.exe  perlmain.c pm_to_blib  pm_to_blib.ts so_locations  tmon.out
# rm -rf  blib
# mv Makefile Makefile.old > /dev/null 2>&1
# rm -f  Makefile Makefile.old
# rm -rf  Foo-Bar-0.01 MYMETA.yml
# "/home/cpan/bin/perl/bin/perl5.41.1" "-Iinc" "-MExtUtils::Manifest=fullcheck" -e fullcheck
cannot remove path when cwd is /home/cpan/.cpan/build/Module-Install-AutoLicense-0.10-0/dist/jIpQwWgibA/Foo-Bar-0.01 for /home/cpan/.cpan/build/Module-Install-AutoLicense-0.10-0/dist/jIpQwWgibA:  at /home/cpan/bin/perl/lib/5.41.1/File/Temp.pm line 921.
t/02_distdir.t ....... ok
# include /home/cpan/.cpan/build/Module-Install-AutoLicense-0.10-0/dist/Ga6Yd4uWhy/inc/Module/Install.pm
# include inc/Module/Install/Metadata.pm
# include inc/Module/Install/Base.pm
# include inc/Module/Install/AutoLicense.pm
# include inc/Module/Install/Makefile.pm
# include inc/Module/Install/WriteAll.pm
# include inc/Module/Install/Win32.pm
# include inc/Module/Install/Can.pm
# include inc/Module/Install/Fetch.pm
# Generating a Unix-style Makefile
# Writing Makefile for Foo::Bar
# Writing MYMETA.yml and MYMETA.json
# Writing META.yml
# rm -f  Bar.bso Bar.def  Bar.exp Bar.x   blib/arch/auto/Foo/Bar/extralibs.all  blib/arch/auto/Foo/Bar/extralibs.ld Makefile.aperl  *.a *.o  *perl.core MYMETA.json  MYMETA.yml blibdirs.ts  core core.*perl.*.?  core.[0-9] core.[0-9][0-9]  core.[0-9][0-9][0-9] core.[0-9][0-9][0-9][0-9]  core.[0-9][0-9][0-9][0-9][0-9] libBar.def  mon.out perl  perl perl.exe  perlmain.c pm_to_blib  pm_to_blib.ts so_locations  tmon.out
# rm -rf  blib
# mv Makefile Makefile.old > /dev/null 2>&1
# rm -f  Makefile Makefile.old
# rm -rf  Foo-Bar-0.01 MYMETA.yml
# rm -f Foo-Bar-0.01.tar.gz
# rm -f MANIFEST.bak _build
# "/home/cpan/bin/perl/bin/perl5.41.1" "-Iinc" "-Ilib" "-MModule::Install::Admin" -e "remove_meta()"
# rm -rf inc
# "/home/cpan/bin/perl/bin/perl5.41.1" "-Iinc" "-MExtUtils::Manifest=fullcheck" -e fullcheck
# Problem opening MANIFEST: No such file or directory at /home/cpan/bin/perl/lib/5.41.1/ExtUtils/Manifest.pm line 342.
# Problem opening MANIFEST: No such file or directory at /home/cpan/bin/perl/lib/5.41.1/ExtUtils/Manifest.pm line 342.
# Not in MANIFEST: LICENSE
# Not in MANIFEST: Makefile.PL
# rm -f LICENSE
t/03_authors.t ....... ok
t/99_pod.t ........... ok
t/99_pod_coverage.t .. ok
All tests successful.
Files=6, Tests=17,  4 wallclock secs ( 0.01 usr  0.02 sys +  3.37 cusr  0.87 csys =  4.27 CPU)
Result: PASS

------------------------------
PREREQUISITES
------------------------------

Prerequisite modules loaded:

requires:

    Module              Need  Have    
    ------------------- ----- --------
    Module::Install     0.85  1.21    
    perl                5.006 5.041001
    Software::License   0.01  0.104006

build_requires:

    Module              Need  Have    
    ------------------- ----- --------
    Capture::Tiny       0.05  0.48    
    ExtUtils::MakeMaker 6.59  7.70    
    File::Temp          0     0.2311  
    Test::More          0.47  1.302199

configure_requires:

    Module              Need  Have    
    ------------------- ----- --------
    ExtUtils::MakeMaker 6.59  7.70    


------------------------------
ENVIRONMENT AND OTHER CONTEXT
------------------------------

Environment variables:

    AUTOMATED_TESTING = 1
    DATE_MANIP_TEST_DM5 = 1
    LC_ALL = C
    NONINTERACTIVE_TESTING = 1
    NO_NETWORK_TESTING = 1
    PATH = /home/cpan/bin/perl/bin:/home/cpan/bin:/home/cpan/bin:/bin:/sbin:/usr/bin:/usr/sbin:/usr/X11R7/bin:/usr/pkg/bin:/usr/pkg/sbin:/usr/games:/usr/local/bin:/usr/local/sbin
    PERL5LIB = 
    PERL5OPT = 
    PERL5_CPANPLUS_IS_RUNNING = 22256
    PERL5_CPAN_IS_RUNNING = 22256
    PERL_MM_USE_DEFAULT = 1
    PERL_USE_UNSAFE_INC = 1
    SHELL = /usr/pkg/bin/bash
    TERM = screen
    TMPDIR = /home/cpan/tmp

Perl special variables (and OS-specific diagnostics, for MSWin32):

    $^X = /home/cpan/bin/perl/bin/perl5.41.1
    $UID/$EUID = 1001 / 1001
    $GID = 100 100
    $EGID = 100 100

Perl module toolchain versions installed:

    Module              Have    
    ------------------- --------
    CPAN                2.36    
    CPAN::Meta          2.150010
    Cwd                 3.90    
    ExtUtils::CBuilder  0.280240
    ExtUtils::Command   7.70    
    ExtUtils::Install   2.22    
    ExtUtils::MakeMaker 7.70    
    ExtUtils::Manifest  1.75    
    ExtUtils::ParseXS   3.51    
    File::Spec          3.90    
    JSON                4.10    
    JSON::PP            4.16    
    Module::Build       0.4234  
    Module::Signature   0.88    
    Parse::CPAN::Meta   2.150010
    Test2               1.302199
    Test::Harness       3.48    
    Test::More          1.302199
    YAML                1.31    
    YAML::Syck          1.34    
    version             0.9932  


--

Summary of my perl5 (revision 5 version 41 subversion 1) configuration:
  Commit id: c3579230a91f8fcbe253076711475fbbe4eb0128
  Platform:
    osname=netbsd
    osvers=10.0
    archname=amd64-netbsd-thread-multi
    uname='netbsd cjg-netbsd10 10.0 netbsd 10.0 (generic) #0: thu mar 28 08:33:33 utc 2024 mkrepro@mkrepro.netbsd.org:usrsrcsysarchamd64compilegeneric amd64 '
    config_args='-des -Dprefix=/home/cpan/bin/perl -Dscriptdir=/home/cpan/bin/perl/bin -Dusedevel -Duse64bitall -Duseithreads'
    hint=recommended
    useposix=true
    d_sigaction=define
    useithreads=define
    usemultiplicity=define
    use64bitint=define
    use64bitall=define
    uselongdouble=undef
    usemymalloc=n
    default_inc_excludes_dot=define
  Compiler:
    cc='cc'
    ccflags ='-fwrapv -fno-strict-aliasing -pipe -fstack-protector-strong -I/usr/pkg/include -D_FORTIFY_SOURCE=2'
    optimize='-O'
    cppflags='-fwrapv -fno-strict-aliasing -pipe -fstack-protector-strong -I/usr/pkg/include'
    ccversion=''
    gccversion='10.5.0'
    gccosandvers=''
    intsize=4
    longsize=8
    ptrsize=8
    doublesize=8
    byteorder=12345678
    doublekind=3
    d_longlong=define
    longlongsize=8
    d_longdbl=define
    longdblsize=16
    longdblkind=3
    ivtype='long'
    ivsize=8
    nvtype='double'
    nvsize=8
    Off_t='off_t'
    lseeksize=8
    alignbytes=8
    prototype=define
  Linker and Libraries:
    ld='cc'
    ldflags =' -Wl,-rpath,/usr/pkg/lib -Wl,-rpath,/usr/local/lib -fstack-protector-strong -L/usr/pkg/lib'
    libpth=/usr/lib /usr/pkg/lib /lib
    libs=-lpthread -lm -lcrypt -lutil -lc -lposix
    perllibs=-lpthread -lm -lcrypt -lutil -lc -lposix
    libc=/lib/libc.so
    so=so
    useshrplib=false
    libperl=libperl.a
    gnulibc_version=''
  Dynamic Linking:
    dlsrc=dl_dlopen.xs
    dlext=so
    d_dlsymun=undef
    ccdlflags='-Wl,-E '
    cccdlflags='-DPIC -fPIC '
    lddlflags='-shared  -L/usr/pkg/lib -fstack-protector-strong'


Characteristics of this binary (from libperl): 
  Compile-time options:
    HAS_LONG_DOUBLE
    HAS_STRTOLD
    HAS_TIMES
    MULTIPLICITY
    PERLIO_LAYERS
    PERL_COPY_ON_WRITE
    PERL_DONT_CREATE_GVSV
    PERL_HASH_FUNC_SIPHASH13
    PERL_HASH_USE_SBOX32
    PERL_MALLOC_WRAP
    PERL_OP_PARENT
    PERL_PRESERVE_IVUV
    PERL_USE_DEVEL
    PERL_USE_SAFE_PUTENV
    USE_64_BIT_ALL
    USE_64_BIT_INT
    USE_ITHREADS
    USE_LARGE_FILES
    USE_LOCALE
    USE_LOCALE_COLLATE
    USE_LOCALE_CTYPE
    USE_LOCALE_NUMERIC
    USE_LOCALE_TIME
    USE_PERLIO
    USE_PERL_ATOF
    USE_REENTRANT_API
  Built under netbsd
  Compiled at Jun 23 2024 03:52:57
  %ENV:
    PERL5LIB=""
    PERL5OPT=""
    PERL5_CPANPLUS_IS_RUNNING="22256"
    PERL5_CPAN_IS_RUNNING="22256"
    PERL_MM_USE_DEFAULT="1"
    PERL_USE_UNSAFE_INC="1"
  @INC:
    /home/cpan/bin/perl/lib/site_perl/5.41.1/amd64-netbsd-thread-multi
    /home/cpan/bin/perl/lib/site_perl/5.41.1
    /home/cpan/bin/perl/lib/5.41.1/amd64-netbsd-thread-multi
    /home/cpan/bin/perl/lib/5.41.1
    .