MooseX-RelClassTypes v0.02 Perl 5 v5.26.1 x86_64-linux-thread-multi-ld
- Status
- Pass
- From
- Andreas J. König (ANDK)
- Dist
-
MooseX-RelClassTypes v0.02
- Platform
- Perl 5 v5.26.1 x86_64-linux-thread-multi-ld
- Date
- 2018-03-26 06:42:03
- ID
- cb10948c-30c0-11e8-bd3c-1da3fb8fc88d
This distribution has been tested as part of the CPAN Testers
project, supporting the Perl programming language. See
http://wiki.cpantesters.org/ for more information or email
questions to cpan-testers-discuss@perl.org
--
Dear Tom Gracey,
This is a computer-generated report for MooseX-RelClassTypes-0.02
on perl 5.26.1, created by CPAN-Reporter-1.2018.
Thank you for uploading your work to CPAN. Congratulations!
All tests were successful.
Sections of this report:
* Tester comments
* Program output
* Prerequisites
* Environment and other context
------------------------------
TESTER COMMENTS
------------------------------
Additional comments from tester:
this report is from an automated smoke testing program
and was not reviewed by a human for accuracy
------------------------------
PROGRAM OUTPUT
------------------------------
Output from '/usr/bin/make test':
PERL_DL_NONLAZY=1 "/home/sand/src/perl/repoperls/installed-perls/host/k93msid/v5.26.1/8854/bin/perl" "-MExtUtils::Command::MM" "-MTest::Harness" "-e" "undef *Test::Harness::Switches; test_harness(0, 'blib/lib', 'blib/arch')" t/*.t
You are overwriting a accessor (child_rel_pack) for the child_rel_pack attribute (defined at t/00_set_isa.t line 45) with a new accessor method for the child_rel_pack attribute (defined at t/00_set_isa.t line 45) at /home/sand/src/perl/repoperls/installed-perls/host/k93msid/v5.26.1/8854/lib/site_perl/5.26.1/x86_64-linux-thread-multi-ld/Moose/Meta/Attribute.pm line 1094.
Moose::Meta::Attribute::_process_accessors(Moose::Meta::Attribute=HASH(0x5616b4f1c7e8), "accessor", "child_rel_pack", undef) called at /home/sand/src/perl/repoperls/installed-perls/host/k93msid/v5.26.1/8854/lib/site_perl/5.26.1/x86_64-linux-thread-multi-ld/Class/MOP/Attribute.pm line 446
Class::MOP::Attribute::install_accessors(Moose::Meta::Attribute=HASH(0x5616b4f1c7e8)) called at /home/sand/src/perl/repoperls/installed-perls/host/k93msid/v5.26.1/8854/lib/site_perl/5.26.1/x86_64-linux-thread-multi-ld/Moose/Meta/Attribute.pm line 1014
Moose::Meta::Attribute::install_accessors(Moose::Meta::Attribute=HASH(0x5616b4f1c7e8)) called at /tmp/loop_over_bdir-3297-hQVw3w/MooseX-RelClassTypes-0.02-0/blib/lib/MooseX/RelClassTypes.pm line 70
Class::MOP::Class:::before("Child") called at /home/sand/src/perl/repoperls/installed-perls/host/k93msid/v5.26.1/8854/lib/site_perl/5.26.1/x86_64-linux-thread-multi-ld/Class/MOP/Method/Wrapped.pm line 43
Child::_wrapped_BUILDARGS("Child") called at /home/sand/src/perl/repoperls/installed-perls/host/k93msid/v5.26.1/8854/lib/site_perl/5.26.1/x86_64-linux-thread-multi-ld/Class/MOP/Method/Wrapped.pm line 95
Child::BUILDARGS("Child") called at /home/sand/src/perl/repoperls/installed-perls/host/k93msid/v5.26.1/8854/lib/site_perl/5.26.1/x86_64-linux-thread-multi-ld/Moose/Object.pm line 22
Moose::Object::new("Child") called at t/00_set_isa.t line 99
You are overwriting a accessor (parent_rel_pack) for the parent_rel_pack attribute (defined at t/00_set_isa.t line 23) with a new accessor method for the parent_rel_pack attribute (defined at t/00_set_isa.t line 23) at /home/sand/src/perl/repoperls/installed-perls/host/k93msid/v5.26.1/8854/lib/site_perl/5.26.1/x86_64-linux-thread-multi-ld/Moose/Meta/Attribute.pm line 1094.
Moose::Meta::Attribute::_process_accessors(Moose::Meta::Attribute=HASH(0x5616b4f06818), "accessor", "parent_rel_pack", undef) called at /home/sand/src/perl/repoperls/installed-perls/host/k93msid/v5.26.1/8854/lib/site_perl/5.26.1/x86_64-linux-thread-multi-ld/Class/MOP/Attribute.pm line 446
Class::MOP::Attribute::install_accessors(Moose::Meta::Attribute=HASH(0x5616b4f06818)) called at /home/sand/src/perl/repoperls/installed-perls/host/k93msid/v5.26.1/8854/lib/site_perl/5.26.1/x86_64-linux-thread-multi-ld/Moose/Meta/Attribute.pm line 1014
Moose::Meta::Attribute::install_accessors(Moose::Meta::Attribute=HASH(0x5616b4f06818)) called at /tmp/loop_over_bdir-3297-hQVw3w/MooseX-RelClassTypes-0.02-0/blib/lib/MooseX/RelClassTypes.pm line 70
Class::MOP::Class:::before("Child") called at /home/sand/src/perl/repoperls/installed-perls/host/k93msid/v5.26.1/8854/lib/site_perl/5.26.1/x86_64-linux-thread-multi-ld/Class/MOP/Method/Wrapped.pm line 43
Child::_wrapped_BUILDARGS("Child") called at /home/sand/src/perl/repoperls/installed-perls/host/k93msid/v5.26.1/8854/lib/site_perl/5.26.1/x86_64-linux-thread-multi-ld/Class/MOP/Method/Wrapped.pm line 95
Child::BUILDARGS("Child") called at /home/sand/src/perl/repoperls/installed-perls/host/k93msid/v5.26.1/8854/lib/site_perl/5.26.1/x86_64-linux-thread-multi-ld/Moose/Object.pm line 22
Moose::Object::new("Child") called at t/00_set_isa.t line 99
t/00_set_isa.t ....... ok
You are overwriting a reader (rel_pack) for the rel_pack attribute (defined at t/01_auto_default.t line 54) with a new reader method for the rel_pack attribute (defined at t/01_auto_default.t line 54) at /home/sand/src/perl/repoperls/installed-perls/host/k93msid/v5.26.1/8854/lib/site_perl/5.26.1/x86_64-linux-thread-multi-ld/Moose/Meta/Attribute.pm line 1094.
Moose::Meta::Attribute::_process_accessors(Moose::Meta::Attribute=HASH(0x559c34548690), "reader", "rel_pack", undef) called at /home/sand/src/perl/repoperls/installed-perls/host/k93msid/v5.26.1/8854/lib/site_perl/5.26.1/x86_64-linux-thread-multi-ld/Class/MOP/Attribute.pm line 450
Class::MOP::Attribute::install_accessors(Moose::Meta::Attribute=HASH(0x559c34548690)) called at /home/sand/src/perl/repoperls/installed-perls/host/k93msid/v5.26.1/8854/lib/site_perl/5.26.1/x86_64-linux-thread-multi-ld/Moose/Meta/Attribute.pm line 1014
Moose::Meta::Attribute::install_accessors(Moose::Meta::Attribute=HASH(0x559c34548690)) called at /tmp/loop_over_bdir-3297-hQVw3w/MooseX-RelClassTypes-0.02-0/blib/lib/MooseX/RelClassTypes.pm line 70
Class::MOP::Class:::before("TestAD::WithAuto_NoDefault_WithBuilder") called at /home/sand/src/perl/repoperls/installed-perls/host/k93msid/v5.26.1/8854/lib/site_perl/5.26.1/x86_64-linux-thread-multi-ld/Class/MOP/Method/Wrapped.pm line 43
TestAD::WithAuto_NoDefault_WithBuilder::_wrapped_BUILDARGS("TestAD::WithAuto_NoDefault_WithBuilder") called at /home/sand/src/perl/repoperls/installed-perls/host/k93msid/v5.26.1/8854/lib/site_perl/5.26.1/x86_64-linux-thread-multi-ld/Class/MOP/Method/Wrapped.pm line 95
TestAD::WithAuto_NoDefault_WithBuilder::BUILDARGS("TestAD::WithAuto_NoDefault_WithBuilder") called at /home/sand/src/perl/repoperls/installed-perls/host/k93msid/v5.26.1/8854/lib/site_perl/5.26.1/x86_64-linux-thread-multi-ld/Moose/Object.pm line 22
Moose::Object::new("TestAD::WithAuto_NoDefault_WithBuilder") called at t/01_auto_default.t line 143
You are overwriting a reader (rel_pack) for the rel_pack attribute (defined at t/01_auto_default.t line 11) with a new reader method for the rel_pack attribute (defined at t/01_auto_default.t line 11) at /home/sand/src/perl/repoperls/installed-perls/host/k93msid/v5.26.1/8854/lib/site_perl/5.26.1/x86_64-linux-thread-multi-ld/Moose/Meta/Attribute.pm line 1094.
Moose::Meta::Attribute::_process_accessors(Moose::Meta::Attribute=HASH(0x559c3452b810), "reader", "rel_pack", undef) called at /home/sand/src/perl/repoperls/installed-perls/host/k93msid/v5.26.1/8854/lib/site_perl/5.26.1/x86_64-linux-thread-multi-ld/Class/MOP/Attribute.pm line 450
Class::MOP::Attribute::install_accessors(Moose::Meta::Attribute=HASH(0x559c3452b810)) called at /home/sand/src/perl/repoperls/installed-perls/host/k93msid/v5.26.1/8854/lib/site_perl/5.26.1/x86_64-linux-thread-multi-ld/Moose/Meta/Attribute.pm line 1014
Moose::Meta::Attribute::install_accessors(Moose::Meta::Attribute=HASH(0x559c3452b810)) called at /tmp/loop_over_bdir-3297-hQVw3w/MooseX-RelClassTypes-0.02-0/blib/lib/MooseX/RelClassTypes.pm line 70
Class::MOP::Class:::before("TestAD::NoAuto_NoDefault_NoBuilder") called at /home/sand/src/perl/repoperls/installed-perls/host/k93msid/v5.26.1/8854/lib/site_perl/5.26.1/x86_64-linux-thread-multi-ld/Class/MOP/Method/Wrapped.pm line 43
TestAD::NoAuto_NoDefault_NoBuilder::_wrapped_BUILDARGS("TestAD::NoAuto_NoDefault_NoBuilder") called at /home/sand/src/perl/repoperls/installed-perls/host/k93msid/v5.26.1/8854/lib/site_perl/5.26.1/x86_64-linux-thread-multi-ld/Class/MOP/Method/Wrapped.pm line 95
TestAD::NoAuto_NoDefault_NoBuilder::BUILDARGS("TestAD::NoAuto_NoDefault_NoBuilder") called at /home/sand/src/perl/repoperls/installed-perls/host/k93msid/v5.26.1/8854/lib/site_perl/5.26.1/x86_64-linux-thread-multi-ld/Moose/Object.pm line 22
Moose::Object::new("TestAD::NoAuto_NoDefault_NoBuilder") called at t/01_auto_default.t line 143
You are overwriting a reader (rel_pack) for the rel_pack attribute (defined at t/01_auto_default.t line 37) with a new reader method for the rel_pack attribute (defined at t/01_auto_default.t line 37) at /home/sand/src/perl/repoperls/installed-perls/host/k93msid/v5.26.1/8854/lib/site_perl/5.26.1/x86_64-linux-thread-multi-ld/Moose/Meta/Attribute.pm line 1094.
Moose::Meta::Attribute::_process_accessors(Moose::Meta::Attribute=HASH(0x559c3453b0e8), "reader", "rel_pack", undef) called at /home/sand/src/perl/repoperls/installed-perls/host/k93msid/v5.26.1/8854/lib/site_perl/5.26.1/x86_64-linux-thread-multi-ld/Class/MOP/Attribute.pm line 450
Class::MOP::Attribute::install_accessors(Moose::Meta::Attribute=HASH(0x559c3453b0e8)) called at /home/sand/src/perl/repoperls/installed-perls/host/k93msid/v5.26.1/8854/lib/site_perl/5.26.1/x86_64-linux-thread-multi-ld/Moose/Meta/Attribute.pm line 1014
Moose::Meta::Attribute::install_accessors(Moose::Meta::Attribute=HASH(0x559c3453b0e8)) called at /tmp/loop_over_bdir-3297-hQVw3w/MooseX-RelClassTypes-0.02-0/blib/lib/MooseX/RelClassTypes.pm line 70
Class::MOP::Class:::before("TestAD::NoAuto_WithDefault_NoBuilder") called at /home/sand/src/perl/repoperls/installed-perls/host/k93msid/v5.26.1/8854/lib/site_perl/5.26.1/x86_64-linux-thread-multi-ld/Class/MOP/Method/Wrapped.pm line 43
TestAD::NoAuto_WithDefault_NoBuilder::_wrapped_BUILDARGS("TestAD::NoAuto_WithDefault_NoBuilder") called at /home/sand/src/perl/repoperls/installed-perls/host/k93msid/v5.26.1/8854/lib/site_perl/5.26.1/x86_64-linux-thread-multi-ld/Class/MOP/Method/Wrapped.pm line 95
TestAD::NoAuto_WithDefault_NoBuilder::BUILDARGS("TestAD::NoAuto_WithDefault_NoBuilder") called at /home/sand/src/perl/repoperls/installed-perls/host/k93msid/v5.26.1/8854/lib/site_perl/5.26.1/x86_64-linux-thread-multi-ld/Moose/Object.pm line 22
Moose::Object::new("TestAD::NoAuto_WithDefault_NoBuilder") called at t/01_auto_default.t line 143
You are overwriting a reader (rel_pack) for the rel_pack attribute (defined at t/01_auto_default.t line 45) with a new reader method for the rel_pack attribute (defined at t/01_auto_default.t line 45) at /home/sand/src/perl/repoperls/installed-perls/host/k93msid/v5.26.1/8854/lib/site_perl/5.26.1/x86_64-linux-thread-multi-ld/Moose/Meta/Attribute.pm line 1094.
Moose::Meta::Attribute::_process_accessors(Moose::Meta::Attribute=HASH(0x559c34544480), "reader", "rel_pack", undef) called at /home/sand/src/perl/repoperls/installed-perls/host/k93msid/v5.26.1/8854/lib/site_perl/5.26.1/x86_64-linux-thread-multi-ld/Class/MOP/Attribute.pm line 450
Class::MOP::Attribute::install_accessors(Moose::Meta::Attribute=HASH(0x559c34544480)) called at /home/sand/src/perl/repoperls/installed-perls/host/k93msid/v5.26.1/8854/lib/site_perl/5.26.1/x86_64-linux-thread-multi-ld/Moose/Meta/Attribute.pm line 1014
Moose::Meta::Attribute::install_accessors(Moose::Meta::Attribute=HASH(0x559c34544480)) called at /tmp/loop_over_bdir-3297-hQVw3w/MooseX-RelClassTypes-0.02-0/blib/lib/MooseX/RelClassTypes.pm line 70
Class::MOP::Class:::before("TestAD::WithAuto_NoDefault_NoBuilder") called at /home/sand/src/perl/repoperls/installed-perls/host/k93msid/v5.26.1/8854/lib/site_perl/5.26.1/x86_64-linux-thread-multi-ld/Class/MOP/Method/Wrapped.pm line 43
TestAD::WithAuto_NoDefault_NoBuilder::_wrapped_BUILDARGS("TestAD::WithAuto_NoDefault_NoBuilder") called at /home/sand/src/perl/repoperls/installed-perls/host/k93msid/v5.26.1/8854/lib/site_perl/5.26.1/x86_64-linux-thread-multi-ld/Class/MOP/Method/Wrapped.pm line 95
TestAD::WithAuto_NoDefault_NoBuilder::BUILDARGS("TestAD::WithAuto_NoDefault_NoBuilder") called at /home/sand/src/perl/repoperls/installed-perls/host/k93msid/v5.26.1/8854/lib/site_perl/5.26.1/x86_64-linux-thread-multi-ld/Moose/Object.pm line 22
Moose::Object::new("TestAD::WithAuto_NoDefault_NoBuilder") called at t/01_auto_default.t line 143
You are overwriting a reader (rel_pack) for the rel_pack attribute (defined at t/01_auto_default.t line 71) with a new reader method for the rel_pack attribute (defined at t/01_auto_default.t line 71) at /home/sand/src/perl/repoperls/installed-perls/host/k93msid/v5.26.1/8854/lib/site_perl/5.26.1/x86_64-linux-thread-multi-ld/Moose/Meta/Attribute.pm line 1094.
Moose::Meta::Attribute::_process_accessors(Moose::Meta::Attribute=HASH(0x559c3454d880), "reader", "rel_pack", undef) called at /home/sand/src/perl/repoperls/installed-perls/host/k93msid/v5.26.1/8854/lib/site_perl/5.26.1/x86_64-linux-thread-multi-ld/Class/MOP/Attribute.pm line 450
Class::MOP::Attribute::install_accessors(Moose::Meta::Attribute=HASH(0x559c3454d880)) called at /home/sand/src/perl/repoperls/installed-perls/host/k93msid/v5.26.1/8854/lib/site_perl/5.26.1/x86_64-linux-thread-multi-ld/Moose/Meta/Attribute.pm line 1014
Moose::Meta::Attribute::install_accessors(Moose::Meta::Attribute=HASH(0x559c3454d880)) called at /tmp/loop_over_bdir-3297-hQVw3w/MooseX-RelClassTypes-0.02-0/blib/lib/MooseX/RelClassTypes.pm line 70
Class::MOP::Class:::before("TestAD::WithAuto_WithDefault_NoBuilder") called at /home/sand/src/perl/repoperls/installed-perls/host/k93msid/v5.26.1/8854/lib/site_perl/5.26.1/x86_64-linux-thread-multi-ld/Class/MOP/Method/Wrapped.pm line 43
TestAD::WithAuto_WithDefault_NoBuilder::_wrapped_BUILDARGS("TestAD::WithAuto_WithDefault_NoBuilder") called at /home/sand/src/perl/repoperls/installed-perls/host/k93msid/v5.26.1/8854/lib/site_perl/5.26.1/x86_64-linux-thread-multi-ld/Class/MOP/Method/Wrapped.pm line 95
TestAD::WithAuto_WithDefault_NoBuilder::BUILDARGS("TestAD::WithAuto_WithDefault_NoBuilder") called at /home/sand/src/perl/repoperls/installed-perls/host/k93msid/v5.26.1/8854/lib/site_perl/5.26.1/x86_64-linux-thread-multi-ld/Moose/Object.pm line 22
Moose::Object::new("TestAD::WithAuto_WithDefault_NoBuilder") called at t/01_auto_default.t line 143
You are overwriting a reader (rel_pack) for the rel_pack attribute (defined at t/01_auto_default.t line 20) with a new reader method for the rel_pack attribute (defined at t/01_auto_default.t line 20) at /home/sand/src/perl/repoperls/installed-perls/host/k93msid/v5.26.1/8854/lib/site_perl/5.26.1/x86_64-linux-thread-multi-ld/Moose/Meta/Attribute.pm line 1094.
Moose::Meta::Attribute::_process_accessors(Moose::Meta::Attribute=HASH(0x559c34535e60), "reader", "rel_pack", undef) called at /home/sand/src/perl/repoperls/installed-perls/host/k93msid/v5.26.1/8854/lib/site_perl/5.26.1/x86_64-linux-thread-multi-ld/Class/MOP/Attribute.pm line 450
Class::MOP::Attribute::install_accessors(Moose::Meta::Attribute=HASH(0x559c34535e60)) called at /home/sand/src/perl/repoperls/installed-perls/host/k93msid/v5.26.1/8854/lib/site_perl/5.26.1/x86_64-linux-thread-multi-ld/Moose/Meta/Attribute.pm line 1014
Moose::Meta::Attribute::install_accessors(Moose::Meta::Attribute=HASH(0x559c34535e60)) called at /tmp/loop_over_bdir-3297-hQVw3w/MooseX-RelClassTypes-0.02-0/blib/lib/MooseX/RelClassTypes.pm line 70
Class::MOP::Class:::before("TestAD::NoAuto_NoDefault_WithBuilder") called at /home/sand/src/perl/repoperls/installed-perls/host/k93msid/v5.26.1/8854/lib/site_perl/5.26.1/x86_64-linux-thread-multi-ld/Class/MOP/Method/Wrapped.pm line 43
TestAD::NoAuto_NoDefault_WithBuilder::_wrapped_BUILDARGS("TestAD::NoAuto_NoDefault_WithBuilder") called at /home/sand/src/perl/repoperls/installed-perls/host/k93msid/v5.26.1/8854/lib/site_perl/5.26.1/x86_64-linux-thread-multi-ld/Class/MOP/Method/Wrapped.pm line 95
TestAD::NoAuto_NoDefault_WithBuilder::BUILDARGS("TestAD::NoAuto_NoDefault_WithBuilder") called at /home/sand/src/perl/repoperls/installed-perls/host/k93msid/v5.26.1/8854/lib/site_perl/5.26.1/x86_64-linux-thread-multi-ld/Moose/Object.pm line 22
Moose::Object::new("TestAD::NoAuto_NoDefault_WithBuilder") called at t/01_auto_default.t line 143
t/01_auto_default.t .. ok
You are overwriting a reader (rel_pack) for the rel_pack attribute (defined at t/02_parser.t line 19) with a new reader method for the rel_pack attribute (defined at t/02_parser.t line 19) at /home/sand/src/perl/repoperls/installed-perls/host/k93msid/v5.26.1/8854/lib/site_perl/5.26.1/x86_64-linux-thread-multi-ld/Moose/Meta/Attribute.pm line 1094.
Moose::Meta::Attribute::_process_accessors(Moose::Meta::Attribute=HASH(0x55f1e9827a18), "reader", "rel_pack", undef) called at /home/sand/src/perl/repoperls/installed-perls/host/k93msid/v5.26.1/8854/lib/site_perl/5.26.1/x86_64-linux-thread-multi-ld/Class/MOP/Attribute.pm line 450
Class::MOP::Attribute::install_accessors(Moose::Meta::Attribute=HASH(0x55f1e9827a18)) called at /home/sand/src/perl/repoperls/installed-perls/host/k93msid/v5.26.1/8854/lib/site_perl/5.26.1/x86_64-linux-thread-multi-ld/Moose/Meta/Attribute.pm line 1014
Moose::Meta::Attribute::install_accessors(Moose::Meta::Attribute=HASH(0x55f1e9827a18)) called at /tmp/loop_over_bdir-3297-hQVw3w/MooseX-RelClassTypes-0.02-0/blib/lib/MooseX/RelClassTypes.pm line 70
Class::MOP::Class:::before("TestParser::AngleBK") called at /home/sand/src/perl/repoperls/installed-perls/host/k93msid/v5.26.1/8854/lib/site_perl/5.26.1/x86_64-linux-thread-multi-ld/Class/MOP/Method/Wrapped.pm line 43
TestParser::AngleBK::_wrapped_BUILDARGS("TestParser::AngleBK") called at /home/sand/src/perl/repoperls/installed-perls/host/k93msid/v5.26.1/8854/lib/site_perl/5.26.1/x86_64-linux-thread-multi-ld/Class/MOP/Method/Wrapped.pm line 95
TestParser::AngleBK::BUILDARGS("TestParser::AngleBK") called at /home/sand/src/perl/repoperls/installed-perls/host/k93msid/v5.26.1/8854/lib/site_perl/5.26.1/x86_64-linux-thread-multi-ld/Moose/Object.pm line 22
Moose::Object::new("TestParser::AngleBK") called at t/02_parser.t line 87
You are overwriting a reader (alt_pack) for the alt_pack attribute (defined at t/02_parser.t line 24) with a new reader method for the alt_pack attribute (defined at t/02_parser.t line 24) at /home/sand/src/perl/repoperls/installed-perls/host/k93msid/v5.26.1/8854/lib/site_perl/5.26.1/x86_64-linux-thread-multi-ld/Moose/Meta/Attribute.pm line 1094.
Moose::Meta::Attribute::_process_accessors(Moose::Meta::Attribute=HASH(0x55f1e9827fd0), "reader", "alt_pack", undef) called at /home/sand/src/perl/repoperls/installed-perls/host/k93msid/v5.26.1/8854/lib/site_perl/5.26.1/x86_64-linux-thread-multi-ld/Class/MOP/Attribute.pm line 450
Class::MOP::Attribute::install_accessors(Moose::Meta::Attribute=HASH(0x55f1e9827fd0)) called at /home/sand/src/perl/repoperls/installed-perls/host/k93msid/v5.26.1/8854/lib/site_perl/5.26.1/x86_64-linux-thread-multi-ld/Moose/Meta/Attribute.pm line 1014
Moose::Meta::Attribute::install_accessors(Moose::Meta::Attribute=HASH(0x55f1e9827fd0)) called at /tmp/loop_over_bdir-3297-hQVw3w/MooseX-RelClassTypes-0.02-0/blib/lib/MooseX/RelClassTypes.pm line 70
Class::MOP::Class:::before("TestParser::AngleBK") called at /home/sand/src/perl/repoperls/installed-perls/host/k93msid/v5.26.1/8854/lib/site_perl/5.26.1/x86_64-linux-thread-multi-ld/Class/MOP/Method/Wrapped.pm line 43
TestParser::AngleBK::_wrapped_BUILDARGS("TestParser::AngleBK") called at /home/sand/src/perl/repoperls/installed-perls/host/k93msid/v5.26.1/8854/lib/site_perl/5.26.1/x86_64-linux-thread-multi-ld/Class/MOP/Method/Wrapped.pm line 95
TestParser::AngleBK::BUILDARGS("TestParser::AngleBK") called at /home/sand/src/perl/repoperls/installed-perls/host/k93msid/v5.26.1/8854/lib/site_perl/5.26.1/x86_64-linux-thread-multi-ld/Moose/Object.pm line 22
Moose::Object::new("TestParser::AngleBK") called at t/02_parser.t line 87
You are overwriting a reader (alt_pack) for the alt_pack attribute (defined at t/02_parser.t line 47) with a new reader method for the alt_pack attribute (defined at t/02_parser.t line 47) at /home/sand/src/perl/repoperls/installed-perls/host/k93msid/v5.26.1/8854/lib/site_perl/5.26.1/x86_64-linux-thread-multi-ld/Moose/Meta/Attribute.pm line 1094.
Moose::Meta::Attribute::_process_accessors(Moose::Meta::Attribute=HASH(0x55f1e9834ff0), "reader", "alt_pack", undef) called at /home/sand/src/perl/repoperls/installed-perls/host/k93msid/v5.26.1/8854/lib/site_perl/5.26.1/x86_64-linux-thread-multi-ld/Class/MOP/Attribute.pm line 450
Class::MOP::Attribute::install_accessors(Moose::Meta::Attribute=HASH(0x55f1e9834ff0)) called at /home/sand/src/perl/repoperls/installed-perls/host/k93msid/v5.26.1/8854/lib/site_perl/5.26.1/x86_64-linux-thread-multi-ld/Moose/Meta/Attribute.pm line 1014
Moose::Meta::Attribute::install_accessors(Moose::Meta::Attribute=HASH(0x55f1e9834ff0)) called at /tmp/loop_over_bdir-3297-hQVw3w/MooseX-RelClassTypes-0.02-0/blib/lib/MooseX/RelClassTypes.pm line 70
Class::MOP::Class:::before("TestParser::RoundBK") called at /home/sand/src/perl/repoperls/installed-perls/host/k93msid/v5.26.1/8854/lib/site_perl/5.26.1/x86_64-linux-thread-multi-ld/Class/MOP/Method/Wrapped.pm line 43
TestParser::RoundBK::_wrapped_BUILDARGS("TestParser::RoundBK") called at /home/sand/src/perl/repoperls/installed-perls/host/k93msid/v5.26.1/8854/lib/site_perl/5.26.1/x86_64-linux-thread-multi-ld/Class/MOP/Method/Wrapped.pm line 95
TestParser::RoundBK::BUILDARGS("TestParser::RoundBK") called at /home/sand/src/perl/repoperls/installed-perls/host/k93msid/v5.26.1/8854/lib/site_perl/5.26.1/x86_64-linux-thread-multi-ld/Moose/Object.pm line 22
Moose::Object::new("TestParser::RoundBK") called at t/02_parser.t line 87
You are overwriting a reader (rel_pack) for the rel_pack attribute (defined at t/02_parser.t line 42) with a new reader method for the rel_pack attribute (defined at t/02_parser.t line 42) at /home/sand/src/perl/repoperls/installed-perls/host/k93msid/v5.26.1/8854/lib/site_perl/5.26.1/x86_64-linux-thread-multi-ld/Moose/Meta/Attribute.pm line 1094.
Moose::Meta::Attribute::_process_accessors(Moose::Meta::Attribute=HASH(0x55f1e9834cf0), "reader", "rel_pack", undef) called at /home/sand/src/perl/repoperls/installed-perls/host/k93msid/v5.26.1/8854/lib/site_perl/5.26.1/x86_64-linux-thread-multi-ld/Class/MOP/Attribute.pm line 450
Class::MOP::Attribute::install_accessors(Moose::Meta::Attribute=HASH(0x55f1e9834cf0)) called at /home/sand/src/perl/repoperls/installed-perls/host/k93msid/v5.26.1/8854/lib/site_perl/5.26.1/x86_64-linux-thread-multi-ld/Moose/Meta/Attribute.pm line 1014
Moose::Meta::Attribute::install_accessors(Moose::Meta::Attribute=HASH(0x55f1e9834cf0)) called at /tmp/loop_over_bdir-3297-hQVw3w/MooseX-RelClassTypes-0.02-0/blib/lib/MooseX/RelClassTypes.pm line 70
Class::MOP::Class:::before("TestParser::RoundBK") called at /home/sand/src/perl/repoperls/installed-perls/host/k93msid/v5.26.1/8854/lib/site_perl/5.26.1/x86_64-linux-thread-multi-ld/Class/MOP/Method/Wrapped.pm line 43
TestParser::RoundBK::_wrapped_BUILDARGS("TestParser::RoundBK") called at /home/sand/src/perl/repoperls/installed-perls/host/k93msid/v5.26.1/8854/lib/site_perl/5.26.1/x86_64-linux-thread-multi-ld/Class/MOP/Method/Wrapped.pm line 95
TestParser::RoundBK::BUILDARGS("TestParser::RoundBK") called at /home/sand/src/perl/repoperls/installed-perls/host/k93msid/v5.26.1/8854/lib/site_perl/5.26.1/x86_64-linux-thread-multi-ld/Moose/Object.pm line 22
Moose::Object::new("TestParser::RoundBK") called at t/02_parser.t line 87
t/02_parser.t ........ ok
You are overwriting a accessor (parent_rel_pack) for the parent_rel_pack attribute (defined at t/03_lazy.t line 22) with a new accessor method for the parent_rel_pack attribute (defined at t/03_lazy.t line 22) at /home/sand/src/perl/repoperls/installed-perls/host/k93msid/v5.26.1/8854/lib/site_perl/5.26.1/x86_64-linux-thread-multi-ld/Moose/Meta/Attribute.pm line 1094.
Moose::Meta::Attribute::_process_accessors(Moose::Meta::Attribute=HASH(0x5608216c36c0), "accessor", "parent_rel_pack", undef) called at /home/sand/src/perl/repoperls/installed-perls/host/k93msid/v5.26.1/8854/lib/site_perl/5.26.1/x86_64-linux-thread-multi-ld/Class/MOP/Attribute.pm line 446
Class::MOP::Attribute::install_accessors(Moose::Meta::Attribute=HASH(0x5608216c36c0)) called at /home/sand/src/perl/repoperls/installed-perls/host/k93msid/v5.26.1/8854/lib/site_perl/5.26.1/x86_64-linux-thread-multi-ld/Moose/Meta/Attribute.pm line 1014
Moose::Meta::Attribute::install_accessors(Moose::Meta::Attribute=HASH(0x5608216c36c0)) called at /tmp/loop_over_bdir-3297-hQVw3w/MooseX-RelClassTypes-0.02-0/blib/lib/MooseX/RelClassTypes.pm line 70
Class::MOP::Class:::before("LazyParent::Child") called at /home/sand/src/perl/repoperls/installed-perls/host/k93msid/v5.26.1/8854/lib/site_perl/5.26.1/x86_64-linux-thread-multi-ld/Class/MOP/Method/Wrapped.pm line 43
LazyParent::Child::_wrapped_BUILDARGS("LazyParent::Child") called at /home/sand/src/perl/repoperls/installed-perls/host/k93msid/v5.26.1/8854/lib/site_perl/5.26.1/x86_64-linux-thread-multi-ld/Class/MOP/Method/Wrapped.pm line 95
LazyParent::Child::BUILDARGS("LazyParent::Child") called at /home/sand/src/perl/repoperls/installed-perls/host/k93msid/v5.26.1/8854/lib/site_perl/5.26.1/x86_64-linux-thread-multi-ld/Moose/Object.pm line 22
Moose::Object::new("LazyParent::Child") called at t/03_lazy.t line 248
You are overwriting a accessor (child_rel_pack) for the child_rel_pack attribute (defined at t/03_lazy.t line 32) with a new accessor method for the child_rel_pack attribute (defined at t/03_lazy.t line 32) at /home/sand/src/perl/repoperls/installed-perls/host/k93msid/v5.26.1/8854/lib/site_perl/5.26.1/x86_64-linux-thread-multi-ld/Moose/Meta/Attribute.pm line 1094.
Moose::Meta::Attribute::_process_accessors(Moose::Meta::Attribute=HASH(0x5608216d24b0), "accessor", "child_rel_pack", undef) called at /home/sand/src/perl/repoperls/installed-perls/host/k93msid/v5.26.1/8854/lib/site_perl/5.26.1/x86_64-linux-thread-multi-ld/Class/MOP/Attribute.pm line 446
Class::MOP::Attribute::install_accessors(Moose::Meta::Attribute=HASH(0x5608216d24b0)) called at /home/sand/src/perl/repoperls/installed-perls/host/k93msid/v5.26.1/8854/lib/site_perl/5.26.1/x86_64-linux-thread-multi-ld/Moose/Meta/Attribute.pm line 1014
Moose::Meta::Attribute::install_accessors(Moose::Meta::Attribute=HASH(0x5608216d24b0)) called at /tmp/loop_over_bdir-3297-hQVw3w/MooseX-RelClassTypes-0.02-0/blib/lib/MooseX/RelClassTypes.pm line 70
Class::MOP::Class:::before("LazyParent::Child") called at /home/sand/src/perl/repoperls/installed-perls/host/k93msid/v5.26.1/8854/lib/site_perl/5.26.1/x86_64-linux-thread-multi-ld/Class/MOP/Method/Wrapped.pm line 43
LazyParent::Child::_wrapped_BUILDARGS("LazyParent::Child") called at /home/sand/src/perl/repoperls/installed-perls/host/k93msid/v5.26.1/8854/lib/site_perl/5.26.1/x86_64-linux-thread-multi-ld/Class/MOP/Method/Wrapped.pm line 95
LazyParent::Child::BUILDARGS("LazyParent::Child") called at /home/sand/src/perl/repoperls/installed-perls/host/k93msid/v5.26.1/8854/lib/site_perl/5.26.1/x86_64-linux-thread-multi-ld/Moose/Object.pm line 22
Moose::Object::new("LazyParent::Child") called at t/03_lazy.t line 248
You are overwriting a accessor (child_rel_pack) for the child_rel_pack attribute (defined at t/03_lazy.t line 86) with a new accessor method for the child_rel_pack attribute (defined at t/03_lazy.t line 86) at /home/sand/src/perl/repoperls/installed-perls/host/k93msid/v5.26.1/8854/lib/site_perl/5.26.1/x86_64-linux-thread-multi-ld/Moose/Meta/Attribute.pm line 1094.
Moose::Meta::Attribute::_process_accessors(Moose::Meta::Attribute=HASH(0x5608216e8c90), "accessor", "child_rel_pack", undef) called at /home/sand/src/perl/repoperls/installed-perls/host/k93msid/v5.26.1/8854/lib/site_perl/5.26.1/x86_64-linux-thread-multi-ld/Class/MOP/Attribute.pm line 446
Class::MOP::Attribute::install_accessors(Moose::Meta::Attribute=HASH(0x5608216e8c90)) called at /home/sand/src/perl/repoperls/installed-perls/host/k93msid/v5.26.1/8854/lib/site_perl/5.26.1/x86_64-linux-thread-multi-ld/Moose/Meta/Attribute.pm line 1014
Moose::Meta::Attribute::install_accessors(Moose::Meta::Attribute=HASH(0x5608216e8c90)) called at /tmp/loop_over_bdir-3297-hQVw3w/MooseX-RelClassTypes-0.02-0/blib/lib/MooseX/RelClassTypes.pm line 70
Class::MOP::Class:::before("LazyChild::Child") called at /home/sand/src/perl/repoperls/installed-perls/host/k93msid/v5.26.1/8854/lib/site_perl/5.26.1/x86_64-linux-thread-multi-ld/Class/MOP/Method/Wrapped.pm line 43
LazyChild::Child::_wrapped_BUILDARGS("LazyChild::Child") called at /home/sand/src/perl/repoperls/installed-perls/host/k93msid/v5.26.1/8854/lib/site_perl/5.26.1/x86_64-linux-thread-multi-ld/Class/MOP/Method/Wrapped.pm line 95
LazyChild::Child::BUILDARGS("LazyChild::Child") called at /home/sand/src/perl/repoperls/installed-perls/host/k93msid/v5.26.1/8854/lib/site_perl/5.26.1/x86_64-linux-thread-multi-ld/Moose/Object.pm line 22
Moose::Object::new("LazyChild::Child") called at t/03_lazy.t line 248
You are overwriting a accessor (parent_rel_pack) for the parent_rel_pack attribute (defined at t/03_lazy.t line 66) with a new accessor method for the parent_rel_pack attribute (defined at t/03_lazy.t line 66) at /home/sand/src/perl/repoperls/installed-perls/host/k93msid/v5.26.1/8854/lib/site_perl/5.26.1/x86_64-linux-thread-multi-ld/Moose/Meta/Attribute.pm line 1094.
Moose::Meta::Attribute::_process_accessors(Moose::Meta::Attribute=HASH(0x5608216de6a0), "accessor", "parent_rel_pack", undef) called at /home/sand/src/perl/repoperls/installed-perls/host/k93msid/v5.26.1/8854/lib/site_perl/5.26.1/x86_64-linux-thread-multi-ld/Class/MOP/Attribute.pm line 446
Class::MOP::Attribute::install_accessors(Moose::Meta::Attribute=HASH(0x5608216de6a0)) called at /home/sand/src/perl/repoperls/installed-perls/host/k93msid/v5.26.1/8854/lib/site_perl/5.26.1/x86_64-linux-thread-multi-ld/Moose/Meta/Attribute.pm line 1014
Moose::Meta::Attribute::install_accessors(Moose::Meta::Attribute=HASH(0x5608216de6a0)) called at /tmp/loop_over_bdir-3297-hQVw3w/MooseX-RelClassTypes-0.02-0/blib/lib/MooseX/RelClassTypes.pm line 70
Class::MOP::Class:::before("LazyChild::Child") called at /home/sand/src/perl/repoperls/installed-perls/host/k93msid/v5.26.1/8854/lib/site_perl/5.26.1/x86_64-linux-thread-multi-ld/Class/MOP/Method/Wrapped.pm line 43
LazyChild::Child::_wrapped_BUILDARGS("LazyChild::Child") called at /home/sand/src/perl/repoperls/installed-perls/host/k93msid/v5.26.1/8854/lib/site_perl/5.26.1/x86_64-linux-thread-multi-ld/Class/MOP/Method/Wrapped.pm line 95
LazyChild::Child::BUILDARGS("LazyChild::Child") called at /home/sand/src/perl/repoperls/installed-perls/host/k93msid/v5.26.1/8854/lib/site_perl/5.26.1/x86_64-linux-thread-multi-ld/Moose/Object.pm line 22
Moose::Object::new("LazyChild::Child") called at t/03_lazy.t line 248
You are overwriting a accessor (child_rel_pack) for the child_rel_pack attribute (defined at t/03_lazy.t line 129) with a new accessor method for the child_rel_pack attribute (defined at t/03_lazy.t line 129) at /home/sand/src/perl/repoperls/installed-perls/host/k93msid/v5.26.1/8854/lib/site_perl/5.26.1/x86_64-linux-thread-multi-ld/Moose/Meta/Attribute.pm line 1094.
Moose::Meta::Attribute::_process_accessors(Moose::Meta::Attribute=HASH(0x560821703330), "accessor", "child_rel_pack", undef) called at /home/sand/src/perl/repoperls/installed-perls/host/k93msid/v5.26.1/8854/lib/site_perl/5.26.1/x86_64-linux-thread-multi-ld/Class/MOP/Attribute.pm line 446
Class::MOP::Attribute::install_accessors(Moose::Meta::Attribute=HASH(0x560821703330)) called at /home/sand/src/perl/repoperls/installed-perls/host/k93msid/v5.26.1/8854/lib/site_perl/5.26.1/x86_64-linux-thread-multi-ld/Moose/Meta/Attribute.pm line 1014
Moose::Meta::Attribute::install_accessors(Moose::Meta::Attribute=HASH(0x560821703330)) called at /tmp/loop_over_bdir-3297-hQVw3w/MooseX-RelClassTypes-0.02-0/blib/lib/MooseX/RelClassTypes.pm line 70
Class::MOP::Class:::before("LazyParam::Child") called at /home/sand/src/perl/repoperls/installed-perls/host/k93msid/v5.26.1/8854/lib/site_perl/5.26.1/x86_64-linux-thread-multi-ld/Class/MOP/Method/Wrapped.pm line 43
LazyParam::Child::_wrapped_BUILDARGS("LazyParam::Child") called at /home/sand/src/perl/repoperls/installed-perls/host/k93msid/v5.26.1/8854/lib/site_perl/5.26.1/x86_64-linux-thread-multi-ld/Class/MOP/Method/Wrapped.pm line 95
LazyParam::Child::BUILDARGS("LazyParam::Child") called at /home/sand/src/perl/repoperls/installed-perls/host/k93msid/v5.26.1/8854/lib/site_perl/5.26.1/x86_64-linux-thread-multi-ld/Moose/Object.pm line 22
Moose::Object::new("LazyParam::Child") called at t/03_lazy.t line 248
You are overwriting a accessor (parent_rel_pack) for the parent_rel_pack attribute (defined at t/03_lazy.t line 117) with a new accessor method for the parent_rel_pack attribute (defined at t/03_lazy.t line 117) at /home/sand/src/perl/repoperls/installed-perls/host/k93msid/v5.26.1/8854/lib/site_perl/5.26.1/x86_64-linux-thread-multi-ld/Moose/Meta/Attribute.pm line 1094.
Moose::Meta::Attribute::_process_accessors(Moose::Meta::Attribute=HASH(0x5608216ed1a8), "accessor", "parent_rel_pack", undef) called at /home/sand/src/perl/repoperls/installed-perls/host/k93msid/v5.26.1/8854/lib/site_perl/5.26.1/x86_64-linux-thread-multi-ld/Class/MOP/Attribute.pm line 446
Class::MOP::Attribute::install_accessors(Moose::Meta::Attribute=HASH(0x5608216ed1a8)) called at /home/sand/src/perl/repoperls/installed-perls/host/k93msid/v5.26.1/8854/lib/site_perl/5.26.1/x86_64-linux-thread-multi-ld/Moose/Meta/Attribute.pm line 1014
Moose::Meta::Attribute::install_accessors(Moose::Meta::Attribute=HASH(0x5608216ed1a8)) called at /tmp/loop_over_bdir-3297-hQVw3w/MooseX-RelClassTypes-0.02-0/blib/lib/MooseX/RelClassTypes.pm line 70
Class::MOP::Class:::before("LazyParam::Child") called at /home/sand/src/perl/repoperls/installed-perls/host/k93msid/v5.26.1/8854/lib/site_perl/5.26.1/x86_64-linux-thread-multi-ld/Class/MOP/Method/Wrapped.pm line 43
LazyParam::Child::_wrapped_BUILDARGS("LazyParam::Child") called at /home/sand/src/perl/repoperls/installed-perls/host/k93msid/v5.26.1/8854/lib/site_perl/5.26.1/x86_64-linux-thread-multi-ld/Class/MOP/Method/Wrapped.pm line 95
LazyParam::Child::BUILDARGS("LazyParam::Child") called at /home/sand/src/perl/repoperls/installed-perls/host/k93msid/v5.26.1/8854/lib/site_perl/5.26.1/x86_64-linux-thread-multi-ld/Moose/Object.pm line 22
Moose::Object::new("LazyParam::Child") called at t/03_lazy.t line 248
You are overwriting a accessor (child_rel_pack) for the child_rel_pack attribute (defined at t/03_lazy.t line 194) with a new accessor method for the child_rel_pack attribute (defined at t/03_lazy.t line 194) at /home/sand/src/perl/repoperls/installed-perls/host/k93msid/v5.26.1/8854/lib/site_perl/5.26.1/x86_64-linux-thread-multi-ld/Moose/Meta/Attribute.pm line 1094.
Moose::Meta::Attribute::_process_accessors(Moose::Meta::Attribute=HASH(0x56082171e008), "accessor", "child_rel_pack", undef) called at /home/sand/src/perl/repoperls/installed-perls/host/k93msid/v5.26.1/8854/lib/site_perl/5.26.1/x86_64-linux-thread-multi-ld/Class/MOP/Attribute.pm line 446
Class::MOP::Attribute::install_accessors(Moose::Meta::Attribute=HASH(0x56082171e008)) called at /home/sand/src/perl/repoperls/installed-perls/host/k93msid/v5.26.1/8854/lib/site_perl/5.26.1/x86_64-linux-thread-multi-ld/Moose/Meta/Attribute.pm line 1014
Moose::Meta::Attribute::install_accessors(Moose::Meta::Attribute=HASH(0x56082171e008)) called at /tmp/loop_over_bdir-3297-hQVw3w/MooseX-RelClassTypes-0.02-0/blib/lib/MooseX/RelClassTypes.pm line 70
Class::MOP::Class:::before("LazyAll::Child") called at /home/sand/src/perl/repoperls/installed-perls/host/k93msid/v5.26.1/8854/lib/site_perl/5.26.1/x86_64-linux-thread-multi-ld/Class/MOP/Method/Wrapped.pm line 43
LazyAll::Child::_wrapped_BUILDARGS("LazyAll::Child") called at /home/sand/src/perl/repoperls/installed-perls/host/k93msid/v5.26.1/8854/lib/site_perl/5.26.1/x86_64-linux-thread-multi-ld/Class/MOP/Method/Wrapped.pm line 95
LazyAll::Child::BUILDARGS("LazyAll::Child") called at /home/sand/src/perl/repoperls/installed-perls/host/k93msid/v5.26.1/8854/lib/site_perl/5.26.1/x86_64-linux-thread-multi-ld/Moose/Object.pm line 22
Moose::Object::new("LazyAll::Child") called at t/03_lazy.t line 248
You are overwriting a accessor (parent_rel_pack) for the parent_rel_pack attribute (defined at t/03_lazy.t line 177) with a new accessor method for the parent_rel_pack attribute (defined at t/03_lazy.t line 177) at /home/sand/src/perl/repoperls/installed-perls/host/k93msid/v5.26.1/8854/lib/site_perl/5.26.1/x86_64-linux-thread-multi-ld/Moose/Meta/Attribute.pm line 1094.
Moose::Meta::Attribute::_process_accessors(Moose::Meta::Attribute=HASH(0x56082170d050), "accessor", "parent_rel_pack", undef) called at /home/sand/src/perl/repoperls/installed-perls/host/k93msid/v5.26.1/8854/lib/site_perl/5.26.1/x86_64-linux-thread-multi-ld/Class/MOP/Attribute.pm line 446
Class::MOP::Attribute::install_accessors(Moose::Meta::Attribute=HASH(0x56082170d050)) called at /home/sand/src/perl/repoperls/installed-perls/host/k93msid/v5.26.1/8854/lib/site_perl/5.26.1/x86_64-linux-thread-multi-ld/Moose/Meta/Attribute.pm line 1014
Moose::Meta::Attribute::install_accessors(Moose::Meta::Attribute=HASH(0x56082170d050)) called at /tmp/loop_over_bdir-3297-hQVw3w/MooseX-RelClassTypes-0.02-0/blib/lib/MooseX/RelClassTypes.pm line 70
Class::MOP::Class:::before("LazyAll::Child") called at /home/sand/src/perl/repoperls/installed-perls/host/k93msid/v5.26.1/8854/lib/site_perl/5.26.1/x86_64-linux-thread-multi-ld/Class/MOP/Method/Wrapped.pm line 43
LazyAll::Child::_wrapped_BUILDARGS("LazyAll::Child") called at /home/sand/src/perl/repoperls/installed-perls/host/k93msid/v5.26.1/8854/lib/site_perl/5.26.1/x86_64-linux-thread-multi-ld/Class/MOP/Method/Wrapped.pm line 95
LazyAll::Child::BUILDARGS("LazyAll::Child") called at /home/sand/src/perl/repoperls/installed-perls/host/k93msid/v5.26.1/8854/lib/site_perl/5.26.1/x86_64-linux-thread-multi-ld/Moose/Object.pm line 22
Moose::Object::new("LazyAll::Child") called at t/03_lazy.t line 248
t/03_lazy.t .......... ok
All tests successful.
Files=4, Tests=56, 2 wallclock secs ( 0.02 usr 0.05 sys + 1.29 cusr 0.17 csys = 1.53 CPU)
Result: PASS
------------------------------
PREREQUISITES
------------------------------
Prerequisite modules loaded:
requires:
Module Need Have
--------------------------- ---- --------
Carp 0 1.42
Clone 0 0.39
Module::Runtime 0 0.016
Moose 0 2.2010
MooseX::Role::Parameterized 0 1.10
build_requires:
Module Need Have
--------------------------- ---- --------
ExtUtils::MakeMaker 0 7.30
Test::More 0 1.302134
configure_requires:
Module Need Have
--------------------------- ---- --------
ExtUtils::MakeMaker 0 7.30
------------------------------
ENVIRONMENT AND OTHER CONTEXT
------------------------------
Environment variables:
AUTOMATED_TESTING = 1
LANG = en_US.UTF-8
PATH = /home/sand/bin:/usr/local/bin:/usr/bin:/bin:/usr/games:/usr/local/perl/bin:/usr/X11/bin:/sbin:/usr/sbin
PERL5LIB =
PERL5OPT =
PERL5_CPANPLUS_IS_RUNNING = 3300
PERL5_CPAN_IS_RUNNING = 3300
PERL_CANARY_STABILITY_NOPROMPT = 1
PERL_MM_USE_DEFAULT = 1
PERL_USE_UNSAFE_INC = 1
SHELL = /usr/bin/zsh
TERM = screen
Perl special variables (and OS-specific diagnostics, for MSWin32):
$^X = /home/sand/src/perl/repoperls/installed-perls/host/k93msid/v5.26.1/8854/bin/perl
$UID/$EUID = 1005 / 1005
$GID = 1005 1005
$EGID = 1005 1005
Perl module toolchain versions installed:
Module Have
------------------- ----------
CPAN 2.20
CPAN::Meta 2.150010
Cwd 3.74
ExtUtils::CBuilder 0.280230
ExtUtils::Command 7.30
ExtUtils::Install 2.06
ExtUtils::MakeMaker 7.30
ExtUtils::Manifest 1.70
ExtUtils::ParseXS 3.34
File::Spec 3.74
JSON 2.97001
JSON::PP 2.27400_02
Module::Build 0.4224
Module::Signature 0.81
Parse::CPAN::Meta 2.150010
Test::Harness 3.42
Test::More 1.302134
YAML 1.24
YAML::Syck 1.30
version 0.9917
--
Summary of my perl5 (revision 5 version 26 subversion 1) configuration:
Commit id: 714a461a2ab3017f19ea0f7bbb4934b2309d3aa8
Platform:
osname=linux
osvers=4.14.0-3-amd64
archname=x86_64-linux-thread-multi-ld
uname='linux k93msid 4.14.0-3-amd64 #1 smp debian 4.14.12-2 (2018-01-06) x86_64 gnulinux '
config_args='-Dprefix=/home/sand/src/perl/repoperls/installed-perls/host/k93msid/v5.26.1/8854 -Dmyhostname=k93msid -Dinstallusrbinperl=n -Uversiononly -Dusedevel -des -Ui_db -Dlibswanted=cl pthread socket inet nsl gdbm dbm malloc dl ld sun m crypt sec util c cposix posix ucb BSD gdbm_compat -Duseithreads -Duselongdouble -DEBUGGING=-g'
hint=recommended
useposix=true
d_sigaction=define
useithreads=define
usemultiplicity=define
use64bitint=define
use64bitall=define
uselongdouble=define
usemymalloc=n
default_inc_excludes_dot=define
bincompat5005=undef
Compiler:
cc='cc'
ccflags ='-D_REENTRANT -D_GNU_SOURCE -fwrapv -fno-strict-aliasing -pipe -fstack-protector-strong -I/usr/local/include -D_LARGEFILE_SOURCE -D_FILE_OFFSET_BITS=64 -D_FORTIFY_SOURCE=2'
optimize='-O2 -g'
cppflags='-D_REENTRANT -D_GNU_SOURCE -fwrapv -fno-strict-aliasing -pipe -fstack-protector-strong -I/usr/local/include'
ccversion=''
gccversion='7.2.0'
gccosandvers=''
intsize=4
longsize=8
ptrsize=8
doublesize=8
byteorder=12345678
doublekind=3
d_longlong=define
longlongsize=8
d_longdbl=define
longdblsize=16
longdblkind=3
ivtype='long'
ivsize=8
nvtype='long double'
nvsize=16
Off_t='off_t'
lseeksize=8
alignbytes=16
prototype=define
Linker and Libraries:
ld='cc'
ldflags =' -fstack-protector-strong -L/usr/local/lib'
libpth=/usr/local/lib /usr/lib/gcc/x86_64-linux-gnu/7/include-fixed /usr/include/x86_64-linux-gnu /usr/lib /lib/x86_64-linux-gnu /lib/../lib /usr/lib/x86_64-linux-gnu /usr/lib/../lib /lib
libs=-lpthread -lnsl -ldl -lm -lcrypt -lutil -lc
perllibs=-lpthread -lnsl -ldl -lm -lcrypt -lutil -lc
libc=libc-2.26.so
so=so
useshrplib=false
libperl=libperl.a
gnulibc_version='2.26'
Dynamic Linking:
dlsrc=dl_dlopen.xs
dlext=so
d_dlsymun=undef
ccdlflags='-Wl,-E'
cccdlflags='-fPIC'
lddlflags='-shared -O2 -g -L/usr/local/lib -fstack-protector-strong'
Characteristics of this binary (from libperl):
Compile-time options:
HAS_TIMES
MULTIPLICITY
PERLIO_LAYERS
PERL_COPY_ON_WRITE
PERL_DONT_CREATE_GVSV
PERL_IMPLICIT_CONTEXT
PERL_MALLOC_WRAP
PERL_OP_PARENT
PERL_PRESERVE_IVUV
PERL_USE_DEVEL
USE_64_BIT_ALL
USE_64_BIT_INT
USE_ITHREADS
USE_LARGE_FILES
USE_LOCALE
USE_LOCALE_COLLATE
USE_LOCALE_CTYPE
USE_LOCALE_NUMERIC
USE_LOCALE_TIME
USE_LONG_DOUBLE
USE_PERLIO
USE_PERL_ATOF
USE_REENTRANT_API
Built under linux
Compiled at Jan 8 2018 15:33:13
%ENV:
PERL5LIB=""
PERL5OPT=""
PERL5_CPANPLUS_IS_RUNNING="3300"
PERL5_CPAN_IS_RUNNING="3300"
PERL_CANARY_STABILITY_NOPROMPT="1"
PERL_MM_USE_DEFAULT="1"
PERL_USE_UNSAFE_INC="1"
@INC:
/home/sand/src/perl/repoperls/installed-perls/host/k93msid/v5.26.1/8854/lib/site_perl/5.26.1/x86_64-linux-thread-multi-ld
/home/sand/src/perl/repoperls/installed-perls/host/k93msid/v5.26.1/8854/lib/site_perl/5.26.1
/home/sand/src/perl/repoperls/installed-perls/host/k93msid/v5.26.1/8854/lib/5.26.1/x86_64-linux-thread-multi-ld
/home/sand/src/perl/repoperls/installed-perls/host/k93msid/v5.26.1/8854/lib/5.26.1
.