Back
From: metabase:user:314402c4-2aae-11df-837a-5e0a49663a4f
Subject: PASS Parse-NetApp-ASUP-1.17 v5.8.9 FreeBSD
Date: 2014-04-28T23:49:52Z
This distribution has been tested as part of the CPAN Testers
project, supporting the Perl programming language. See
http://wiki.cpantesters.org/ for more information or email
questions to cpan-testers-discuss@perl.org
--
Dear Phillip Pollard,
This is a computer-generated report for Parse-NetApp-ASUP-1.17
on perl 5.8.9, created by CPAN-Reporter-1.2011.
Thank you for uploading your work to CPAN. Congratulations!
All tests were successful.
Sections of this report:
* Tester comments
* Program output
* Prerequisites
* Environment and other context
------------------------------
TESTER COMMENTS
------------------------------
Additional comments from tester:
none provided
------------------------------
PROGRAM OUTPUT
------------------------------
Output from '/usr/bin/make test':
PERL_DL_NONLAZY=1 /usr/perl5.8.9t/bin/perl "-MExtUtils::Command::MM" "-MTest::Harness" "-e" "undef *Test::Harness::Switches; test_harness(0, 'blib/lib', 'blib/arch')" t/*.t
t/00-pod.t ..................................... ok
t/load.t ....................................... ok
t/method-extract_acp_list_all.t ................ ok
t/method-extract_aggr_status.t ................. ok
t/method-extract_cf_monitor.t .................. ok
t/method-extract_cifs_domaininfo.t ............. ok
t/method-extract_cifs_sessions.t ............... ok
t/method-extract_cifs_shares.t ................. ok
t/method-extract_cifs_stat.t ................... ok
t/method-extract_cluster_monitor.t ............. ok
t/method-extract_df.t .......................... ok
t/method-extract_df_a.t ........................ ok
t/method-extract_df_i.t ........................ ok
t/method-extract_df_r.t ........................ ok
t/method-extract_df_s.t ........................ ok
t/method-extract_dns_info.t .................... ok
t/method-extract_ecc_memory_scrubber_stats.t ... ok
t/method-extract_environment.t ................. ok
t/method-extract_exports.t ..................... ok
t/method-extract_failed_disk_registry.t ........ ok
t/method-extract_fc_device_map.t ............... ok
t/method-extract_fc_link_stats.t ............... ok
t/method-extract_fc_stats.t .................... ok
t/method-extract_fcp_cfmode.t .................. ok
t/method-extract_fcp_initiator_status.t ........ ok
t/method-extract_fcp_status.t .................. ok
t/method-extract_fcp_target_adapters.t ......... ok
t/method-extract_fcp_target_configuration.t .... ok
t/method-extract_fcp_target_stats.t ............ ok
t/method-extract_flash_card_info.t ............. ok
t/method-extract_fmm_data.t .................... ok
t/method-extract_fpolicy.t ..................... ok
t/method-extract_headers.t ..................... ok
t/method-extract_hosts.t ....................... ok
t/method-extract_httpstat.t .................... ok
t/method-extract_hwassist_stats.t .............. ok
t/method-extract_ifconfig_a.t .................. ok
t/method-extract_ifgrp_status.t ................ ok
t/method-extract_ifstat_a.t .................... ok
t/method-extract_initiator_groups.t ............ ok
t/method-extract_interconnect_config.t ......... ok
t/method-extract_interconnect_stats.t .......... ok
t/method-extract_iscsi_alias.t ................. ok
t/method-extract_iscsi_connections.t ........... ok
t/method-extract_iscsi_initiator_status.t ...... ok
t/method-extract_iscsi_interface.t ............. ok
t/method-extract_iscsi_interface_accesslist.t .. ok
t/method-extract_iscsi_isns.t .................. ok
t/method-extract_iscsi_nodename.t .............. ok
t/method-extract_iscsi_portals.t ............... ok
t/method-extract_iscsi_security.t .............. ok
t/method-extract_iscsi_sessions.t .............. ok
t/method-extract_iscsi_statistics.t ............ ok
t/method-extract_iscsi_status.t ................ ok
t/method-extract_iscsi_target_portal_groups.t .. ok
t/method-extract_lun_config_check.t ............ ok
t/method-extract_lun_configuration.t ........... ok
t/method-extract_lun_hist.t .................... ok
t/method-extract_lun_statistics.t .............. ok
t/method-extract_messages.t .................... ok
t/method-extract_nbtstat_c.t ................... ok
t/method-extract_netstat_s.t ................... ok
t/method-extract_nfsstat_cc.t .................. ok
t/method-extract_nfsstat_d.t ................... ok
t/method-extract_nis_info.t .................... ok
t/method-extract_nsswitch_conf.t ............... ok
t/method-extract_options.t ..................... ok
t/method-extract_portsets.t .................... ok
t/method-extract_priority_show.t ............... ok
t/method-extract_qtree_status.t ................ ok
t/method-extract_quotas.t ...................... ok
t/method-extract_rc.t .......................... ok
t/method-extract_resolv_conf.t ................. ok
t/method-extract_route_gsn.t ................... ok
t/method-extract_sas_adapter_state.t ........... ok
t/method-extract_sas_dev_stats.t ............... ok
t/method-extract_sas_expander_map.t ............ ok
t/method-extract_sas_expander_phy_state.t ...... ok
t/method-extract_sas_shelf.t ................... ok
t/method-extract_service_usage.t ............... ok
t/method-extract_shelf_log_esh.t ............... ok
t/method-extract_shelf_log_iom.t ............... ok
t/method-extract_sis_stat.t .................... ok
t/method-extract_sis_stat_l.t .................. ok
t/method-extract_sis_status.t .................. ok
t/method-extract_sis_status_l.t ................ ok
t/method-extract_sm_allow.t .................... ok
t/method-extract_sm_conf.t ..................... ok
t/method-extract_snap_list_n.t ................. ok
t/method-extract_snap_list_n_a.t ............... ok
t/method-extract_snap_reserve.t ................ ok
t/method-extract_snap_reserve_a.t .............. ok
t/method-extract_snap_sched.t .................. ok
t/method-extract_snap_sched_a.t ................ ok
t/method-extract_snap_status.t ................. ok
t/method-extract_snap_status_a.t ............... ok
t/method-extract_snaplock.t .................... ok
t/method-extract_snaplock_clock.t .............. ok
t/method-extract_snapmirror_destinations.t ..... ok
t/method-extract_snapmirror_status.t ........... ok
t/method-extract_snapvault_destinations.t ...... ok
t/method-extract_snapvault_snap_sched.t ........ ok
t/method-extract_snapvault_status_l.t .......... ok
t/method-extract_software_licenses.t ........... ok
t/method-extract_ssh.t ......................... ok
t/method-extract_storage.t ..................... ok
t/method-extract_sysconfig_a.t ................. ok
t/method-extract_sysconfig_ac.t ................ ok
t/method-extract_sysconfig_c.t ................. ok
t/method-extract_sysconfig_d.t ................. ok
t/method-extract_sysconfig_hardware_ids.t ...... ok
t/method-extract_sysconfig_m.t ................. ok
t/method-extract_sysconfig_r.t ................. ok
t/method-extract_system_serial_number.t ........ ok
t/method-extract_unowned_disks.t ............... ok
t/method-extract_usage.t ....................... ok
t/method-extract_usermap_cfg.t ................. ok
t/method-extract_vfiler_startup_times.t ........ ok
t/method-extract_vfilers.t ..................... ok
t/method-extract_vif_status.t .................. ok
t/method-extract_vlan_stat.t ................... ok
t/method-extract_vol_language.t ................ ok
t/method-extract_vol_status.t .................. ok
t/method-extract_vscan.t ....................... ok
t/method-extract_vscan_options.t ............... ok
t/method-extract_vscan_scanners.t .............. ok
t/method-extract_xheader.t ..................... ok
All tests successful.
Files=127, Tests=5002, 32 wallclock secs ( 1.50 usr 0.84 sys + 16.39 cusr 12.47 csys = 31.20 CPU)
Result: PASS
------------------------------
PREREQUISITES
------------------------------
Prerequisite modules loaded:
requires:
Module Need Have
------------------- ------- --------
Carp 0 1.3301
Data::Dumper 0 2.151
Digest::MD5 2.5 2.53
File::Slurp 9999.19 9999.19
perl 5.006 5.008009
Test 0 1.25
Test::More 0 1.001003
Test::Simple 0 1.001003
build_requires:
Module Need Have
------------------- ------- --------
ExtUtils::MakeMaker 0 6.90
configure_requires:
Module Need Have
------------------- ------- --------
ExtUtils::MakeMaker 0 6.90
------------------------------
ENVIRONMENT AND OTHER CONTEXT
------------------------------
Environment variables:
DBIC_NO_WARN_BAD_PERL = 1
LC_ALL = de_DE.ISO8859-1
PATH = /usr/local/bin:/usr/bin:/bin:/usr/local/sbin:/usr/sbin:/sbin:/home/cpansand/bin/freebsd9.1:/home/cpansand/bin/sh:/home/cpansand/bin:/usr/games:/home/cpansand/devel:/usr/home/eserte/work/srezic-misc/scripts
PERL5LIB = /home/eserte/.cpan/build/Digest-MD2-2.04-oMI8mM/blib/arch:/home/eserte/.cpan/build/Digest-MD2-2.04-oMI8mM/blib/lib:/home/eserte/.cpan/build/CGI-OptimalQuery-0.03-ZccVV3/blib/arch:/home/eserte/.cpan/build/CGI-OptimalQuery-0.03-ZccVV3/blib/lib:/home/eserte/.cpan/build/Perl-Critic-PetPeeves-JTRAMMELL-0.04-2erCZ9/blib/arch:/home/eserte/.cpan/build/Perl-Critic-PetPeeves-JTRAMMELL-0.04-2erCZ9/blib/lib:/home/eserte/.cpan/build/App-Cmd-0.323-05Lg1a/blib/arch:/home/eserte/.cpan/build/App-Cmd-0.323-05Lg1a/blib/lib:/home/eserte/.cpan/build/WebService-DMM-0.10-EeCLPD/blib/arch:/home/eserte/.cpan/build/WebService-DMM-0.10-EeCLPD/blib/lib:/home/eserte/.cpan/build/SeaBASS-File-0.141180-GG6d5r/blib/arch:/home/eserte/.cpan/build/SeaBASS-File-0.141180-GG6d5r/blib/lib:/home/eserte/.cpan/build/Git-Raw-0.35-DXyhQN/blib/arch:/home/eserte/.cpan/build/Git-Raw-0.35-DXyhQN/blib/lib
PERL5OPT =
PERL5_CPANPLUS_IS_RUNNING = 44012
PERL5_CPAN_IS_RUNNING = 44012
PERL5_CPAN_IS_RUNNING_IN_RECURSION = 43990,44012
PERLDOC = -MPod::Perldoc::ToTextOverstrike
PERL_BATCH = yes
PERL_CPAN_REPORTER_CONFIG = /var/tmp/cpansmoker-1023/Ugu9jcuPkg_config.ini
PERL_EXTUTILS_AUTOINSTALL = --defaultdeps
PERL_HTML_DISPLAY_CLASS = HTML::Display::Mozilla
SHELL = /usr/local/bin/zsh
TERM = screen
TMPDIR = /var/tmp/cpansmoker-1023
Perl special variables (and OS-specific diagnostics, for MSWin32):
$^X = /usr/perl5.8.9t/bin/perl
$UID/$EUID = 1023 / 1023
$GID = 1023 1023
$EGID = 1023 1023
Perl module toolchain versions installed:
Module Have
------------------- --------
CPAN 2.05
CPAN::Meta 2.132830
Cwd 3.40
ExtUtils::CBuilder 0.280212
ExtUtils::Command 1.16
ExtUtils::Install 1.54
ExtUtils::MakeMaker 6.90
ExtUtils::Manifest 1.60
ExtUtils::ParseXS 3.22
File::Spec 3.40
JSON 2.90
JSON::PP 2.27203
Module::Build 0.4204
Module::Signature 0.73
Parse::CPAN::Meta 1.4409
Test::Harness 3.30
Test::More 1.001003
YAML 0.90
YAML::Syck 1.27
version 0.9908
--
Summary of my perl5 (revision 5 version 8 subversion 9) configuration:
Platform:
osname=freebsd, osvers=9.2-release, archname=amd64-freebsd-thread-multi
uname='freebsd cvrsnica-freebsd-92 9.2-release freebsd 9.2-release #0 r255898: thu sep 26 22:50:31 utc 2013 root@bake.isc.freebsd.org:usrobjusrsrcsysgeneric amd64 '
config_args='-ds -e -Dprefix=/usr/perl5.8.9t -Dusethreads'
hint=recommended, useposix=true, d_sigaction=define
usethreads=define use5005threads=undef useithreads=define usemultiplicity=define
useperlio=define d_sfio=undef uselargefiles=define usesocks=undef
use64bitint=define use64bitall=define uselongdouble=undef
usemymalloc=n, bincompat5005=undef
Compiler:
cc='cc', ccflags ='-DHAS_FPSETMASK -DHAS_FLOATINGPOINT_H -fno-strict-aliasing -pipe -I/usr/local/include',
optimize='-O',
cppflags='-DHAS_FPSETMASK -DHAS_FLOATINGPOINT_H -fno-strict-aliasing -pipe -I/usr/local/include'
ccversion='', gccversion='4.2.1 20070831 patched [FreeBSD]', gccosandvers=''
intsize=4, longsize=8, ptrsize=8, doublesize=8, byteorder=12345678
d_longlong=define, longlongsize=8, d_longdbl=define, longdblsize=16
ivtype='long', ivsize=8, nvtype='double', nvsize=8, Off_t='off_t', lseeksize=8
alignbytes=8, prototype=define
Linker and Libraries:
ld='cc', ldflags ='-pthread -Wl,-E -L/usr/local/lib'
libpth=/usr/lib /usr/local/lib
libs=-lm -lcrypt
perllibs=-lm -lcrypt
libc=, so=so, useshrplib=false, libperl=libperl.a
gnulibc_version=''
Dynamic Linking:
dlsrc=dl_dlopen.xs, dlext=so, d_dlsymun=undef, ccdlflags=' '
cccdlflags='-DPIC -fPIC', lddlflags='-shared -L/usr/local/lib'
Characteristics of this binary (from libperl):
Compile-time options: MULTIPLICITY PERL_IMPLICIT_CONTEXT PERL_MALLOC_WRAP
USE_64_BIT_ALL USE_64_BIT_INT USE_FAST_STDIO
USE_ITHREADS USE_LARGE_FILES USE_PERLIO
USE_REENTRANT_API
Built under freebsd
Compiled at Nov 17 2013 16:12:53
%ENV:
PERL5LIB="/home/eserte/.cpan/build/Digest-MD2-2.04-oMI8mM/blib/arch:/home/eserte/.cpan/build/Digest-MD2-2.04-oMI8mM/blib/lib:/home/eserte/.cpan/build/CGI-OptimalQuery-0.03-ZccVV3/blib/arch:/home/eserte/.cpan/build/CGI-OptimalQuery-0.03-ZccVV3/blib/lib:/home/eserte/.cpan/build/Perl-Critic-PetPeeves-JTRAMMELL-0.04-2erCZ9/blib/arch:/home/eserte/.cpan/build/Perl-Critic-PetPeeves-JTRAMMELL-0.04-2erCZ9/blib/lib:/home/eserte/.cpan/build/App-Cmd-0.323-05Lg1a/blib/arch:/home/eserte/.cpan/build/App-Cmd-0.323-05Lg1a/blib/lib:/home/eserte/.cpan/build/WebService-DMM-0.10-EeCLPD/blib/arch:/home/eserte/.cpan/build/WebService-DMM-0.10-EeCLPD/blib/lib:/home/eserte/.cpan/build/SeaBASS-File-0.141180-GG6d5r/blib/arch:/home/eserte/.cpan/build/SeaBASS-File-0.141180-GG6d5r/blib/lib:/home/eserte/.cpan/build/Git-Raw-0.35-DXyhQN/blib/arch:/home/eserte/.cpan/build/Git-Raw-0.35-DXyhQN/blib/lib"
PERL5OPT=""
PERL5_CPANPLUS_IS_RUNNING="44012"
PERL5_CPAN_IS_RUNNING="44012"
PERL5_CPAN_IS_RUNNING_IN_RECURSION="43990,44012"
PERLDOC="-MPod::Perldoc::ToTextOverstrike"
PERL_BATCH="yes"
PERL_CPAN_REPORTER_CONFIG="/var/tmp/cpansmoker-1023/Ugu9jcuPkg_config.ini"
PERL_EXTUTILS_AUTOINSTALL="--defaultdeps"
PERL_HTML_DISPLAY_CLASS="HTML::Display::Mozilla"
@INC:
/home/eserte/.cpan/build/Digest-MD2-2.04-oMI8mM/blib/arch
/home/eserte/.cpan/build/Digest-MD2-2.04-oMI8mM/blib/lib
/home/eserte/.cpan/build/CGI-OptimalQuery-0.03-ZccVV3/blib/arch
/home/eserte/.cpan/build/CGI-OptimalQuery-0.03-ZccVV3/blib/lib
/home/eserte/.cpan/build/Perl-Critic-PetPeeves-JTRAMMELL-0.04-2erCZ9/blib/arch
/home/eserte/.cpan/build/Perl-Critic-PetPeeves-JTRAMMELL-0.04-2erCZ9/blib/lib
/home/eserte/.cpan/build/App-Cmd-0.323-05Lg1a/blib/arch
/home/eserte/.cpan/build/App-Cmd-0.323-05Lg1a/blib/lib
/home/eserte/.cpan/build/WebService-DMM-0.10-EeCLPD/blib/arch
/home/eserte/.cpan/build/WebService-DMM-0.10-EeCLPD/blib/lib
/home/eserte/.cpan/build/SeaBASS-File-0.141180-GG6d5r/blib/arch
/home/eserte/.cpan/build/SeaBASS-File-0.141180-GG6d5r/blib/lib
/home/eserte/.cpan/build/Git-Raw-0.35-DXyhQN/blib/arch
/home/eserte/.cpan/build/Git-Raw-0.35-DXyhQN/blib/lib
/usr/perl5.8.9t/lib/5.8.9/amd64-freebsd-thread-multi
/usr/perl5.8.9t/lib/5.8.9
/usr/perl5.8.9t/lib/site_perl/5.8.9/amd64-freebsd-thread-multi
/usr/perl5.8.9t/lib/site_perl/5.8.9
.