Module-PrintUsed v0.06 Perl 5 v5.32.1 i386-openbsd
- Status
- Pass
- From
- Alceu Rodrigues de Freitas Junior
- Dist
-
Module-PrintUsed v0.06
- Platform
- Perl 5 v5.32.1 i386-openbsd
- Date
- 2022-06-23 10:39:43
- ID
- cad3e186-f2e0-11ec-b737-db65ffa5fe2c
This distribution has been tested as part of the CPAN Testers
project, supporting the Perl programming language. See
http://wiki.cpantesters.org/ for more information or email
questions to cpan-testers-discuss@perl.org
--
Dear Christian Renz,
This is a computer-generated report for Module-PrintUsed-0.06
on perl 5.32.1, created by CPAN-Reporter-1.2018.
Thank you for uploading your work to CPAN. Congratulations!
All tests were successful.
Sections of this report:
* Tester comments
* Program output
* Prerequisites
* Environment and other context
------------------------------
TESTER COMMENTS
------------------------------
Additional comments from tester:
this report is from an automated smoke testing program
and was not reviewed by a human for accuracy
If you would like to try to reproduce this report results or even to work with
the same environment for a bug fix, please refer to
https://github.com/glasswalk3r/cpan-openbsd-smoker to see how to use the
prebuilt virtual machines available.
------------------------------
PROGRAM OUTPUT
------------------------------
Output from '/usr/bin/make test':
PERL_DL_NONLAZY=1 "/usr/bin/perl" "-MExtUtils::Command::MM" "-MTest::Harness" "-e" "undef *Test::Harness::Switches; test_harness(0, 'blib/lib', 'blib/arch')" t/*.t
Modules used by t/1-use.t:
- Carp 1.50 /usr/libdata/perl5/Carp.pm
- Exporter 5.74 /home/goku/perl5/lib/perl5/Exporter.pm
- Exporter::Heavy 5.74 /home/goku/perl5/lib/perl5/Exporter/Heavy.pm
- Module::PrintUsed 0.06 /mnt/cpan_build_dir/goku/Module-PrintUsed-0.06-0/blib/lib/Module/PrintUsed.pm
- Test 1.31 /usr/libdata/perl5/Test.pm
- overloading 0.02 /usr/libdata/perl5/overloading.pm
- strict 1.11 /usr/libdata/perl5/strict.pm
- warnings 1.47 /usr/libdata/perl5/warnings.pm
t/1-use.t ......... ok
Modules used by t/2-modules.t:
- Carp 1.50 /usr/libdata/perl5/Carp.pm
- Exporter 5.74 /home/goku/perl5/lib/perl5/Exporter.pm
- Exporter::Heavy 5.74 /home/goku/perl5/lib/perl5/Exporter/Heavy.pm
- Module::PrintUsed 0.06 /mnt/cpan_build_dir/goku/Module-PrintUsed-0.06-0/blib/lib/Module/PrintUsed.pm
- Test 1.31 /usr/libdata/perl5/Test.pm
- overloading 0.02 /usr/libdata/perl5/overloading.pm
- strict 1.11 /usr/libdata/perl5/strict.pm
- warnings 1.47 /usr/libdata/perl5/warnings.pm
t/2-modules.t ..... ok
t/meta.t .......... ok
Modules used by t/pod-coverage.t:
- B 1.80 /usr/libdata/perl5/i386-openbsd/B.pm
- Carp 1.50 /usr/libdata/perl5/Carp.pm
- Config 5.032001 /usr/libdata/perl5/i386-openbsd/Config.pm
- Config_git.pl /usr/libdata/perl5/i386-openbsd/Config_git.pl
- Config_heavy.pl /usr/libdata/perl5/i386-openbsd/Config_heavy.pl
- Cwd 3.78 /usr/libdata/perl5/i386-openbsd/Cwd.pm
- Devel::Symdump 2.18 /home/goku/perl5/lib/perl5/Devel/Symdump.pm
- Exporter 5.74 /home/goku/perl5/lib/perl5/Exporter.pm
- Exporter::Heavy 5.74 /home/goku/perl5/lib/perl5/Exporter/Heavy.pm
- Fcntl 1.13 /usr/libdata/perl5/i386-openbsd/Fcntl.pm
- File::Basename 2.85 /usr/libdata/perl5/File/Basename.pm
- File::Find 1.37 /usr/libdata/perl5/File/Find.pm
- File::Spec 3.78 /usr/libdata/perl5/i386-openbsd/File/Spec.pm
- File::Spec::Unix 3.78 /usr/libdata/perl5/i386-openbsd/File/Spec/Unix.pm
- List::Util 1.62 /home/goku/perl5/lib/perl5/i386-openbsd/List/Util.pm
- Module::PrintUsed 0.06 /mnt/cpan_build_dir/goku/Module-PrintUsed-0.06-0/blib/lib/Module/PrintUsed.pm
- POSIX 1.94 /usr/libdata/perl5/i386-openbsd/POSIX.pm
- PerlIO 1.11 /usr/libdata/perl5/PerlIO.pm
- Pod::Coverage 0.23 /usr/local/libdata/perl5/site_perl/Pod/Coverage.pm
- Pod::Find 1.65 /home/goku/perl5/lib/perl5/Pod/Find.pm
- Pod::InputObjects 1.65 /home/goku/perl5/lib/perl5/Pod/InputObjects.pm
- Pod::Parser 1.65 /home/goku/perl5/lib/perl5/Pod/Parser.pm
- Scalar::Util 1.62 /home/goku/perl5/lib/perl5/i386-openbsd/Scalar/Util.pm
- Test::Builder 1.302190 /home/goku/perl5/lib/perl5/Test/Builder.pm
- Test::Builder::Formatter 1.302190 /home/goku/perl5/lib/perl5/Test/Builder/Formatter.pm
- Test::Builder::Module 1.302190 /home/goku/perl5/lib/perl5/Test/Builder/Module.pm
- Test::Builder::TodoDiag 1.302190 /home/goku/perl5/lib/perl5/Test/Builder/TodoDiag.pm
- Test::More 1.302190 /home/goku/perl5/lib/perl5/Test/More.pm
- Test::Pod::Coverage 1.10 /usr/local/libdata/perl5/site_perl/Test/Pod/Coverage.pm
- Test2::API 1.302190 /home/goku/perl5/lib/perl5/Test2/API.pm
- Test2::API::Context 1.302190 /home/goku/perl5/lib/perl5/Test2/API/Context.pm
- Test2::API::Instance 1.302190 /home/goku/perl5/lib/perl5/Test2/API/Instance.pm
- Test2::API::Stack 1.302190 /home/goku/perl5/lib/perl5/Test2/API/Stack.pm
- Test2::Event 1.302190 /home/goku/perl5/lib/perl5/Test2/Event.pm
- Test2::Event::Bail 1.302190 /home/goku/perl5/lib/perl5/Test2/Event/Bail.pm
- Test2::Event::Diag 1.302190 /home/goku/perl5/lib/perl5/Test2/Event/Diag.pm
- Test2::Event::Exception 1.302190 /home/goku/perl5/lib/perl5/Test2/Event/Exception.pm
- Test2::Event::Fail 1.302190 /home/goku/perl5/lib/perl5/Test2/Event/Fail.pm
- Test2::Event::Note 1.302190 /home/goku/perl5/lib/perl5/Test2/Event/Note.pm
- Test2::Event::Ok 1.302190 /home/goku/perl5/lib/perl5/Test2/Event/Ok.pm
- Test2::Event::Pass 1.302190 /home/goku/perl5/lib/perl5/Test2/Event/Pass.pm
- Test2::Event::Plan 1.302190 /home/goku/perl5/lib/perl5/Test2/Event/Plan.pm
- Test2::Event::Skip 1.302190 /home/goku/perl5/lib/perl5/Test2/Event/Skip.pm
- Test2::Event::Subtest 1.302190 /home/goku/perl5/lib/perl5/Test2/Event/Subtest.pm
- Test2::Event::V2 1.302190 /home/goku/perl5/lib/perl5/Test2/Event/V2.pm
- Test2::Event::Waiting 1.302190 /home/goku/perl5/lib/perl5/Test2/Event/Waiting.pm
- Test2::EventFacet 1.302190 /home/goku/perl5/lib/perl5/Test2/EventFacet.pm
- Test2::EventFacet::About 1.302190 /home/goku/perl5/lib/perl5/Test2/EventFacet/About.pm
- Test2::EventFacet::Amnesty 1.302190 /home/goku/perl5/lib/perl5/Test2/EventFacet/Amnesty.pm
- Test2::EventFacet::Assert 1.302190 /home/goku/perl5/lib/perl5/Test2/EventFacet/Assert.pm
- Test2::EventFacet::Control 1.302190 /home/goku/perl5/lib/perl5/Test2/EventFacet/Control.pm
- Test2::EventFacet::Error 1.302190 /home/goku/perl5/lib/perl5/Test2/EventFacet/Error.pm
- Test2::EventFacet::Hub 1.302190 /home/goku/perl5/lib/perl5/Test2/EventFacet/Hub.pm
- Test2::EventFacet::Info 1.302190 /home/goku/perl5/lib/perl5/Test2/EventFacet/Info.pm
- Test2::EventFacet::Meta 1.302190 /home/goku/perl5/lib/perl5/Test2/EventFacet/Meta.pm
- Test2::EventFacet::Parent 1.302190 /home/goku/perl5/lib/perl5/Test2/EventFacet/Parent.pm
- Test2::EventFacet::Plan 1.302190 /home/goku/perl5/lib/perl5/Test2/EventFacet/Plan.pm
- Test2::EventFacet::Trace 1.302190 /home/goku/perl5/lib/perl5/Test2/EventFacet/Trace.pm
- Test2::Formatter 1.302190 /home/goku/perl5/lib/perl5/Test2/Formatter.pm
- Test2::Formatter::TAP 1.302190 /home/goku/perl5/lib/perl5/Test2/Formatter/TAP.pm
- Test2::Hub 1.302190 /home/goku/perl5/lib/perl5/Test2/Hub.pm
- Test2::Hub::Interceptor 1.302190 /home/goku/perl5/lib/perl5/Test2/Hub/Interceptor.pm
- Test2::Hub::Interceptor::Terminator 1.302190 /home/goku/perl5/lib/perl5/Test2/Hub/Interceptor/Terminator.pm
- Test2::Hub::Subtest 1.302190 /home/goku/perl5/lib/perl5/Test2/Hub/Subtest.pm
- Test2::Util 1.302190 /home/goku/perl5/lib/perl5/Test2/Util.pm
- Test2::Util::ExternalMeta 1.302190 /home/goku/perl5/lib/perl5/Test2/Util/ExternalMeta.pm
- Test2::Util::Facets2Legacy 1.302190 /home/goku/perl5/lib/perl5/Test2/Util/Facets2Legacy.pm
- Test2::Util::HashBase 1.302190 /home/goku/perl5/lib/perl5/Test2/Util/HashBase.pm
- Test2::Util::Trace 1.302190 /home/goku/perl5/lib/perl5/Test2/Util/Trace.pm
- Tie::Hash 1.05 /usr/libdata/perl5/Tie/Hash.pm
- Time::HiRes 1.976402 /home/goku/perl5/lib/perl5/i386-openbsd/Time/HiRes.pm
- XSLoader 0.30 /usr/libdata/perl5/XSLoader.pm
- base 2.27 /usr/libdata/perl5/base.pm
- constant 1.33 /home/goku/perl5/lib/perl5/constant.pm
- mro 1.23 /usr/libdata/perl5/i386-openbsd/mro.pm
- overloading 0.02 /usr/libdata/perl5/overloading.pm
- re 0.40 /usr/libdata/perl5/i386-openbsd/re.pm
- strict 1.11 /usr/libdata/perl5/strict.pm
- vars 1.05 /usr/libdata/perl5/vars.pm
- warnings 1.47 /usr/libdata/perl5/warnings.pm
- warnings::register 1.04 /usr/libdata/perl5/warnings/register.pm
t/pod-coverage.t .. ok
t/pod.t ........... ok
All tests successful.
Files=5, Tests=8, 1 wallclock secs ( 0.04 usr 0.04 sys + 0.41 cusr 0.26 csys = 0.75 CPU)
Result: PASS
------------------------------
PREREQUISITES
------------------------------
Prerequisite modules loaded:
requires:
Module Need Have
------------------- ----- --------
perl 5.006 5.032001
build_requires:
Module Need Have
------------------- ----- --------
ExtUtils::MakeMaker 0 7.65_01
configure_requires:
Module Need Have
------------------- ----- --------
ExtUtils::MakeMaker 0 7.65_01
------------------------------
ENVIRONMENT AND OTHER CONTEXT
------------------------------
Environment variables:
AUTOMATED_TESTING = 1
PATH = /home/goku/perl5/bin:/usr/bin:/bin:/usr/sbin:/sbin:/usr/X11R6/bin:/usr/local/bin:/usr/local/sbin
PERL5LIB = /home/goku/perl5/lib/perl5
PERL5OPT =
PERL5_CPANPLUS_IS_RUNNING = 93449
PERL5_CPAN_IS_RUNNING = 93449
PERL5_CPAN_IS_RUNNING_IN_RECURSION = 4138,93449
PERL_CR_SMOKER_CURRENT = Module-PrintUsed-0.06
PERL_EXTUTILS_AUTOINSTALL = --defaultdeps
PERL_LOCAL_LIB_ROOT = /home/goku/perl5
PERL_MB_OPT = --install_base "/home/goku/perl5"
PERL_MM_OPT = INSTALL_BASE=/home/goku/perl5
PERL_MM_USE_DEFAULT = 1
PERL_USE_UNSAFE_INC = 1
SHELL = /bin/ksh
TERM = xterm-256color
Perl special variables (and OS-specific diagnostics, for MSWin32):
$^X = /usr/bin/perl
$UID/$EUID = 1001 / 1001
$GID = 1002 1002 1001
$EGID = 1002 1002 1001
Perl module toolchain versions installed:
Module Have
------------------- --------
CPAN 2.34
CPAN::Meta 2.150010
Cwd 3.78
ExtUtils::CBuilder 0.280236
ExtUtils::Command 7.65_01
ExtUtils::Install 2.20
ExtUtils::MakeMaker 7.65_01
ExtUtils::Manifest 1.73
ExtUtils::ParseXS 3.44
File::Spec 3.78
JSON 4.06
JSON::PP 4.09
Module::Build 0.4231
Module::Signature n/a
Parse::CPAN::Meta 2.150010
Test::Harness 3.44
Test::More 1.302190
YAML 1.30
YAML::Syck 1.34
version 0.9929
--
Summary of my perl5 (revision 5 version 32 subversion 1) configuration:
Platform:
osname=openbsd
osvers=7.1
archname=i386-openbsd
uname='openbsd'
config_args='-dse -Dopenbsd_distribution=defined -Dmksymlinks'
hint=recommended
useposix=true
d_sigaction=define
useithreads=undef
usemultiplicity=undef
use64bitint=undef
use64bitall=undef
uselongdouble=undef
usemymalloc=n
default_inc_excludes_dot=define
bincompat5005=undef
Compiler:
cc='cc'
ccflags ='-DNO_LOCALE_NUMERIC -DNO_LOCALE_COLLATE -fno-strict-aliasing -fno-delete-null-pointer-checks -pipe -fstack-protector-strong -I/usr/local/include'
optimize='-O2'
cppflags='-DBIG_TIME -DNO_LOCALE_NUMERIC -DNO_LOCALE_COLLATE -fno-strict-aliasing -fno-delete-null-pointer-checks -pipe -fstack-protector-strong -I/usr/local/include'
ccversion=''
gccversion='OpenBSD Clang 13.0.0'
gccosandvers=''
intsize=4
longsize=4
ptrsize=4
doublesize=8
byteorder=1234
doublekind=3
d_longlong=define
longlongsize=8
d_longdbl=define
longdblsize=12
longdblkind=3
ivtype='long'
ivsize=4
nvtype='double'
nvsize=8
Off_t='off_t'
lseeksize=8
alignbytes=4
prototype=define
Linker and Libraries:
ld='cc'
ldflags ='-Wl,-E -fstack-protector-strong -L/usr/local/lib'
libpth=/usr/lib /usr/lib/clang/13.0.0/lib /usr/lib
libs=-lm -lc
perllibs=-lm -lc
libc=/usr/lib/libc.so.96.1
so=so
useshrplib=true
libperl=libperl.so.22.0
gnulibc_version=''
Dynamic Linking:
dlsrc=dl_dlopen.xs
dlext=so
d_dlsymun=undef
ccdlflags='-Wl,-R/usr/libdata/perl5/i386-openbsd/CORE'
cccdlflags='-DPIC -fpic '
lddlflags='-shared -fpic -fstack-protector-strong -L/usr/local/lib'
Characteristics of this binary (from libperl):
Compile-time options:
HAS_TIMES
PERLIO_LAYERS
PERL_COPY_ON_WRITE
PERL_DONT_CREATE_GVSV
PERL_MALLOC_WRAP
PERL_OP_PARENT
PERL_PRESERVE_IVUV
USE_LARGE_FILES
USE_LOCALE
USE_LOCALE_CTYPE
USE_LOCALE_TIME
USE_PERLIO
USE_PERL_ATOF
Built under openbsd
%ENV:
PERL5LIB="/home/goku/perl5/lib/perl5"
PERL5OPT=""
PERL5_CPANPLUS_IS_RUNNING="93449"
PERL5_CPAN_IS_RUNNING="93449"
PERL5_CPAN_IS_RUNNING_IN_RECURSION="4138,93449"
PERL_CR_SMOKER_CURRENT="Module-PrintUsed-0.06"
PERL_EXTUTILS_AUTOINSTALL="--defaultdeps"
PERL_LOCAL_LIB_ROOT="/home/goku/perl5"
PERL_MB_OPT="--install_base "/home/goku/perl5""
PERL_MM_OPT="INSTALL_BASE=/home/goku/perl5"
PERL_MM_USE_DEFAULT="1"
PERL_USE_UNSAFE_INC="1"
@INC:
/home/goku/perl5/lib/perl5/i386-openbsd
/home/goku/perl5/lib/perl5
/usr/local/libdata/perl5/site_perl/i386-openbsd
/usr/local/libdata/perl5/site_perl
/usr/libdata/perl5/i386-openbsd
/usr/libdata/perl5
.