Aspect-Library-TestClass v0.36 Perl 5 v5.13.4 x86_64-linux-thread-multi-ld

Status
Pass
From
brian greenfield
Dist
Aspect-Library-TestClass v0.36
Platform
Perl 5 v5.13.4 x86_64-linux-thread-multi-ld
Date
2010-08-30 19:28:39
ID
cad18e50-b46c-11df-a4d8-acee2ca5c694
This distribution has been tested as part of the CPAN Testers
project, supporting the Perl programming language.  See
http://wiki.cpantesters.org/ for more information or email
questions to cpan-testers-discuss@perl.org


--
Dear Adam Kennedy,

This is a computer-generated report for Aspect-Library-TestClass-0.36
on perl 5.13.4, created by CPAN-Reporter-1.18.

Thank you for uploading your work to CPAN.  Congratulations!
All tests were successful.

Sections of this report:

    * Tester comments
    * Program output
    * Prerequisites
    * Environment and other context

------------------------------
TESTER COMMENTS
------------------------------

Additional comments from tester:

this report is from an automated smoke testing program
and was not reviewed by a human for accuracy

------------------------------
PROGRAM OUTPUT
------------------------------

Output from '/usr/bin/make test':

PERL_DL_NONLAZY=1 /home/test/perl/bin/perl5.13.4 "-MExtUtils::Command::MM" "-e" "test_harness(0, 'inc', 'blib/lib', 'blib/arch')" t/*.t
t/01_compile.t .. ok
t/97_meta.t ..... skipped: Test::CPAN::Meta 0.12 not available for testing
t/98_pod.t ...... skipped: Test::Pod 1.26 not available for testing
t/99_pmv.t ...... skipped: Perl::MinimumVersion 1.20 not available for testing
All tests successful.
Files=4, Tests=1,  0 wallclock secs ( 0.03 usr  0.00 sys +  0.11 cusr  0.06 csys =  0.20 CPU)
Result: PASS

------------------------------
PREREQUISITES
------------------------------

Prerequisite modules loaded:

requires:

    Module              Need Have  
    ------------------- ---- ------
    Aspect::Modular     0.36 0.92  
    ExtUtils::MakeMaker 6.42 6.5601
    Params::Util        1.00 1.01  
    Test::Class         0.33 0.36  
    Test::More          0.47 0.96  

configure_requires:

    Module              Need Have  
    ------------------- ---- ------
    ExtUtils::MakeMaker 6.42 6.5601


------------------------------
ENVIRONMENT AND OTHER CONTEXT
------------------------------

Environment variables:

    AUTOMATED_TESTING = 1
    LANG = C
    LC_ALL = C
    PATH = /home/test/perl/bin:~/bin:/usr/bin:/bin
    PERL5LIB = /home/test/.cpan/build/Aspect-0.92-PzmeM0/blib/arch:/home/test/.cpan/build/Aspect-0.92-PzmeM0/blib/lib:/home/test/.cpan/build/Task-Weaken-1.03-_W3QXO/blib/arch:/home/test/.cpan/build/Task-Weaken-1.03-_W3QXO/blib/lib:/home/test/.cpan/build/Test-Class-0.36-UmZ9Z_/blib/arch:/home/test/.cpan/build/Test-Class-0.36-UmZ9Z_/blib/lib:/home/test/.cpan/build/MRO-Compat-0.11-mwP1Lu/blib/arch:/home/test/.cpan/build/MRO-Compat-0.11-mwP1Lu/blib/lib
    PERL5OPT = 
    PERL5_CPANPLUS_IS_RUNNING = 32413
    PERL5_CPAN_IS_RUNNING = 32413
    PERL5_CPAN_IS_RUNNING_IN_RECURSION = 25588,32413
    PERL_CR_SMOKER_CURRENT = Aspect-Library-TestClass-0.36
    PERL_EXTUTILS_AUTOINSTALL = --defaultdeps
    PERL_MM_USE_DEFAULT = 1
    SHELL = /bin/bash
    TERM = linux

Perl special variables (and OS-specific diagnostics, for MSWin32):

    $^X = /home/test/perl/bin/perl5.13.4
    $UID/$EUID = 1001 / 1001
    $GID = 1001 1001
    $EGID = 1001 1001

Perl module toolchain versions installed:

    Module              Have   
    ------------------- -------
    CPAN                1.94_57
    Cwd                 3.31   
    ExtUtils::CBuilder  0.2703 
    ExtUtils::Command   1.16   
    ExtUtils::Install   1.55   
    ExtUtils::MakeMaker 6.5601 
    ExtUtils::Manifest  1.58   
    ExtUtils::ParseXS   2.2207 
    File::Spec          3.31_01
    Module::Build       0.3607 
    Module::Signature   n/a    
    Test::Harness       3.22   
    Test::More          0.96   
    YAML                n/a    
    YAML::Syck          1.12   
    version             0.82   


--

Summary of my perl5 (revision 5 version 13 subversion 4) configuration:
   
  Platform:
    osname=linux, osvers=2.6.26-2-amd64, archname=x86_64-linux-thread-multi-ld
    uname='linux zippy 2.6.26-2-amd64 #1 smp tue jan 12 22:12:20 utc 2010 x86_64 gnulinux '
    config_args='-des -Dusedevel -des -Duselongdouble -Duse64bitall -Dusethreads -Dprefix=~/perl'
    hint=recommended, useposix=true, d_sigaction=define
    useithreads=define, usemultiplicity=define
    useperlio=define, d_sfio=undef, uselargefiles=define, usesocks=undef
    use64bitint=define, use64bitall=define, uselongdouble=define
    usemymalloc=n, bincompat5005=undef
  Compiler:
    cc='cc', ccflags ='-D_REENTRANT -D_GNU_SOURCE -fno-strict-aliasing -pipe -fstack-protector -I/usr/local/include -D_LARGEFILE_SOURCE -D_FILE_OFFSET_BITS=64',
    optimize='-O2',
    cppflags='-D_REENTRANT -D_GNU_SOURCE -fno-strict-aliasing -pipe -fstack-protector -I/usr/local/include'
    ccversion='', gccversion='4.4.4', gccosandvers=''
    intsize=4, longsize=8, ptrsize=8, doublesize=8, byteorder=12345678
    d_longlong=define, longlongsize=8, d_longdbl=define, longdblsize=16
    ivtype='long', ivsize=8, nvtype='long double', nvsize=16, Off_t='off_t', lseeksize=8
    alignbytes=16, prototype=define
  Linker and Libraries:
    ld='cc', ldflags =' -fstack-protector -L/usr/local/lib'
    libpth=/usr/local/lib /lib /usr/lib /lib64 /usr/lib64
    libs=-lnsl -ldb -ldl -lm -lcrypt -lutil -lpthread -lc
    perllibs=-lnsl -ldl -lm -lcrypt -lutil -lpthread -lc
    libc=/lib/libc-2.11.2.so, so=so, useshrplib=false, libperl=libperl.a
    gnulibc_version='2.11.2'
  Dynamic Linking:
    dlsrc=dl_dlopen.xs, dlext=so, d_dlsymun=undef, ccdlflags='-Wl,-E'
    cccdlflags='-fPIC', lddlflags='-shared -O2 -L/usr/local/lib -fstack-protector'


Characteristics of this binary (from libperl): 
  Compile-time options: MULTIPLICITY PERL_DONT_CREATE_GVSV
                        PERL_IMPLICIT_CONTEXT PERL_MALLOC_WRAP PERL_USE_DEVEL
                        USE_64_BIT_ALL USE_64_BIT_INT USE_ITHREADS
                        USE_LARGE_FILES USE_LONG_DOUBLE USE_PERLIO
                        USE_PERL_ATOF USE_REENTRANT_API
  Built under linux
  Compiled at Aug 22 2010 23:56:57
  %ENV:
    PERL5LIB="/home/test/.cpan/build/Aspect-0.92-PzmeM0/blib/arch:/home/test/.cpan/build/Aspect-0.92-PzmeM0/blib/lib:/home/test/.cpan/build/Task-Weaken-1.03-_W3QXO/blib/arch:/home/test/.cpan/build/Task-Weaken-1.03-_W3QXO/blib/lib:/home/test/.cpan/build/Test-Class-0.36-UmZ9Z_/blib/arch:/home/test/.cpan/build/Test-Class-0.36-UmZ9Z_/blib/lib:/home/test/.cpan/build/MRO-Compat-0.11-mwP1Lu/blib/arch:/home/test/.cpan/build/MRO-Compat-0.11-mwP1Lu/blib/lib"
    PERL5OPT=""
    PERL5_CPANPLUS_IS_RUNNING="32413"
    PERL5_CPAN_IS_RUNNING="32413"
    PERL5_CPAN_IS_RUNNING_IN_RECURSION="25588,32413"
    PERL_CR_SMOKER_CURRENT="Aspect-Library-TestClass-0.36"
    PERL_EXTUTILS_AUTOINSTALL="--defaultdeps"
    PERL_MM_USE_DEFAULT="1"
  @INC:
    /home/test/.cpan/build/Aspect-0.92-PzmeM0/blib/arch
    /home/test/.cpan/build/Aspect-0.92-PzmeM0/blib/lib
    /home/test/.cpan/build/Task-Weaken-1.03-_W3QXO/blib/arch
    /home/test/.cpan/build/Task-Weaken-1.03-_W3QXO/blib/lib
    /home/test/.cpan/build/Test-Class-0.36-UmZ9Z_/blib/arch
    /home/test/.cpan/build/Test-Class-0.36-UmZ9Z_/blib/lib
    /home/test/.cpan/build/MRO-Compat-0.11-mwP1Lu/blib/arch
    /home/test/.cpan/build/MRO-Compat-0.11-mwP1Lu/blib/lib
    /home/test/perl/lib/site_perl/5.13.4/x86_64-linux-thread-multi-ld
    /home/test/perl/lib/site_perl/5.13.4
    /home/test/perl/lib/5.13.4/x86_64-linux-thread-multi-ld
    /home/test/perl/lib/5.13.4
    /home/test/perl/lib/site_perl
    .