Alien-TidyHTML5 vv0.3.5 Perl 5 v5.20.3 x86_64-linux-thread-multi-ld
- Status
- Pass
- From
- Andreas J. König (ANDK)
- Dist
-
Alien-TidyHTML5 vv0.3.5
- Platform
- Perl 5 v5.20.3 x86_64-linux-thread-multi-ld
- Date
- 2025-01-19 02:55:08
- ID
- cacf0d12-d610-11ef-927b-88a2755fd350
This distribution has been tested as part of the CPAN Testers
project, supporting the Perl programming language. See
http://wiki.cpantesters.org/ for more information or email
questions to cpan-testers-discuss@perl.org
--
Dear Robert Rothenberg,
This is a computer-generated report for Alien-TidyHTML5-v0.3.5
on perl 5.20.3, created by CPAN-Reporter-1.2019.
Thank you for uploading your work to CPAN. Congratulations!
All tests were successful.
Sections of this report:
* Tester comments
* Program output
* Prerequisites
* Environment and other context
------------------------------
TESTER COMMENTS
------------------------------
Additional comments from tester:
this report is from an automated smoke testing program
and was not reviewed by a human for accuracy
------------------------------
PROGRAM OUTPUT
------------------------------
Output from '/usr/bin/make test':
"/home/sand/src/perl/repoperls/installed-perls/host/k93msid/v5.20.3/ac75/bin/perl" -MAlien::Build::MM=cmd -e test
Alien::Build::Plugin::PkgConfig::Negotiate> Using PkgConfig plugin: PkgConfig::CommandLine
PERL_DL_NONLAZY=1 "/home/sand/src/perl/repoperls/installed-perls/host/k93msid/v5.20.3/ac75/bin/perl" "-MExtUtils::Command::MM" "-MTest::Harness" "-e" "undef *Test::Harness::Switches; test_harness(0, 'blib/lib', 'blib/arch')" t/*.t
#
# Versions for all modules listed in MYMETA.json (including optional ones):
#
# === Configure Requires ===
#
# Module Want Have
# ---------------------------------- ---- ----
# Alien::Build 1.40 2.84
# Alien::Build::MM 0.32 2.84
# Alien::Build::Plugin::Build::CMake 0.99 2.84
# ExtUtils::MakeMaker 6.52 7.70
#
# === Build Requires ===
#
# Module Want Have
# ------------------- ----- --------
# Alien::Build 0.32 2.84
# Alien::Build::MM 0.32 2.84
# Alien::cmake3 0.02 0.08
# Archive::Tar any 3.02
# Config any 5.020003
# ExtUtils::MakeMaker 6.52 7.70
# HTTP::Tiny 0.044 0.088
# IO::Socket::SSL 1.56 2.085
# IO::Zlib any 1.14
# Mojo::DOM58 1.00 3.001
# Mozilla::CA any 20231213
# Net::SSLeay 1.49 1.92
# Sort::Versions any 1.62
# URI any 5.29
# URI::Escape any 5.29
#
# === Test Requires ===
#
# Module Want Have
# ---------------- ---- --------
# File::Spec any 3.75
# Module::Metadata any 1.000038
# Test2::V0 any 0.000163
# Test::Alien any 2.84
# Test::More any 1.302198
#
# === Test Recommends ===
#
# Module Want Have
# ---------- -------- --------
# CPAN::Meta 2.120900 2.150010
#
# === Runtime Requires ===
#
# Module Want Have
# ------------- ---- ----
# Alien::Base any 2.84
# Alien::Build 0.25 2.84
# Alien::cmake3 any 0.08
# base any 2.22
# strict any 1.08
# warnings any 1.23
#
t/00-report-prereqs.t ........ ok
t/01-tidy.t .................. ok
t/author-clean-namespaces.t .. skipped: these tests are for testing by the author
t/author-eof.t ............... skipped: these tests are for testing by the author
t/author-eol.t ............... skipped: these tests are for testing by the author
t/author-minimum-version.t ... skipped: these tests are for testing by the author
t/author-no-tabs.t ........... skipped: these tests are for testing by the author
t/author-pod-coverage.t ...... skipped: these tests are for testing by the author
t/author-pod-syntax.t ........ skipped: these tests are for testing by the author
t/author-portability.t ....... skipped: these tests are for testing by the author
t/release-check-manifest.t ... skipped: these tests are for release candidate testing
t/release-trailing-space.t ... skipped: these tests are for release candidate testing
All tests successful.
Files=12, Tests=6, 2 wallclock secs ( 0.04 usr 0.02 sys + 0.37 cusr 0.11 csys = 0.54 CPU)
Result: PASS
------------------------------
PREREQUISITES
------------------------------
Prerequisite modules loaded:
requires:
Module Need Have
---------------------------------- -------- --------
Alien::Base 0 2.84
Alien::Build 0.25 2.84
Alien::cmake3 0 0.08
base 0 2.22
perl 5.008000 5.020003
strict 0 1.08
warnings 0 1.23
build_requires:
Module Need Have
---------------------------------- -------- --------
Alien::Build 0.32 2.84
Alien::Build::MM 0.32 2.84
Alien::cmake3 0.02 0.08
Archive::Tar 0 3.02
Config 0 5.020003
ExtUtils::MakeMaker 6.52 7.70
File::Spec 0 3.75
HTTP::Tiny 0.044 0.088
IO::Socket::SSL 1.56 2.085
IO::Zlib 0 1.14
Module::Metadata 0 1.000038
Mojo::DOM58 1.00 3.001
Mozilla::CA 0 20231213
Net::SSLeay 1.49 1.92
Sort::Versions 0 1.62
Test2::V0 0 0.000163
Test::Alien 0 2.84
Test::More 0 1.302198
URI 0 5.29
URI::Escape 0 5.29
configure_requires:
Module Need Have
---------------------------------- -------- --------
Alien::Build 1.40 2.84
Alien::Build::MM 0.32 2.84
Alien::Build::Plugin::Build::CMake 0.99 2.84
ExtUtils::MakeMaker 6.52 7.70
------------------------------
ENVIRONMENT AND OTHER CONTEXT
------------------------------
Environment variables:
AUTOMATED_TESTING = 1
LANG = en_US.UTF-8
LANGUAGE = en_US:en
PATH = /home/sand/bin:/usr/local/bin:/usr/bin:/bin:/usr/games:/usr/local/perl/bin:/usr/X11/bin:/sbin:/usr/sbin
PERL5LIB =
PERL5OPT =
PERL5_CPANPLUS_IS_RUNNING = 3384579
PERL5_CPAN_IS_RUNNING = 3384579
PERL_CANARY_STABILITY_NOPROMPT = 1
PERL_MM_USE_DEFAULT = 1
PERL_USE_UNSAFE_INC = 1
SHELL = /usr/bin/zsh
TERM = screen
Perl special variables (and OS-specific diagnostics, for MSWin32):
$^X = /home/sand/src/perl/repoperls/installed-perls/host/k93msid/v5.20.3/ac75/bin/perl
$UID/$EUID = 1005 / 1005
$GID = 1005 1005
$EGID = 1005 1005
Perl module toolchain versions installed:
Module Have
------------------- --------
CPAN 2.38
CPAN::Meta 2.150010
Cwd 3.75
ExtUtils::CBuilder 0.280236
ExtUtils::Command 7.70
ExtUtils::Install 2.22
ExtUtils::MakeMaker 7.70
ExtUtils::Manifest 1.70
ExtUtils::ParseXS 3.51
File::Spec 3.75
JSON 4.10
JSON::PP 4.16
Module::Build 0.4234
Module::Signature 0.89
Parse::CPAN::Meta 2.150010
Test2 1.302198
Test::Harness 3.50
Test::More 1.302198
YAML 1.30
YAML::Syck 1.34
version 0.9933
--
Summary of my perl5 (revision 5 version 20 subversion 3) configuration:
Derived from: b67331aafd6eff33e3fd904c45e811f69cbfb0b2
Platform:
osname=linux, osvers=6.5.0-5-amd64, archname=x86_64-linux-thread-multi-ld
uname='linux k93msid 6.5.0-5-amd64 #1 smp preempt_dynamic debian 6.5.13-1 (2023-11-29) x86_64 gnulinux '
config_args='-Dprefix=/home/sand/src/perl/repoperls/installed-perls/host/k93msid/v5.20.3/ac75 -Dmyhostname=k93msid -Dinstallusrbinperl=n -Uversiononly -Dusedevel -des -Ui_db -Dlibswanted=cl pthread socket inet nsl gdbm dbm malloc dl ld sun m crypt sec util c cposix posix ucb BSD gdbm_compat -Duseithreads -Duselongdouble -DEBUGGING=both'
hint=recommended, useposix=true, d_sigaction=define
useithreads=define, usemultiplicity=define
use64bitint=define, use64bitall=define, uselongdouble=define
usemymalloc=n, bincompat5005=undef
Compiler:
cc='cc', ccflags ='-D_REENTRANT -D_GNU_SOURCE -fwrapv -DDEBUGGING -fno-strict-aliasing -pipe -fstack-protector -I/usr/local/include -D_LARGEFILE_SOURCE -D_FILE_OFFSET_BITS=64',
optimize='-O2 -g',
cppflags='-D_REENTRANT -D_GNU_SOURCE -fwrapv -DDEBUGGING -fno-strict-aliasing -pipe -fstack-protector -I/usr/local/include'
ccversion='', gccversion='13.2.0', gccosandvers=''
intsize=4, longsize=8, ptrsize=8, doublesize=8, byteorder=12345678
d_longlong=define, longlongsize=8, d_longdbl=define, longdblsize=16
ivtype='long', ivsize=8, nvtype='long double', nvsize=16, Off_t='off_t', lseeksize=8
alignbytes=16, prototype=define
Linker and Libraries:
ld='cc', ldflags =' -fstack-protector -L/usr/local/lib'
libpth=/usr/local/lib /usr/include/x86_64-linux-gnu /usr/lib /lib/x86_64-linux-gnu /lib/../lib /usr/lib/x86_64-linux-gnu /usr/lib/../lib /lib /lib64 /usr/lib64
libs=-lpthread -lnsl -ldl -lm -lcrypt -lutil -lc
perllibs=-lpthread -lnsl -ldl -lm -lcrypt -lutil -lc
libc=/lib/x86_64-linux-gnu/libc.so.6, so=so, useshrplib=false, libperl=libperl.a
gnulibc_version='2.37'
Dynamic Linking:
dlsrc=dl_dlopen.xs, dlext=so, d_dlsymun=undef, ccdlflags='-Wl,-E'
cccdlflags='-fPIC', lddlflags='-shared -O2 -g -L/usr/local/lib -fstack-protector'
Characteristics of this binary (from libperl):
Compile-time options: DEBUGGING HAS_TIMES MULTIPLICITY PERLIO_LAYERS
PERL_DONT_CREATE_GVSV
PERL_HASH_FUNC_ONE_AT_A_TIME_HARD
PERL_IMPLICIT_CONTEXT PERL_MALLOC_WRAP
PERL_NEW_COPY_ON_WRITE PERL_PRESERVE_IVUV
PERL_TRACK_MEMPOOL PERL_USE_DEVEL USE_64_BIT_ALL
USE_64_BIT_INT USE_ITHREADS USE_LARGE_FILES
USE_LOCALE USE_LOCALE_COLLATE USE_LOCALE_CTYPE
USE_LOCALE_NUMERIC USE_LONG_DOUBLE USE_PERLIO
USE_PERL_ATOF USE_REENTRANT_API
Locally applied patches:
uncommitted-changes
Built under linux
Compiled at Dec 22 2023 18:04:19
%ENV:
PERL5LIB=""
PERL5OPT=""
PERL5_CPANPLUS_IS_RUNNING="3384579"
PERL5_CPAN_IS_RUNNING="3384579"
PERL_CANARY_STABILITY_NOPROMPT="1"
PERL_MM_USE_DEFAULT="1"
PERL_USE_UNSAFE_INC="1"
@INC:
/home/sand/src/perl/repoperls/installed-perls/host/k93msid/v5.20.3/ac75/lib/site_perl/5.20.3/x86_64-linux-thread-multi-ld
/home/sand/src/perl/repoperls/installed-perls/host/k93msid/v5.20.3/ac75/lib/site_perl/5.20.3
/home/sand/src/perl/repoperls/installed-perls/host/k93msid/v5.20.3/ac75/lib/5.20.3/x86_64-linux-thread-multi-ld
/home/sand/src/perl/repoperls/installed-perls/host/k93msid/v5.20.3/ac75/lib/5.20.3
.