Dist-Zilla-PluginBundle-Git-VersionManager v0.007 Perl 5 v5.37.11 x86_64-linux
- Status
- Pass
- From
- Andreas J. König (ANDK)
- Dist
-
Dist-Zilla-PluginBundle-Git-VersionManager v0.007
- Platform
- Perl 5 v5.37.11 x86_64-linux
- Date
- 2024-03-08 07:52:20
- ID
- cace73e6-dd20-11ee-a8f2-1123c13a7c6b
This distribution has been tested as part of the CPAN Testers
project, supporting the Perl programming language. See
http://wiki.cpantesters.org/ for more information or email
questions to cpan-testers-discuss@perl.org
--
Dear Karen Etheridge,
This is a computer-generated report for Dist-Zilla-PluginBundle-Git-VersionManager-0.007
on perl 5.37.11, created by CPAN-Reporter-1.2018.
Thank you for uploading your work to CPAN. Congratulations!
All tests were successful.
Sections of this report:
* Tester comments
* Program output
* Prerequisites
* Environment and other context
------------------------------
TESTER COMMENTS
------------------------------
Additional comments from tester:
this report is from an automated smoke testing program
and was not reviewed by a human for accuracy
------------------------------
PROGRAM OUTPUT
------------------------------
Output from '/usr/bin/make test':
PERL_DL_NONLAZY=1 "/home/sand/src/perl/repoperls/installed-perls/host/k93msid/v5.37.11/bb7f/bin/perl" "-MExtUtils::Command::MM" "-MTest::Harness" "-e" "undef *Test::Harness::Switches; test_harness(0, 'blib/lib', 'blib/arch')" t/*.t
#
# Versions for all modules listed in MYMETA.json (including optional ones):
#
# === Configure Requires ===
#
# Module Want Have
# ------------------- ----- -----
# ExtUtils::MakeMaker any 7.70
# Module::Build::Tiny 0.034 0.046
#
# === Build Requires ===
#
# Module Want Have
# ------------------- ---- ----
# ExtUtils::MakeMaker any 7.70
#
# === Test Requires ===
#
# Module Want Have
# ------------------------ ----- --------
# CPAN::Meta::Check 0.011 0.017
# CPAN::Meta::Requirements any 2.140
# Exporter any 5.77
# File::Spec any 3.88
# JSON::MaybeXS any 1.004005
# Module::Metadata any 1.000037
# Path::Tiny any 0.144
# Test::DZil any 6.030
# Test::Deep any 1.204
# Test::Fatal any 0.017
# Test::More 0.96 1.302195
# if any 0.0610
# lib any 0.65
# namespace::clean any 0.27
# parent any 0.241
#
# === Test Recommends ===
#
# Module Want Have
# ---------- -------- --------
# CPAN::Meta 2.120900 2.150010
#
# === Runtime Requires ===
#
# Module Want Have
# ---------------------------------------------------------- ----- ------
# CPAN::Meta::Requirements any 2.140
# Dist::Zilla::Plugin::BumpVersionAfterRelease 0.016 0.018
# Dist::Zilla::Plugin::BumpVersionAfterRelease::Transitional 0.004 0.009
# Dist::Zilla::Plugin::CopyFilesFromRelease any 0.007
# Dist::Zilla::Plugin::Git::Commit 2.020 2.048
# Dist::Zilla::Plugin::Git::NextVersion any 2.048
# Dist::Zilla::Plugin::Git::Tag any 2.048
# Dist::Zilla::Plugin::NextRelease 5.033 6.030
# Dist::Zilla::Plugin::Prereqs any 6.030
# Dist::Zilla::Plugin::RewriteVersion::Transitional 0.004 0.009
# Dist::Zilla::Plugin::VersionFromMainModule 0.04 0.04
# Dist::Zilla::Role::FileMunger any 6.030
# Dist::Zilla::Role::PluginBundle::Config::Slicer any 0.202
# Dist::Zilla::Role::PluginBundle::Easy any 6.030
# Dist::Zilla::Role::PluginBundle::PluginRemover 0.103 0.105
# Dist::Zilla::Util any 6.030
# List::Util 1.45 1.63
# Moose any 2.2206
# Moose::Util any 2.2206
# Moose::Util::TypeConstraints any 2.2206
# namespace::autoclean any 0.29
# strict any 1.12
# warnings any 1.64
#
# === Other Modules ===
#
# Module Have
# -------------------- ----
# Dist::CheckConflicts 0.11
# Encode 3.20
# JSON::PP 4.16
# Pod::Coverage 0.23
# Sub::Name 0.27
# YAML 1.30
# autodie 2.36
#
t/00-report-prereqs.t ...... ok
t/01-basic.t ............... ok
t/02-different-versions.t .. ok
t/03-version-override.t .... ok
t/04-munge-installer.t ..... ok
t/05-plugin-prereqs.t ...... ok
t/06-bundle-override.t ..... ok
t/zzz-check-breaks.t ....... ok
All tests successful.
Files=8, Tests=39, 13 wallclock secs ( 0.05 usr 0.03 sys + 9.11 cusr 0.99 csys = 10.18 CPU)
Result: PASS
------------------------------
PREREQUISITES
------------------------------
Prerequisite modules loaded:
requires:
Module Need Have
---------------------------------------------------------- ----- --------
CPAN::Meta::Requirements 0 2.140
Dist::Zilla::Plugin::BumpVersionAfterRelease 0.016 0.018
Dist::Zilla::Plugin::BumpVersionAfterRelease::Transitional 0.004 0.009
Dist::Zilla::Plugin::CopyFilesFromRelease 0 0.007
Dist::Zilla::Plugin::Git::Commit 2.020 2.048
Dist::Zilla::Plugin::Git::NextVersion 0 2.048
Dist::Zilla::Plugin::Git::Tag 0 2.048
Dist::Zilla::Plugin::NextRelease 5.033 6.030
Dist::Zilla::Plugin::Prereqs 0 6.030
Dist::Zilla::Plugin::RewriteVersion::Transitional 0.004 0.009
Dist::Zilla::Plugin::VersionFromMainModule 0.04 0.04
Dist::Zilla::Role::FileMunger 0 6.030
Dist::Zilla::Role::PluginBundle::Config::Slicer 0 0.202
Dist::Zilla::Role::PluginBundle::Easy 0 6.030
Dist::Zilla::Role::PluginBundle::PluginRemover 0.103 0.105
Dist::Zilla::Util 0 6.030
List::Util 1.45 1.63
Moose 0 2.2206
Moose::Util 0 2.2206
Moose::Util::TypeConstraints 0 2.2206
namespace::autoclean 0 0.29
perl 5.010 5.037011
strict 0 1.12
warnings 0 1.64
build_requires:
Module Need Have
---------------------------------------------------------- ----- --------
CPAN::Meta::Check 0.011 0.017
CPAN::Meta::Requirements 0 2.140
Exporter 0 5.77
ExtUtils::MakeMaker 0 7.70
File::Spec 0 3.88
if 0 0.0610
JSON::MaybeXS 0 1.004005
lib 0 0.65
Module::Metadata 0 1.000037
namespace::clean 0 0.27
parent 0 0.241
Path::Tiny 0 0.144
Test::Deep 0 1.204
Test::DZil 0 6.030
Test::Fatal 0 0.017
Test::More 0.96 1.302195
configure_requires:
Module Need Have
---------------------------------------------------------- ----- --------
ExtUtils::MakeMaker 0 7.70
Module::Build::Tiny 0.034 0.046
perl 5.010 5.037011
------------------------------
ENVIRONMENT AND OTHER CONTEXT
------------------------------
Environment variables:
AUTOMATED_TESTING = 1
LANG = en_US.UTF-8
LANGUAGE = en_US:en
PATH = /home/sand/bin:/usr/local/bin:/usr/bin:/bin:/usr/games:/usr/local/perl/bin:/usr/X11/bin:/sbin:/usr/sbin
PERL5LIB =
PERL5OPT =
PERL5_CPANPLUS_IS_RUNNING = 2565037
PERL5_CPAN_IS_RUNNING = 2565037
PERL_CANARY_STABILITY_NOPROMPT = 1
PERL_MM_USE_DEFAULT = 1
PERL_USE_UNSAFE_INC = 1
SHELL = /usr/bin/zsh
TERM = screen
Perl special variables (and OS-specific diagnostics, for MSWin32):
$^X = /home/sand/src/perl/repoperls/installed-perls/host/k93msid/v5.37.11/bb7f/bin/perl
$UID/$EUID = 1005 / 1005
$GID = 1005 1005
$EGID = 1005 1005
Perl module toolchain versions installed:
Module Have
------------------- --------
CPAN 2.34
CPAN::Meta 2.150010
Cwd 3.89
ExtUtils::CBuilder 0.280238
ExtUtils::Command 7.70
ExtUtils::Install 2.22
ExtUtils::MakeMaker 7.70
ExtUtils::Manifest 1.75
ExtUtils::ParseXS 3.51
File::Spec 3.88
JSON 4.10
JSON::PP 4.16
Module::Build 0.4234
Module::Signature 0.88
Parse::CPAN::Meta 2.150010
Test::Harness 3.44
Test::More 1.302195
YAML 1.30
YAML::Syck 1.34
version 0.9929
--
Summary of my perl5 (revision 5 version 37 subversion 11) configuration:
Commit id: f94aafcf7b0649f7058ce2679b1be428d0b1bca8
Platform:
osname=linux
osvers=6.1.0-7-amd64
archname=x86_64-linux
uname='linux k93msid 6.1.0-7-amd64 #1 smp preempt_dynamic debian 6.1.20-1 (2023-03-19) x86_64 gnulinux '
config_args='-Dprefix=/home/sand/src/perl/repoperls/installed-perls/host/k93msid/v5.37.11/bb7f -Dmyhostname=k93msid -Dinstallusrbinperl=n -Uversiononly -Dusedevel -des -Ui_db -Dlibswanted=cl pthread socket inet nsl gdbm dbm malloc dl ld sun m crypt sec util c cposix posix ucb BSD gdbm_compat -Uuseithreads -Uuselongdouble -DEBUGGING=both'
hint=recommended
useposix=true
d_sigaction=define
useithreads=undef
usemultiplicity=undef
use64bitint=define
use64bitall=define
uselongdouble=undef
usemymalloc=n
default_inc_excludes_dot=define
Compiler:
cc='cc'
ccflags ='-fwrapv -DDEBUGGING -fno-strict-aliasing -pipe -fstack-protector-strong -I/usr/local/include -D_LARGEFILE_SOURCE -D_FILE_OFFSET_BITS=64 -D_FORTIFY_SOURCE=2'
optimize='-O2 -g'
cppflags='-fwrapv -DDEBUGGING -fno-strict-aliasing -pipe -fstack-protector-strong -I/usr/local/include'
ccversion=''
gccversion='12.2.0'
gccosandvers=''
intsize=4
longsize=8
ptrsize=8
doublesize=8
byteorder=12345678
doublekind=3
d_longlong=define
longlongsize=8
d_longdbl=define
longdblsize=16
longdblkind=3
ivtype='long'
ivsize=8
nvtype='double'
nvsize=8
Off_t='off_t'
lseeksize=8
alignbytes=8
prototype=define
Linker and Libraries:
ld='cc'
ldflags =' -fstack-protector-strong -L/usr/local/lib'
libpth=/usr/local/lib /usr/lib/x86_64-linux-gnu /usr/lib /usr/lib64
libs=-lpthread -lnsl -ldl -lm -lcrypt -lutil -lc
perllibs=-lpthread -lnsl -ldl -lm -lcrypt -lutil -lc
libc=/lib/x86_64-linux-gnu/libc.so.6
so=so
useshrplib=false
libperl=libperl.a
gnulibc_version='2.36'
Dynamic Linking:
dlsrc=dl_dlopen.xs
dlext=so
d_dlsymun=undef
ccdlflags='-Wl,-E'
cccdlflags='-fPIC'
lddlflags='-shared -O2 -g -L/usr/local/lib -fstack-protector-strong'
Characteristics of this binary (from libperl):
Compile-time options:
DEBUGGING
HAS_LONG_DOUBLE
HAS_STRTOLD
HAS_TIMES
PERLIO_LAYERS
PERL_COPY_ON_WRITE
PERL_DONT_CREATE_GVSV
PERL_HASH_FUNC_SIPHASH13
PERL_HASH_USE_SBOX32
PERL_MALLOC_WRAP
PERL_OP_PARENT
PERL_PRESERVE_IVUV
PERL_USE_DEVEL
PERL_USE_SAFE_PUTENV
USE_64_BIT_ALL
USE_64_BIT_INT
USE_LARGE_FILES
USE_LOCALE
USE_LOCALE_COLLATE
USE_LOCALE_CTYPE
USE_LOCALE_NUMERIC
USE_LOCALE_TIME
USE_PERLIO
USE_PERL_ATOF
Built under linux
Compiled at Apr 21 2023 07:57:35
%ENV:
PERL5LIB=""
PERL5OPT=""
PERL5_CPANPLUS_IS_RUNNING="2565037"
PERL5_CPAN_IS_RUNNING="2565037"
PERL_CANARY_STABILITY_NOPROMPT="1"
PERL_MM_USE_DEFAULT="1"
PERL_USE_UNSAFE_INC="1"
@INC:
/home/sand/src/perl/repoperls/installed-perls/host/k93msid/v5.37.11/bb7f/lib/site_perl/5.37.11/x86_64-linux
/home/sand/src/perl/repoperls/installed-perls/host/k93msid/v5.37.11/bb7f/lib/site_perl/5.37.11
/home/sand/src/perl/repoperls/installed-perls/host/k93msid/v5.37.11/bb7f/lib/5.37.11/x86_64-linux
/home/sand/src/perl/repoperls/installed-perls/host/k93msid/v5.37.11/bb7f/lib/5.37.11
.