Report for Class-DBI-Sweet-0.11

Back
From: metabase:user:8286d1fc-3d52-11e2-9ec4-cb9cdd236785
Subject: PASS Class-DBI-Sweet-0.11 v5.10.1 GNU/Linux
Date: 2013-09-21T06:48:15Z

This distribution has been tested as part of the CPAN Testers
project, supporting the Perl programming language.  See
http://wiki.cpantesters.org/ for more information or email
questions to cpan-testers-discuss@perl.org


--
Dear Fred Moyer,

This is a computer-generated report for Class-DBI-Sweet-0.11
on perl 5.10.1, created by CPAN-Reporter-1.2010.

Thank you for uploading your work to CPAN.  Congratulations!
All tests were successful.

Sections of this report:

    * Tester comments
    * Program output
    * Prerequisites
    * Environment and other context

------------------------------
TESTER COMMENTS
------------------------------

Additional comments from tester:

this report is from an automated smoke testing program
and was not reviewed by a human for accuracy

------------------------------
PROGRAM OUTPUT
------------------------------

Output from '/usr/local/bin/make test':

/opt/perl443-26-no-5.10.1/bin/perl Build --makefile_env_macros 1 test
t/01use.t ................................ ok
t/02pod.t ................................ skipped: set TEST_POD to enable this test
t/03podcoverage.t ........................ skipped: set TEST_POD to enable this test
t/04join.t ............................... ok
t/05count.t .............................. ok
t/06object_cache.t ....................... skipped: Cache::Cache required
t/07prefetch.t ........................... skipped: Cache::Cache required
t/08pager.t .............................. ok
t/09sequence.t ........................... ok
t/cdbi-t-ocache/01-columns.t ............. ok
t/cdbi-t-ocache/03-subclassing.t ......... skipped: needs Cache::Cache for testing
t/cdbi-t-ocache/05-Query.t ............... skipped: needs Cache::Cache for testing
t/cdbi-t-ocache/06-hasa.t ................ skipped: needs Cache::Cache for testing
t/cdbi-t-ocache/08-inheritcols.t ......... ok
t/cdbi-t-ocache/09-has_many.t ............ skipped: needs Cache::Cache for testing
t/cdbi-t-ocache/10-mysql.t ............... skipped: needs Cache::Cache for testing
t/cdbi-t-ocache/11-triggers.t ............ skipped: needs Cache::Cache for testing
t/cdbi-t-ocache/12-filter.t .............. skipped: needs Cache::Cache for testing
t/cdbi-t-ocache/13-constraint.t .......... skipped: needs Cache::Cache for testing
t/cdbi-t-ocache/14-might_have.t .......... skipped: needs Cache::Cache for testing
t/cdbi-t-ocache/16-reserved.t ............ skipped: needs Cache::Cache for testing
t/cdbi-t-ocache/17-data_type.t ........... skipped: needs Cache::Cache for testing
t/cdbi-t-ocache/18-has_a.t ............... skipped: needs Cache::Cache for testing
t/cdbi-t-ocache/19-set_sql.t ............. skipped: needs Cache::Cache for testing
t/cdbi-t-ocache/21-iterator.t ............ skipped: needs Cache::Cache for testing
t/cdbi-t-ocache/22-deflate_order.t ....... skipped: needs Cache::Cache for testing
t/cdbi-t-ocache/23-cascade.t ............. skipped: needs Cache::Cache for testing
t/cdbi-t-ocache/24-meta_info.t ........... ok
t/cdbi-t-ocache/25-closures_in_meta.t .... skipped: Need MySQL for this test
t/cdbi-t-ocache/97-pod.t ................. skipped: Cache::MemoryCache needed to test POD.
t/cdbi-t-ocache/98-failure.t ............. skipped: needs Cache::Cache for testing
t/cdbi-t-ocache/99-misc.t ................ skipped: needs Cache::Cache for testing
t/cdbi-t-rescache/01-columns.t ........... ok
t/cdbi-t-rescache/03-subclassing.t ....... skipped: needs Cache::Cache for testing
t/cdbi-t-rescache/05-Query.t ............. skipped: needs Cache::Cache for testing
t/cdbi-t-rescache/06-hasa.t .............. skipped: needs Cache::Cache for testing
t/cdbi-t-rescache/08-inheritcols.t ....... ok
t/cdbi-t-rescache/09-has_many.t .......... skipped: needs Cache::Cache for testing
t/cdbi-t-rescache/10-mysql.t ............. skipped: needs Cache::Cache for testing
t/cdbi-t-rescache/11-triggers.t .......... skipped: needs Cache::Cache for testing
t/cdbi-t-rescache/12-filter.t ............ skipped: needs Cache::Cache for testing
t/cdbi-t-rescache/13-constraint.t ........ skipped: needs Cache::Cache for testing
t/cdbi-t-rescache/14-might_have.t ........ skipped: needs Cache::Cache for testing
t/cdbi-t-rescache/16-reserved.t .......... skipped: needs Cache::Cache for testing
t/cdbi-t-rescache/17-data_type.t ......... skipped: needs Cache::Cache for testing
t/cdbi-t-rescache/18-has_a.t ............. skipped: needs Cache::Cache for testing
t/cdbi-t-rescache/19-set_sql.t ........... skipped: needs Cache::Cache for testing
t/cdbi-t-rescache/21-iterator.t .......... skipped: needs Cache::Cache for testing
t/cdbi-t-rescache/22-deflate_order.t ..... skipped: needs Cache::Cache for testing
t/cdbi-t-rescache/23-cascade.t ........... skipped: needs Cache::Cache for testing
t/cdbi-t-rescache/24-meta_info.t ......... ok
t/cdbi-t-rescache/25-closures_in_meta.t .. skipped: needs Cache::Cache for testing
t/cdbi-t-rescache/97-pod.t ............... skipped: Cache::MemoryCache needed to test POD.
t/cdbi-t-rescache/98-failure.t ........... skipped: needs Cache::Cache for testing
t/cdbi-t-rescache/99-misc.t .............. skipped: needs Cache::Cache for testing
t/cdbi-t/01-columns.t .................... ok
t/cdbi-t/02-Film.t ....................... ok
t/cdbi-t/03-subclassing.t ................ ok
t/cdbi-t/04-lazy.t ....................... ok
t/cdbi-t/05-Query.t ...................... ok
t/cdbi-t/06-hasa.t ....................... ok
t/cdbi-t/08-inheritcols.t ................ ok
t/cdbi-t/09-has_many.t ................... ok
t/cdbi-t/10-mysql.t ...................... skipped: Need Date::Simple for this test
t/cdbi-t/11-triggers.t ................... ok
t/cdbi-t/12-filter.t ..................... ok
t/cdbi-t/13-constraint.t ................. ok
t/cdbi-t/14-might_have.t ................. ok
t/cdbi-t/17-data_type.t .................. skipped: needs DBD::Pg for testing
Name "Ima::DBI::st::execute" used only once: possible typo at t/cdbi-t/18-has_a.t line 38.
t/cdbi-t/18-has_a.t ...................... ok
t/cdbi-t/19-set_sql.t .................... ok
t/cdbi-t/21-iterator.t ................... ok
t/cdbi-t/22-deflate_order.t .............. skipped: Need Time::Piece::MySQL for this test
t/cdbi-t/23-cascade.t .................... ok
t/cdbi-t/24-meta_info.t .................. ok
t/cdbi-t/25-closures_in_meta.t ........... skipped: Need MySQL for this test
t/cdbi-t/97-pod.t ........................ ok
t/cdbi-t/98-failure.t .................... ok
t/cdbi-t/99-misc.t ....................... ok
All tests successful.
Files=79, Tests=576, 83 wallclock secs ( 1.00 usr  0.28 sys + 26.68 cusr  3.40 csys = 31.36 CPU)
Result: PASS

------------------------------
PREREQUISITES
------------------------------

Prerequisite modules loaded:

requires:

    Module        Need    Have  
    ------------- ------- ------
    Class::DBI    v3.0.12 3.0.17
    Data::Page    0       2.02  
    DBD::SQLite   1.08    1.40  
    DBI           0       1.628 
    List::Util    0       1.32  
    SQL::Abstract 1.55    1.74  

configure_requires:

    Module        Need    Have  
    ------------- ------- ------
    Module::Build 0.38    0.4007


------------------------------
ENVIRONMENT AND OTHER CONTEXT
------------------------------

Environment variables:

    AUTHOR_TESTING = 1
    AUTOMATED_TESTING = 1
    LANG = en_US.UTF-8
    LD_LIBRARY_PATH = /usr/local/lib
    PATH = /usr/lib/qt-3.3/bin:/usr/kerberos/sbin:/usr/kerberos/bin:/usr/lib/ccache:/usr/local/sbin:/usr/local/bin:/sbin:/bin:/usr/sbin:/usr/bin:/usr/X11R6/bin:/usr/lib/alliance/bin:/opt/real/RealPlayer:/root/bin:/usr/lib/alliance/bin:/opt/real/RealPlayer
    PERL5LIB = 
    PERL5OPT = 
    PERL5_CPANPLUS_IS_RUNNING = 29355
    PERL5_CPAN_IS_RUNNING = 29355
    PERL_ANYEVENT_MODEL = POE
    PERL_MM_USE_DEFAULT = 1
    SHELL = /bin/bash
    TERM = xterm

Perl special variables (and OS-specific diagnostics, for MSWin32):

    $^X = /opt/perl443-26-no-5.10.1/bin/perl
    $UID/$EUID = 0 / 0
    $GID = 0 0 1 2 3 4 6 10
    $EGID = 0 0 1 2 3 4 6 10

Perl module toolchain versions installed:

    Module              Have    
    ------------------- --------
    CPAN                1.9402  
    CPAN::Meta          2.132620
    Cwd                 3.40    
    ExtUtils::CBuilder  0.280212
    ExtUtils::Command   1.18    
    ExtUtils::Install   1.54    
    ExtUtils::MakeMaker 6.76    
    ExtUtils::Manifest  1.63    
    ExtUtils::ParseXS   3.22    
    File::Spec          3.40    
    JSON                2.59    
    JSON::PP            2.27202 
    Module::Build       0.4007  
    Module::Signature   0.73    
    Parse::CPAN::Meta   1.4407  
    Test::Harness       3.28    
    Test::More          0.98    
    YAML                n/a     
    YAML::Syck          1.27    
    version             0.9904  


--

Summary of my perl5 (revision 5 version 10 subversion 1) configuration:
   
  Platform:
    osname=linux, osvers=2.6.26-gogol.1, archname=i686-linux-stdio
    uname='linux localhost.localdomain 2.6.26-gogol.1 #1 smp fri dec 25 22:04:40 msk 2009 i686 i686 i386 gnulinux '
    config_args='-Dcc=/opt/443/bin/gcc/bin/gcc -Doptimize=-g -DDMALLOC=/usr/local/bin/dmalloc -Dprefix=/opt/perl443-26-no-5.10.1 -DDEBUGGING'
    hint=recommended, useposix=true, d_sigaction=define
    useithreads=undef, usemultiplicity=undef
    useperlio=undef, d_sfio=undef, uselargefiles=undef, usesocks=undef
    use64bitint=undef, use64bitall=undef, uselongdouble=undef
    usemymalloc=n, bincompat5005=undef
  Compiler:
    cc='/opt/443/bin/gcc/bin/gcc', ccflags ='-DDEBUGGING -fno-strict-aliasing -pipe -fstack-protector -I/usr/local/include',
    optimize='-g',
    cppflags='-DDEBUGGING -fno-strict-aliasing -pipe -fstack-protector -I/usr/local/include'
    ccversion='', gccversion='4.4.3', gccosandvers=''
    intsize=4, longsize=4, ptrsize=4, doublesize=8, byteorder=1234
    d_longlong=define, longlongsize=8, d_longdbl=define, longdblsize=12
    ivtype='long', ivsize=4, nvtype='double', nvsize=8, Off_t='off_t', lseeksize=4
    alignbytes=4, prototype=define
  Linker and Libraries:
    ld='/opt/443/bin/gcc/bin/gcc', ldflags =' -fstack-protector -L/usr/local/lib'
    libpth=/usr/local/lib /lib /usr/lib
    libs=-lnsl -lgdbm -ldb -ldl -lm -lcrypt -lutil -lc
    perllibs=-lnsl -ldl -lm -lcrypt -lutil -lc
    libc=/lib/libc-2.5.so, so=so, useshrplib=false, libperl=libperl.a
    gnulibc_version='2.5'
  Dynamic Linking:
    dlsrc=dl_dlopen.xs, dlext=so, d_dlsymun=undef, ccdlflags='-Wl,-E'
    cccdlflags='-fPIC', lddlflags='-shared -g -L/usr/local/lib -fstack-protector'


Characteristics of this binary (from libperl): 
  Compile-time options: DEBUGGING PERL_DONT_CREATE_GVSV PERL_MALLOC_WRAP
  Built under linux
  Compiled at Sep 19 2013 17:31:48
  %ENV:
    PERL5LIB=""
    PERL5OPT=""
    PERL5_CPANPLUS_IS_RUNNING="29355"
    PERL5_CPAN_IS_RUNNING="29355"
    PERL_ANYEVENT_MODEL="POE"
    PERL_MM_USE_DEFAULT="1"
  @INC:
    /opt/perl443-26-no-5.10.1/lib/5.10.1/i686-linux-stdio
    /opt/perl443-26-no-5.10.1/lib/5.10.1
    /opt/perl443-26-no-5.10.1/lib/site_perl/5.10.1/i686-linux-stdio
    /opt/perl443-26-no-5.10.1/lib/site_perl/5.10.1
    .