IPC-Open3-Simple v0.04 Perl 5 v5.28.1 arm-linux-glibc

Status
Pass
From
Peter J. Mello
Dist
IPC-Open3-Simple v0.04
Platform
Perl 5 v5.28.1 arm-linux-glibc
Date
2019-01-20 08:38:42
ID
cab112f4-1c8e-11e9-9d97-ecee8873a78f
This distribution has been tested as part of the CPAN Testers
project, supporting the Perl programming language.  See
http://wiki.cpantesters.org/ for more information or email
questions to cpan-testers-discuss@perl.org


--
Dear Erwan Lemonnier,

This is a computer-generated report for IPC-Open3-Simple-0.04
on perl 5.28.1, created by CPAN-Reporter-1.2018.

Thank you for uploading your work to CPAN.  Congratulations!
All tests were successful.

Sections of this report:

    * Tester comments
    * Program output
    * Prerequisites
    * Environment and other context

------------------------------
TESTER COMMENTS
------------------------------

Additional comments from tester:

none provided

------------------------------
PROGRAM OUTPUT
------------------------------

Output from '/opt/bin/make test':

PERL_DL_NONLAZY=1 "/opt/bin/perl5.28.1" "-MExtUtils::Command::MM" "-MTest::Harness" "-e" "undef *Test::Harness::Switches; test_harness(0, 'blib/lib', 'blib/arch')" t/*.t
t/pod-coverage.t .. ok
t/pod.t ........... ok
t/test-all.t ...... ok
All tests successful.
Files=3, Tests=16,  3 wallclock secs ( 0.20 usr  0.01 sys +  2.71 cusr  0.25 csys =  3.17 CPU)
Result: PASS

------------------------------
PREREQUISITES
------------------------------

Prerequisite modules loaded:

requires:

    Module              Need Have
    ------------------- ---- ----
    IO::Handle          0    1.39
    IO::Select          0    1.39
    IPC::Open3          0    1.20

build_requires:

    Module              Need Have
    ------------------- ---- ----
    ExtUtils::MakeMaker 0    7.34


------------------------------
ENVIRONMENT AND OTHER CONTEXT
------------------------------

Environment variables:

    LANG = en_US.UTF-8
    LC_ALL = en_US.UTF-8
    LC_CTYPE = en_US.UTF-8
    LDFLAGS = -Wl,-rpath=/opt/lib -Wl,--dynamic-linker=/opt/lib/ld-linux.so.3 -L/opt/lib
    PATH = /opt/sbin:/opt/bin:/opt/usr/sbin:/opt/usr/bin:/sbin:/bin:/usr/sbin:/usr/bin:/opt/usr/local/sbin:/opt/usr/local/bin:/opt/root/bin:/opt/bin/go/bin
    PERL5LIB = 
    PERL5OPT = 
    PERL5_CPANPLUS_IS_RUNNING = 6704
    PERL5_CPAN_IS_RUNNING = 6704
    PERL_USE_UNSAFE_INC = 1
    SHELL = /opt/bin/zsh
    TEMP = /opt/tmp
    TERM = xterm-256color
    TMPDIR = /opt/tmp

Perl special variables (and OS-specific diagnostics, for MSWin32):

    $^X = /opt/bin/perl5.28.1
    $UID/$EUID = 0 / 0
    $GID = 0 0
    $EGID = 0 0

Perl module toolchain versions installed:

    Module              Have    
    ------------------- --------
    CPAN                2.22    
    CPAN::Meta          2.150010
    Cwd                 3.75    
    ExtUtils::CBuilder  0.280230
    ExtUtils::Command   7.34    
    ExtUtils::Install   2.14    
    ExtUtils::MakeMaker 7.34    
    ExtUtils::Manifest  1.71    
    ExtUtils::ParseXS   3.39    
    File::Spec          3.75    
    JSON                4.00    
    JSON::PP            4.00    
    Module::Build       0.4224  
    Module::Signature   0.83    
    Parse::CPAN::Meta   2.150010
    Test::Harness       3.42    
    Test::More          1.302160
    YAML                1.27    
    YAML::Syck          1.31    
    version             0.9924  


--

Summary of my perl5 (revision 5 version 28 subversion 1) configuration:
   
  Platform:
    osname=linux
    osvers=3.2
    archname=arm-linux-glibc
    uname='Linux OpenWrt 3.2 #1 SMP Thu Jan 1 12:00:00 CEST 2015 arm GNU/Linux'
    config_args='-der -Dusethreads'
    hint=recommended
    useposix=true
    d_sigaction=define
    useithreads=define
    usemultiplicity=define
    use64bitint=undef
    use64bitall=undef
    uselongdouble=undef
    usemymalloc=n
    default_inc_excludes_dot=define
    bincompat5005=undef
  Compiler:
    cc='arm-openwrt-linux-gnueabi-gcc'
    ccflags ='-D_REENTRANT -D_GNU_SOURCE -fwrapv -fno-strict-aliasing -pipe -fstack-protector-strong -D_LARGEFILE_SOURCE -D_FILE_OFFSET_BITS=64 -O2 -pipe -march=armv7-a -mtune=cortex-a9 -fno-caller-saves -fhonour-copts -Wno-error=unused-but-set-variable -Wno-error=unused-result -mfloat-abi=soft -I/media/ware3/Entware.2018.12/staging_dir/target-arm_cortex-a9_glibc-2.23_eabi/opt/include -I/media/ware3/Entware.2018.12/staging_dir/toolchain-arm_cortex-a9_gcc-7.3.0_glibc-2.23_eabi/include'
    optimize='-O2'
    cppflags='-D_REENTRANT -D_GNU_SOURCE -O2 -pipe -march=armv7-a -mtune=cortex-a9 -fno-caller-saves -fhonour-copts -Wno-error=unused-but-set-variable -Wno-error=unused-result -mfloat-abi=soft -I/media/ware3/Entware.2018.12/staging_dir/target-arm_cortex-a9_glibc-2.23_eabi/opt/include -I/media/ware3/Entware.2018.12/staging_dir/toolchain-arm_cortex-a9_gcc-7.3.0_glibc-2.23_eabi/include'
    ccversion=''
    gccversion='7.3.0'
    gccosandvers=''
    intsize=4
    longsize=4
    ptrsize=4
    doublesize=8
    byteorder=1234
    doublekind=3
    d_longlong=define
    longlongsize=8
    d_longdbl=define
    longdblsize=8
    longdblkind=0
    ivtype='long'
    ivsize=4
    nvtype='double'
    nvsize=8
    Off_t='off_t'
    lseeksize=8
    alignbytes=8
    prototype=define
  Linker and Libraries:
    ld='arm-openwrt-linux-gnueabi-gcc'
    ldflags =' -L/media/ware3/Entware.2018.12/staging_dir/target-arm_cortex-a9_glibc-2.23_eabi/opt/lib'
    libpth=/media/ware3/Entware.2018.12/staging_dir/target-arm_cortex-a9_glibc-2.23_eabi/lib /media/ware3/Entware.2018.12/staging_dir/target-arm_cortex-a9_glibc-2.23_eabi/opt/lib
    libs=-lpthread -lgdbm -ldb -ldl -lm -lcrypt -lutil -lc
    perllibs=-lpthread -ldl -lm -lcrypt -lutil -lc
    libc=
    so=so
    useshrplib=true
    libperl=libperl.so
    gnulibc_version=''
  Dynamic Linking:
    dlsrc=dl_dlopen.xs
    dlext=so
    d_dlsymun=undef
    ccdlflags='-fPIC -Wl,-rpath,/opt/lib/perl5/5.28/CORE:/opt/lib -rdynamic -Wl,--dynamic-linker=/opt/lib/ld-linux.so.3'
    cccdlflags='-fPIC'
    lddlflags='-shared -L/media/ware3/Entware.2018.12/staging_dir/target-arm_cortex-a9_glibc-2.23_eabi/opt/lib'


Characteristics of this binary (from libperl): 
  Compile-time options:
    HAS_TIMES
    MULTIPLICITY
    PERLIO_LAYERS
    PERL_COPY_ON_WRITE
    PERL_DONT_CREATE_GVSV
    PERL_IMPLICIT_CONTEXT
    PERL_MALLOC_WRAP
    PERL_OP_PARENT
    PERL_PRESERVE_IVUV
    USE_ITHREADS
    USE_LARGE_FILES
    USE_LOCALE
    USE_LOCALE_COLLATE
    USE_LOCALE_CTYPE
    USE_LOCALE_NUMERIC
    USE_LOCALE_TIME
    USE_PERLIO
    USE_PERL_ATOF
    USE_REENTRANT_API
  Built under linux
  %ENV:
    PERL5LIB=""
    PERL5OPT=""
    PERL5_CPANPLUS_IS_RUNNING="6704"
    PERL5_CPAN_IS_RUNNING="6704"
    PERL_USE_UNSAFE_INC="1"
  @INC:
    /opt/lib/perl5/5.28
    .