File-Path v2.18 Perl 5 v5.32.0 x86_64-linux-thread-multi
- Status
- Pass
- From
- Arpad Szasz
- Dist
-
File-Path v2.18
- Platform
- Perl 5 v5.32.0 x86_64-linux-thread-multi
- Date
- 2020-11-14 09:57:22
- ID
- ca7af002-265f-11eb-9a72-d26ed47d94e0
This distribution has been tested as part of the CPAN Testers
project, supporting the Perl programming language. See
http://wiki.cpantesters.org/ for more information or email
questions to cpan-testers-discuss@perl.org
--
Dear JKEENAN,
This is a computer-generated report for File-Path-2.18
on perl 5.32.0, created by App::cpanminus::reporter 0.17 (1.7044).
Thank you for uploading your work to CPAN. Congratulations!
All tests were successful.
Sections of this report:
* Tester comments
* Program output
* Prerequisites
* Environment and other context
------------------------------
TESTER COMMENTS
------------------------------
Additional comments from tester:
none provided
------------------------------
PROGRAM OUTPUT
------------------------------
Output from '':
Building and testing File-Path-2.18
cp lib/File/Path.pm blib/lib/File/Path.pm
Manifying 1 pod document
PERL_DL_NONLAZY=1 "/home/arpi/opt/perl5/perls/perl-5.32.0/bin/perl" "-MExtUtils::Command::MM" "-MTest::Harness" "-e" "undef *Test::Harness::Switches; test_harness(0, 'blib/lib', 'blib/arch')" t/*.t
t/Path-Class.t .. ok
t/Path.t ........ ok
t/Path_root.t ... skipped: not running as root
t/Path_win32.t .. skipped: not win32
t/taint.t ....... ok
All tests successful.
Files=5, Tests=205, 1 wallclock secs ( 0.03 usr 0.00 sys + 0.21 cusr 0.01 csys = 0.25 CPU)
Result: PASS
------------------------------
PREREQUISITES
------------------------------
Prerequisite modules loaded:
No requirements found
------------------------------
ENVIRONMENT AND OTHER CONTEXT
------------------------------
Environment variables:
LANG = en_US.UTF-8
LC_ADDRESS = ro_RO.UTF-8
LC_IDENTIFICATION = ro_RO.UTF-8
LC_MEASUREMENT = ro_RO.UTF-8
LC_MONETARY = ro_RO.UTF-8
LC_NAME = ro_RO.UTF-8
LC_NUMERIC = ro_RO.UTF-8
LC_PAPER = ro_RO.UTF-8
LC_TELEPHONE = ro_RO.UTF-8
LC_TIME = ro_RO.UTF-8
PATH = /home/arpi/.rakudobrew/bin:/home/arpi/.nvm/versions/node/v14.12.0/bin:/home/arpi/opt/perl5/bin:/home/arpi/opt/perl5/perls/stable/bin:/home/arpi/.cargo/bin:/home/arpi/.local/share/umake/bin:/home/arpi/.rakudobrew/bin:/media/arpi/XTEND/programs/adt-bundle-linux-x86_64-20140702/sdk/tools:/media/arpi/XTEND/programs/adt-bundle-linux-x86_64-20140702/sdk/platform-tools:/home/arpi/bin:/home/arpi/opt/PDK/bin:/usr/local/sbin:/usr/local/bin:/usr/sbin:/usr/bin:/sbin:/bin:/usr/games:/usr/local/games:/snap/bin:/usr/lib/jvm/java-8-oracle/bin:/usr/lib/jvm/java-8-oracle/db/bin:/usr/lib/jvm/java-8-oracle/jre/bin:/home/arpi/.fzf/bin
PERLBREW_HOME = /home/arpi/.perlbrew
PERLBREW_MANPATH = /home/arpi/opt/perl5/perls/stable/man
PERLBREW_PATH = /home/arpi/opt/perl5/bin:/home/arpi/opt/perl5/perls/stable/bin
PERLBREW_PERL = stable
PERLBREW_ROOT = /home/arpi/opt/perl5
PERLBREW_SHELLRC_VERSION = 0.88
PERLBREW_VERSION = 0.88
SHELL = /bin/bash
TERM = xterm-256color
Perl special variables (and OS-specific diagnostics, for MSWin32):
EGID = 1000 4 6 24 27 29 30 46 109 124 125 132 133 138 139 1000
EUID = 1000
EXECUTABLE_NAME = /home/arpi/opt/perl5/perls/perl-5.32.0/bin/perl
GID = 1000 4 6 24 27 29 30 46 109 124 125 132 133 138 139 1000
UID = 1000
Perl module toolchain versions installed:
Module Have
------------------- --------
CPAN 2.28
CPAN::Meta 2.150010
Cwd 3.78
ExtUtils::CBuilder 0.280235
ExtUtils::Command 7.54
ExtUtils::Install 2.18
ExtUtils::MakeMaker 7.54
ExtUtils::Manifest 1.72
ExtUtils::ParseXS 3.40
File::Spec 3.78
JSON 4.02
JSON::PP 4.05
Module::Build 0.4231
Module::Signature n/a
Parse::CPAN::Meta 2.150010
Test::Harness 3.42
Test::More 1.302183
YAML 1.30
YAML::Syck n/a
version 0.9928
--
Summary of my perl5 (revision 5 version 32 subversion 0) configuration:
Platform:
osname=linux
osvers=5.4.0-40-generic
archname=x86_64-linux-thread-multi
uname='linux orca 5.4.0-40-generic #44-ubuntu smp tue jun 23 00:01:04 utc 2020 x86_64 x86_64 x86_64 gnulinux '
config_args='-de -Dprefix=/home/arpi/opt/perl5/perls/perl-5.32.0 -Dusethreads -Duselargefiles -Duse64bitall -Dusesitecustomize -Duseshrplib -Dinc_version_list=none -Dpager=/bin/less -Doptimize=-O2 -Dcf_by=Plenum.ro -Dcf_email=arpad.szasz@plenum.ro -Uuserelocatableinc -UDEBUGGING -Aeval:scriptdir=/home/arpi/opt/perl5/perls/perl-5.32.0/bin'
hint=recommended
useposix=true
d_sigaction=define
useithreads=define
usemultiplicity=define
use64bitint=define
use64bitall=define
uselongdouble=undef
usemymalloc=n
default_inc_excludes_dot=define
bincompat5005=undef
Compiler:
cc='cc'
ccflags ='-D_REENTRANT -D_GNU_SOURCE -fwrapv -fno-strict-aliasing -pipe -fstack-protector-strong -I/usr/local/include -D_LARGEFILE_SOURCE -D_FILE_OFFSET_BITS=64'
optimize='-O2'
cppflags='-D_REENTRANT -D_GNU_SOURCE -fwrapv -fno-strict-aliasing -pipe -fstack-protector-strong -I/usr/local/include'
ccversion=''
gccversion='9.3.0'
gccosandvers=''
intsize=4
longsize=8
ptrsize=8
doublesize=8
byteorder=12345678
doublekind=3
d_longlong=define
longlongsize=8
d_longdbl=define
longdblsize=16
longdblkind=3
ivtype='long'
ivsize=8
nvtype='double'
nvsize=8
Off_t='off_t'
lseeksize=8
alignbytes=8
prototype=define
Linker and Libraries:
ld='cc'
ldflags =' -fstack-protector-strong -L/usr/local/lib'
libpth=/usr/local/lib /usr/include/x86_64-linux-gnu /usr/lib /lib/x86_64-linux-gnu /lib/../lib /usr/lib/x86_64-linux-gnu /usr/lib/../lib /lib
libs=-lpthread -lnsl -ldl -lm -lcrypt -lutil -lc
perllibs=-lpthread -lnsl -ldl -lm -lcrypt -lutil -lc
libc=libc-2.31.so
so=so
useshrplib=true
libperl=libperl.so
gnulibc_version='2.31'
Dynamic Linking:
dlsrc=dl_dlopen.xs
dlext=so
d_dlsymun=undef
ccdlflags='-Wl,-E -Wl,-rpath,/home/arpi/opt/perl5/perls/perl-5.32.0/lib/5.32.0/x86_64-linux-thread-multi/CORE'
cccdlflags='-fPIC'
lddlflags='-shared -O2 -L/usr/local/lib -fstack-protector-strong'
Characteristics of this binary (from libperl):
Compile-time options:
HAS_TIMES
MULTIPLICITY
PERLIO_LAYERS
PERL_COPY_ON_WRITE
PERL_DONT_CREATE_GVSV
PERL_IMPLICIT_CONTEXT
PERL_MALLOC_WRAP
PERL_OP_PARENT
PERL_PRESERVE_IVUV
USE_64_BIT_ALL
USE_64_BIT_INT
USE_ITHREADS
USE_LARGE_FILES
USE_LOCALE
USE_LOCALE_COLLATE
USE_LOCALE_CTYPE
USE_LOCALE_NUMERIC
USE_LOCALE_TIME
USE_PERLIO
USE_PERL_ATOF
USE_REENTRANT_API
USE_SITECUSTOMIZE
USE_THREAD_SAFE_LOCALE
Built under linux
Compiled at Jul 5 2020 09:35:38
%ENV:
PERLBREW_HOME="/home/arpi/.perlbrew"
PERLBREW_MANPATH="/home/arpi/opt/perl5/perls/stable/man"
PERLBREW_PATH="/home/arpi/opt/perl5/bin:/home/arpi/opt/perl5/perls/stable/bin"
PERLBREW_PERL="stable"
PERLBREW_ROOT="/home/arpi/opt/perl5"
PERLBREW_SHELLRC_VERSION="0.88"
PERLBREW_VERSION="0.88"
@INC:
/home/arpi/opt/perl5/perls/perl-5.32.0/lib/site_perl/5.32.0/x86_64-linux-thread-multi
/home/arpi/opt/perl5/perls/perl-5.32.0/lib/site_perl/5.32.0
/home/arpi/opt/perl5/perls/perl-5.32.0/lib/5.32.0/x86_64-linux-thread-multi
/home/arpi/opt/perl5/perls/perl-5.32.0/lib/5.32.0