Git-Wrapper-Plus v0.004011 Perl 5 v5.34.1 RC1 x86_64-linux-thread-multi

Status
Pass
From
Andreas J. König (ANDK)
Dist
Git-Wrapper-Plus v0.004011
Platform
Perl 5 v5.34.1 RC1 x86_64-linux-thread-multi
Date
2022-03-05 03:24:39
ID
ca7185da-9c33-11ec-899c-8f079ca1ffe7
This distribution has been tested as part of the CPAN Testers
project, supporting the Perl programming language.  See
http://wiki.cpantesters.org/ for more information or email
questions to cpan-testers-discuss@perl.org


--
Dear Kent Fredric (PAUSE Custodial Account),

This is a computer-generated report for Git-Wrapper-Plus-0.004011
on perl 5.34.1, created by CPAN-Reporter-1.2018.

Thank you for uploading your work to CPAN.  Congratulations!
All tests were successful.

Sections of this report:

    * Tester comments
    * Program output
    * Prerequisites
    * Environment and other context

------------------------------
TESTER COMMENTS
------------------------------

Additional comments from tester:

this report is from an automated smoke testing program
and was not reviewed by a human for accuracy

------------------------------
PROGRAM OUTPUT
------------------------------

Output from '/usr/bin/make test':

PERL_DL_NONLAZY=1 "/tmp/basesmoker-reloperl-9FLL/bin/perl" "-MExtUtils::Command::MM" "-MTest::Harness" "-e" "undef *Test::Harness::Switches; test_harness(0, 'blib/lib', 'blib/arch')" t/*.t t/00-compile/*.t t/branches/*.t t/plus/*.t t/refs/*.t t/tags/*.t
t/00-compile/lib_Git_Wrapper_Plus_Branches_pm.t ................. ok
t/00-compile/lib_Git_Wrapper_Plus_pm.t .......................... ok
t/00-compile/lib_Git_Wrapper_Plus_Ref_Branch_pm.t ............... ok
t/00-compile/lib_Git_Wrapper_Plus_Ref_pm.t ...................... ok
t/00-compile/lib_Git_Wrapper_Plus_Ref_Tag_pm.t .................. ok
t/00-compile/lib_Git_Wrapper_Plus_Refs_pm.t ..................... ok
t/00-compile/lib_Git_Wrapper_Plus_Support_Arguments_pm.t ........ ok
t/00-compile/lib_Git_Wrapper_Plus_Support_Behaviors_pm.t ........ ok
t/00-compile/lib_Git_Wrapper_Plus_Support_Commands_pm.t ......... ok
t/00-compile/lib_Git_Wrapper_Plus_Support_pm.t .................. ok
t/00-compile/lib_Git_Wrapper_Plus_Support_Range_pm.t ............ ok
t/00-compile/lib_Git_Wrapper_Plus_Support_RangeDictionary_pm.t .. ok
t/00-compile/lib_Git_Wrapper_Plus_Support_RangeSet_pm.t ......... ok
t/00-compile/lib_Git_Wrapper_Plus_Tags_pm.t ..................... ok
t/00-compile/lib_Git_Wrapper_Plus_Tester_pm.t ................... ok
t/00-compile/lib_Git_Wrapper_Plus_Util_pm.t ..................... ok
t/00-compile/lib_Git_Wrapper_Plus_Versions_pm.t ................. ok
# 
#      arguments supported   | cat-file -e
#      behaviors supported   | 2-arg-cat-file, add-updates-index, can-checkout-detached
#       commands supported   | cat-file, commit-tree, for-each-ref, init, init-db, ls-remote, peek-remote, read-tree
#                            | show-diff, update-index, write-tree
#       commands unsupported | update-cache
t/00-report-git-support.t ....................................... ok
# Git Version: 2.35.1
# Git is >= 2.0
t/00-report-git-version.t ....................................... ok
# 
# Versions for all modules listed in MYMETA.json (including optional ones):
# 
# === Configure Requires ===
# 
#     Module              Want Have
#     ------------------- ---- ----
#     ExtUtils::MakeMaker  any 7.64
# 
# === Configure Recommends ===
# 
#     Module              Want Have
#     ------------------- ---- ----
#     ExtUtils::MakeMaker 7.00 7.64
# 
# === Build Requires ===
# 
#     Module              Want Have
#     ------------------- ---- ----
#     ExtUtils::MakeMaker  any 7.64
# 
# === Test Requires ===
# 
#     Module              Want     Have
#     ------------------- ---- --------
#     ExtUtils::MakeMaker  any     7.64
#     File::Spec           any     3.80
#     Test::Fatal          any    0.016
#     Test::More           any 1.302189
#     Test::Requires       any     0.11
# 
# === Test Recommends ===
# 
#     Module                  Want     Have
#     ------------------- -------- --------
#     CPAN::Meta          2.120900 2.150010
#     ExtUtils::MakeMaker     7.00     7.64
#     Test::More              0.99 1.302189
# 
# === Runtime Requires ===
# 
#     Module                     Want     Have
#     -------------------------- ---- --------
#     Carp                        any     1.52
#     Git::Wrapper                any    0.048
#     Moo                         any 2.005004
#     Path::Tiny                  any    0.122
#     Scalar::Util                any     1.61
#     Sort::Versions              any     1.62
#     Sub::Exporter::Progressive  any 0.001013
#     Try::Tiny                   any     0.31
#     strict                      any     1.12
#     warnings                    any     1.51
# 
# === Runtime Recommends ===
# 
#     Module         Want     Have
#     ---------- -------- --------
#     Moo        1.000008 2.005004
#     Path::Tiny    0.058    0.122
# 
t/00-report-prereqs.t ........................................... ok
t/branches/basic.t .............................................. ok
t/plus/basic.t .................................................. ok
t/plus/path-class-constructor.t ................................. ok
t/plus/path-tiny-constructor.t .................................. ok
t/refs/basic_branches.t ......................................... ok
t/refs/basic_tags.t ............................................. ok
t/tags/basic.t .................................................. ok
All tests successful.
Files=27, Tests=63,  3 wallclock secs ( 0.05 usr  0.09 sys +  1.53 cusr  0.98 csys =  2.65 CPU)
Result: PASS

------------------------------
PREREQUISITES
------------------------------

Prerequisite modules loaded:

requires:

    Module                     Need     Have    
    -------------------------- -------- --------
    Carp                       0        1.52    
    Git::Wrapper               0        0.048   
    Moo                        0        2.005004
    Path::Tiny                 0        0.122   
    perl                       5.006    5.034001
    Scalar::Util               0        1.61    
    Sort::Versions             0        1.62    
    strict                     0        1.12    
    Sub::Exporter::Progressive 0        0.001013
    Try::Tiny                  0        0.31    
    warnings                   0        1.51    

build_requires:

    Module                     Need     Have    
    -------------------------- -------- --------
    ExtUtils::MakeMaker        0        7.64    
    File::Spec                 0        3.80    
    Test::Fatal                0        0.016   
    Test::More                 0        1.302189
    Test::Requires             0        0.11    

configure_requires:

    Module                     Need     Have    
    -------------------------- -------- --------
    ExtUtils::MakeMaker        0        7.64    
    perl                       5.006    5.034001

opt_requires:

    Module                     Need     Have    
    -------------------------- -------- --------
    Moo                        1.000008 2.005004
    Path::Tiny                 0.058    0.122   


------------------------------
ENVIRONMENT AND OTHER CONTEXT
------------------------------

Environment variables:

    AUTOMATED_TESTING = 1
    LANG = en_US.UTF-8
    PATH = /home/sand/bin:/usr/local/bin:/usr/bin:/bin:/usr/games:/usr/local/perl/bin:/usr/X11/bin:/sbin:/usr/sbin
    PERL5LIB = 
    PERL5OPT = 
    PERL5_CPANPLUS_IS_RUNNING = 1082786
    PERL5_CPAN_IS_RUNNING = 1082786
    PERL_CANARY_STABILITY_NOPROMPT = 1
    PERL_MM_USE_DEFAULT = 1
    PERL_USE_UNSAFE_INC = 1
    SHELL = /usr/bin/zsh
    TERM = screen

Perl special variables (and OS-specific diagnostics, for MSWin32):

    $^X = /tmp/basesmoker-reloperl-9FLL/bin/perl
    $UID/$EUID = 1005 / 1005
    $GID = 1005 1005
    $EGID = 1005 1005

Perl module toolchain versions installed:

    Module              Have    
    ------------------- --------
    CPAN                2.33    
    CPAN::Meta          2.150010
    Cwd                 3.80    
    ExtUtils::CBuilder  0.280236
    ExtUtils::Command   7.64    
    ExtUtils::Install   2.20    
    ExtUtils::MakeMaker 7.64    
    ExtUtils::Manifest  1.73    
    ExtUtils::ParseXS   3.43    
    File::Spec          3.80    
    JSON                4.05    
    JSON::PP            4.07    
    Module::Build       0.4231  
    Module::Signature   0.88    
    Parse::CPAN::Meta   2.150010
    Test::Harness       3.43    
    Test::More          1.302189
    YAML                1.30    
    YAML::Syck          1.34    
    version             0.9929  


--

Summary of my perl5 (revision 5 version 34 subversion 1) configuration:
  Commit id: f53b4397a92bf48a5dd7b2ce75ae5f2de4be9254
  Platform:
    osname=linux
    osvers=5.15.0-2-amd64
    archname=x86_64-linux-thread-multi
    uname='linux k93msid 5.15.0-2-amd64 #1 smp debian 5.15.5-2 (2021-12-18) x86_64 gnulinux '
    config_args='-Dprefix=/home/sand/src/perl/repoperls/installed-perls/host/k93msid/v5.34.1-RC1/1e0c -Dmyhostname=k93msid -Dinstallusrbinperl=n -Uversiononly -Dusedevel -des -Ui_db -Dlibswanted=cl pthread socket inet nsl gdbm dbm malloc dl ld sun m crypt sec util c cposix posix ucb BSD gdbm_compat -Duseithreads -Uuselongdouble -DEBUGGING=-g'
    hint=recommended
    useposix=true
    d_sigaction=define
    useithreads=define
    usemultiplicity=define
    use64bitint=define
    use64bitall=define
    uselongdouble=undef
    usemymalloc=n
    default_inc_excludes_dot=define
  Compiler:
    cc='cc'
    ccflags ='-D_REENTRANT -D_GNU_SOURCE -fwrapv -fno-strict-aliasing -pipe -fstack-protector-strong -I/usr/local/include -D_LARGEFILE_SOURCE -D_FILE_OFFSET_BITS=64 -D_FORTIFY_SOURCE=2'
    optimize='-O2 -g'
    cppflags='-D_REENTRANT -D_GNU_SOURCE -fwrapv -fno-strict-aliasing -pipe -fstack-protector-strong -I/usr/local/include'
    ccversion=''
    gccversion='11.2.0'
    gccosandvers=''
    intsize=4
    longsize=8
    ptrsize=8
    doublesize=8
    byteorder=12345678
    doublekind=3
    d_longlong=define
    longlongsize=8
    d_longdbl=define
    longdblsize=16
    longdblkind=3
    ivtype='long'
    ivsize=8
    nvtype='double'
    nvsize=8
    Off_t='off_t'
    lseeksize=8
    alignbytes=8
    prototype=define
  Linker and Libraries:
    ld='cc'
    ldflags =' -fstack-protector-strong -L/usr/local/lib'
    libpth=/usr/local/lib /usr/lib/x86_64-linux-gnu /usr/lib /lib/x86_64-linux-gnu /lib
    libs=-lpthread -lnsl -ldl -lm -lcrypt -lutil -lc
    perllibs=-lpthread -lnsl -ldl -lm -lcrypt -lutil -lc
    libc=libc-2.33.so
    so=so
    useshrplib=false
    libperl=libperl.a
    gnulibc_version='2.33'
  Dynamic Linking:
    dlsrc=dl_dlopen.xs
    dlext=so
    d_dlsymun=undef
    ccdlflags='-Wl,-E'
    cccdlflags='-fPIC'
    lddlflags='-shared -O2 -g -L/usr/local/lib -fstack-protector-strong'


Characteristics of this binary (from libperl): 
  Compile-time options:
    HAS_TIMES
    MULTIPLICITY
    PERLIO_LAYERS
    PERL_COPY_ON_WRITE
    PERL_DONT_CREATE_GVSV
    PERL_IMPLICIT_CONTEXT
    PERL_MALLOC_WRAP
    PERL_OP_PARENT
    PERL_PRESERVE_IVUV
    PERL_USE_DEVEL
    USE_64_BIT_ALL
    USE_64_BIT_INT
    USE_ITHREADS
    USE_LARGE_FILES
    USE_LOCALE
    USE_LOCALE_COLLATE
    USE_LOCALE_CTYPE
    USE_LOCALE_NUMERIC
    USE_LOCALE_TIME
    USE_PERLIO
    USE_PERL_ATOF
    USE_REENTRANT_API
    USE_THREAD_SAFE_LOCALE
  Locally applied patches:
    RC1
  Built under linux
  Compiled at Feb 27 2022 16:59:04
  %ENV:
    PERL5LIB=""
    PERL5OPT=""
    PERL5_CPANPLUS_IS_RUNNING="1082786"
    PERL5_CPAN_IS_RUNNING="1082786"
    PERL_CANARY_STABILITY_NOPROMPT="1"
    PERL_MM_USE_DEFAULT="1"
    PERL_USE_UNSAFE_INC="1"
  @INC:
    /home/sand/src/perl/repoperls/installed-perls/host/k93msid/v5.34.1-RC1/1e0c/lib/site_perl/5.34.1/x86_64-linux-thread-multi
    /home/sand/src/perl/repoperls/installed-perls/host/k93msid/v5.34.1-RC1/1e0c/lib/site_perl/5.34.1
    /home/sand/src/perl/repoperls/installed-perls/host/k93msid/v5.34.1-RC1/1e0c/lib/5.34.1/x86_64-linux-thread-multi
    /home/sand/src/perl/repoperls/installed-perls/host/k93msid/v5.34.1-RC1/1e0c/lib/5.34.1
    .