Report for Module-Install-ReadmeFromPod-0.30

Back
From: metabase:user:320bfe00-2aae-11df-837a-5e0a49663a4f
Subject: PASS Module-Install-ReadmeFromPod-0.30 v5.20.2 GNU/Linux
Date: 2017-03-29T18:01:53Z

This distribution has been tested as part of the CPAN Testers
project, supporting the Perl programming language.  See
http://wiki.cpantesters.org/ for more information or email
questions to cpan-testers-discuss@perl.org


--
Dear Chris Williams,

This is a computer-generated report for Module-Install-ReadmeFromPod-0.30
on perl 5.20.2, created by CPAN-Reporter-1.2018.

Thank you for uploading your work to CPAN.  Congratulations!
All tests were successful.

Sections of this report:

    * Tester comments
    * Program output
    * Prerequisites
    * Environment and other context

------------------------------
TESTER COMMENTS
------------------------------

Additional comments from tester:

this report is from an automated smoke testing program
and was not reviewed by a human for accuracy

------------------------------
PROGRAM OUTPUT
------------------------------

Output from '/usr/bin/make test':

PERL_DL_NONLAZY=1 "/home/sand/src/perl/repoperls/installed-perls/host/k93msid/v5.20.2/d2d1/bin/perl" "-MExtUtils::Command::MM" "-MTest::Harness" "-e" "undef *Test::Harness::Switches; test_harness(0, 'inc', 'blib/lib', 'blib/arch')" t/*.t
# Testing Module::Install::ReadmeFromPod 0.30, Perl 5.020002, /home/sand/src/perl/repoperls/installed-perls/host/k93msid/v5.20.2/d2d1/bin/perl
t/00_compile.t ....... ok
# Subroutine Module::Install::ReadmeFromPod::io redefined at /home/sand/src/perl/repoperls/installed-perls/host/k93msid/v5.20.2/d2d1/lib/site_perl/5.20.2/IO/All/Base.pm line 24.
# include /tmp/loop_over_bdir-6062-adPBHr/Module-Install-ReadmeFromPod-0.30-0/dist/qSodkKnaCa/inc/Module/Install.pm
# include inc/Module/Install/Metadata.pm
# include inc/Module/Install/Base.pm
# include inc/Module/Install/ReadmeFromPod.pm
# readme_from README.pm to txt
# readme_from README.pm to htm
# Subroutine Module::Install::ReadmeFromPod::io redefined at /home/sand/src/perl/repoperls/installed-perls/host/k93msid/v5.20.2/d2d1/lib/site_perl/5.20.2/IO/All/Base.pm line 24.
# Subroutine Module::Install::ReadmeFromPod::io redefined at /home/sand/src/perl/repoperls/installed-perls/host/k93msid/v5.20.2/d2d1/lib/site_perl/5.20.2/IO/All/Base.pm line 24.
# readme_from README.pm to man
# readme_from README.pm to md
# include inc/Module/Install/WriteAll.pm
# include inc/Module/Install/Makefile.pm
# include inc/Module/Install/Win32.pm
# include inc/Module/Install/Can.pm
# include inc/Module/Install/Fetch.pm
# Generating a Unix-style Makefile
# Writing Makefile for Foo::Bar
# Writing MYMETA.yml and MYMETA.json
# Writing META.yml
# make[1]: Entering directory '/tmp/loop_over_bdir-6062-adPBHr/Module-Install-ReadmeFromPod-0.30-0/dist/qSodkKnaCa'
# rm -f \
#   Bar.bso Bar.def \
#   Bar.exp Bar.x \
#    blib/arch/auto/Foo/Bar/extralibs.all \
#   blib/arch/auto/Foo/Bar/extralibs.ld Makefile.aperl \
#   *.a *.o \
#   *perl.core MYMETA.json \
#   MYMETA.yml blibdirs.ts \
#   core core.*perl.*.? \
#   core.[0-9] core.[0-9][0-9] \
#   core.[0-9][0-9][0-9] core.[0-9][0-9][0-9][0-9] \
#   core.[0-9][0-9][0-9][0-9][0-9] libBar.def \
#   mon.out perl \
#   perl perl.exe \
#   perlmain.c pm_to_blib \
#   pm_to_blib.ts so_locations \
#   tmon.out 
# rm -rf \
#   blib 
# mv Makefile Makefile.old > /dev/null 2>&1
# rm -f \
#   Makefile Makefile.old 
# rm -rf \
#   Foo-Bar-0.01 MYMETA.yml 
# rm -f Foo-Bar-0.01.tar.gz
# rm -f MANIFEST.bak _build
# "/home/sand/src/perl/repoperls/installed-perls/host/k93msid/v5.20.2/d2d1/bin/perl" "-Iinc" "-Ilib" "-MModule::Install::Admin" -e "remove_meta()"
# rm -rf inc
# "/home/sand/src/perl/repoperls/installed-perls/host/k93msid/v5.20.2/d2d1/bin/perl" "-Iinc" "-MExtUtils::Manifest=fullcheck" -e fullcheck
# Problem opening MANIFEST: No such file or directory at /home/sand/src/perl/repoperls/installed-perls/host/k93msid/v5.20.2/d2d1/lib/site_perl/5.20.2/ExtUtils/Manifest.pm line 349.
# Problem opening MANIFEST: No such file or directory at /home/sand/src/perl/repoperls/installed-perls/host/k93msid/v5.20.2/d2d1/lib/site_perl/5.20.2/ExtUtils/Manifest.pm line 349.
# Not in MANIFEST: Makefile.PL
# Not in MANIFEST: README
# Not in MANIFEST: README.1
# Not in MANIFEST: README.htm
# Not in MANIFEST: README.md
# Not in MANIFEST: README.pm
# make[1]: Leaving directory '/tmp/loop_over_bdir-6062-adPBHr/Module-Install-ReadmeFromPod-0.30-0/dist/qSodkKnaCa'
t/01_dist.t .......... ok
# Subroutine Module::Install::ReadmeFromPod::io redefined at /home/sand/src/perl/repoperls/installed-perls/host/k93msid/v5.20.2/d2d1/lib/site_perl/5.20.2/IO/All/Base.pm line 24.
# include /tmp/loop_over_bdir-6062-adPBHr/Module-Install-ReadmeFromPod-0.30-0/dist/QsZAh8ZdN7/inc/Module/Install.pm
# include inc/Module/Install/Metadata.pm
# include inc/Module/Install/Base.pm
# include inc/Module/Install/ReadmeFromPod.pm
# readme_from README.pm to text
# include inc/Module/Install/Makefile.pm
# readme_from README.pm to html
# Subroutine Module::Install::ReadmeFromPod::io redefined at /home/sand/src/perl/repoperls/installed-perls/host/k93msid/v5.20.2/d2d1/lib/site_perl/5.20.2/IO/All/Base.pm line 24.
# Subroutine Module::Install::ReadmeFromPod::io redefined at /home/sand/src/perl/repoperls/installed-perls/host/k93msid/v5.20.2/d2d1/lib/site_perl/5.20.2/IO/All/Base.pm line 24.
# readme_from README.pm to md
# readme_from README.pm to man
# include inc/Module/Install/WriteAll.pm
# include inc/Module/Install/Win32.pm
# include inc/Module/Install/Can.pm
# include inc/Module/Install/Fetch.pm
# Generating a Unix-style Makefile
# Writing Makefile for Foo::Bar
# Writing MYMETA.yml and MYMETA.json
# Writing META.yml
# make[1]: Entering directory '/tmp/loop_over_bdir-6062-adPBHr/Module-Install-ReadmeFromPod-0.30-0/dist/QsZAh8ZdN7'
# rm -f \
#   Bar.bso Bar.def \
#   Bar.exp Bar.x \
#    blib/arch/auto/Foo/Bar/extralibs.all \
#   blib/arch/auto/Foo/Bar/extralibs.ld Makefile.aperl \
#   *.a *.o \
#   *perl.core MYMETA.json \
#   MYMETA.yml blibdirs.ts \
#   core core.*perl.*.? \
#   core.[0-9] core.[0-9][0-9] \
#   core.[0-9][0-9][0-9] core.[0-9][0-9][0-9][0-9] \
#   core.[0-9][0-9][0-9][0-9][0-9] libBar.def \
#   mon.out perl \
#   perl perl.exe \
#   perlmain.c pm_to_blib \
#   pm_to_blib.ts so_locations \
#   tmon.out 
# rm -rf \
#   Foobar.htm Foobar.man \
#   Foobar.md Foobar.txt \
#   blib 
# mv Makefile Makefile.old > /dev/null 2>&1
# rm -f \
#   Makefile Makefile.old 
# rm -rf \
#   Foo-Bar-0.01 MYMETA.yml 
# rm -f Foo-Bar-0.01.tar.gz
# rm -f MANIFEST.bak _build
# "/home/sand/src/perl/repoperls/installed-perls/host/k93msid/v5.20.2/d2d1/bin/perl" "-Iinc" "-Ilib" "-MModule::Install::Admin" -e "remove_meta()"
# rm -rf inc
# "/home/sand/src/perl/repoperls/installed-perls/host/k93msid/v5.20.2/d2d1/bin/perl" "-Iinc" "-MExtUtils::Manifest=fullcheck" -e fullcheck
# Problem opening MANIFEST: No such file or directory at /home/sand/src/perl/repoperls/installed-perls/host/k93msid/v5.20.2/d2d1/lib/site_perl/5.20.2/ExtUtils/Manifest.pm line 349.
# Problem opening MANIFEST: No such file or directory at /home/sand/src/perl/repoperls/installed-perls/host/k93msid/v5.20.2/d2d1/lib/site_perl/5.20.2/ExtUtils/Manifest.pm line 349.
# Not in MANIFEST: Makefile.PL
# Not in MANIFEST: README.pm
# make[1]: Leaving directory '/tmp/loop_over_bdir-6062-adPBHr/Module-Install-ReadmeFromPod-0.30-0/dist/QsZAh8ZdN7'
t/02_clean.t ......... ok
# include /tmp/loop_over_bdir-6062-adPBHr/Module-Install-ReadmeFromPod-0.30-0/dist/1iBdOucwdm/inc/Module/Install.pm
# include inc/Module/Install/Metadata.pm
# include inc/Module/Install/Base.pm
# include inc/Module/Install/Makefile.pm
# include inc/Module/Install/ReadmeFromPod.pm
# readme_from README.pm to txt
# include inc/Module/Install/WriteAll.pm
# include inc/Module/Install/Win32.pm
# include inc/Module/Install/Can.pm
# include inc/Module/Install/Fetch.pm
# Generating a Unix-style Makefile
# Writing Makefile for Foo::Bar
# Writing MYMETA.yml and MYMETA.json
# Writing META.yml
# make[1]: Entering directory '/tmp/loop_over_bdir-6062-adPBHr/Module-Install-ReadmeFromPod-0.30-0/dist/1iBdOucwdm'
# rm -f \
#   Bar.bso Bar.def \
#   Bar.exp Bar.x \
#    blib/arch/auto/Foo/Bar/extralibs.all \
#   blib/arch/auto/Foo/Bar/extralibs.ld Makefile.aperl \
#   *.a *.o \
#   *perl.core MYMETA.json \
#   MYMETA.yml blibdirs.ts \
#   core core.*perl.*.? \
#   core.[0-9] core.[0-9][0-9] \
#   core.[0-9][0-9][0-9] core.[0-9][0-9][0-9][0-9] \
#   core.[0-9][0-9][0-9][0-9][0-9] libBar.def \
#   mon.out perl \
#   perl perl.exe \
#   perlmain.c pm_to_blib \
#   pm_to_blib.ts so_locations \
#   tmon.out 
# rm -rf \
#   blib 
# mv Makefile Makefile.old > /dev/null 2>&1
# rm -f \
#   Makefile Makefile.old 
# rm -rf \
#   Foo-Bar-0.01 MYMETA.yml 
# rm -f Foo-Bar-0.01.tar.gz
# rm -f MANIFEST.bak _build
# "/home/sand/src/perl/repoperls/installed-perls/host/k93msid/v5.20.2/d2d1/bin/perl" "-Iinc" "-Ilib" "-MModule::Install::Admin" -e "remove_meta()"
# rm -rf inc
# "/home/sand/src/perl/repoperls/installed-perls/host/k93msid/v5.20.2/d2d1/bin/perl" "-Iinc" "-MExtUtils::Manifest=fullcheck" -e fullcheck
# Problem opening MANIFEST: No such file or directory at /home/sand/src/perl/repoperls/installed-perls/host/k93msid/v5.20.2/d2d1/lib/site_perl/5.20.2/ExtUtils/Manifest.pm line 349.
# Problem opening MANIFEST: No such file or directory at /home/sand/src/perl/repoperls/installed-perls/host/k93msid/v5.20.2/d2d1/lib/site_perl/5.20.2/ExtUtils/Manifest.pm line 349.
# Not in MANIFEST: Makefile.PL
# Not in MANIFEST: README
# Not in MANIFEST: README.pm
# make[1]: Leaving directory '/tmp/loop_over_bdir-6062-adPBHr/Module-Install-ReadmeFromPod-0.30-0/dist/1iBdOucwdm'
t/03_all_from.t ...... ok
t/04_distpdf.t ....... skipped: App::pod2pdf not installed
t/05_cleanpdf.t ...... skipped: App::pod2pdf not installed
t/99_pod.t ........... ok
t/99_pod_coverage.t .. ok
All tests successful.
Files=8, Tests=33,  5 wallclock secs ( 0.03 usr  0.05 sys +  2.10 cusr  0.53 csys =  2.71 CPU)
Result: PASS

------------------------------
PREREQUISITES
------------------------------

Prerequisite modules loaded:

requires:

    Module              Need  Have    
    ------------------- ----- --------
    IO::All             0     0.86    
    Module::Install     1     1.17    
    perl                5.006 5.020002
    Pod::Html           0     1.21    
    Pod::Man            0     2.28    
    Pod::Markdown       2     3.005   
    Pod::Text           3.13  3.18    

build_requires:

    Module              Need  Have    
    ------------------- ----- --------
    Capture::Tiny       0.05  0.46    
    ExtUtils::MakeMaker 6.59  7.24    
    File::Temp          0     0.2304  
    Test::InDistDir     0     1.112071
    Test::More          0.47  1.302078

configure_requires:

    Module              Need  Have    
    ------------------- ----- --------
    ExtUtils::MakeMaker 6.59  7.24    


------------------------------
ENVIRONMENT AND OTHER CONTEXT
------------------------------

Environment variables:

    AUTOMATED_TESTING = 1
    LANG = en_US.UTF-8
    PATH = /home/sand/bin:/usr/local/bin:/usr/bin:/bin:/usr/games:/usr/local/perl/bin:/usr/X11/bin:/sbin:/usr/sbin
    PERL5LIB = 
    PERL5OPT = 
    PERL5_CPANPLUS_IS_RUNNING = 6073
    PERL5_CPAN_IS_RUNNING = 6073
    PERL_CANARY_STABILITY_NOPROMPT = 1
    PERL_MM_USE_DEFAULT = 1
    PERL_USE_UNSAFE_INC = 1
    SHELL = /usr/bin/zsh
    TERM = screen

Perl special variables (and OS-specific diagnostics, for MSWin32):

    $^X = /home/sand/src/perl/repoperls/installed-perls/host/k93msid/v5.20.2/d2d1/bin/perl
    $UID/$EUID = 1005 / 1005
    $GID = 1005 1005
    $EGID = 1005 1005

Perl module toolchain versions installed:

    Module              Have    
    ------------------- --------
    CPAN                2.17    
    CPAN::Meta          2.150010
    Cwd                 3.62    
    ExtUtils::CBuilder  0.280224
    ExtUtils::Command   7.24    
    ExtUtils::Install   1.67    
    ExtUtils::MakeMaker 7.24    
    ExtUtils::Manifest  1.70    
    ExtUtils::ParseXS   3.24    
    File::Spec          3.62    
    JSON                2.90    
    JSON::PP            2.27400 
    Module::Build       0.4220  
    Module::Signature   0.81    
    Parse::CPAN::Meta   2.150010
    Test::Harness       3.38    
    Test::More          1.302078
    YAML                1.23    
    YAML::Syck          1.29    
    version             0.9909  


--

Summary of my perl5 (revision 5 version 20 subversion 2) configuration:
  Derived from: c05ce579b6dae0f955ff8922469d49f95f4bf6fd
  Platform:
    osname=linux, osvers=4.9.0-2-amd64, archname=x86_64-linux
    uname='linux k93msid 4.9.0-2-amd64 #1 smp debian 4.9.13-1 (2017-02-27) x86_64 gnulinux '
    config_args='-Dprefix=/home/sand/src/perl/repoperls/installed-perls/host/k93msid/v5.20.2/d2d1 -Dmyhostname=k93msid -Dinstallusrbinperl=n -Uversiononly -Dusedevel -des -Ui_db -Dlibswanted=cl pthread socket inet nsl gdbm dbm malloc dl ld sun m crypt sec util c cposix posix ucb BSD gdbm_compat -Uuseithreads -Uuselongdouble -DDEBUGGING=both'
    hint=recommended, useposix=true, d_sigaction=define
    useithreads=undef, usemultiplicity=undef
    use64bitint=define, use64bitall=define, uselongdouble=undef
    usemymalloc=n, bincompat5005=undef
  Compiler:
    cc='cc', ccflags ='-fwrapv -DDEBUGGING -fno-strict-aliasing -pipe -fstack-protector -I/usr/local/include -D_LARGEFILE_SOURCE -D_FILE_OFFSET_BITS=64',
    optimize='-O2 -g',
    cppflags='-fwrapv -DDEBUGGING -fno-strict-aliasing -pipe -fstack-protector -I/usr/local/include'
    ccversion='', gccversion='6.3.0 20170316', gccosandvers=''
    intsize=4, longsize=8, ptrsize=8, doublesize=8, byteorder=12345678
    d_longlong=define, longlongsize=8, d_longdbl=define, longdblsize=16
    ivtype='long', ivsize=8, nvtype='double', nvsize=8, Off_t='off_t', lseeksize=8
    alignbytes=8, prototype=define
  Linker and Libraries:
    ld='cc', ldflags =' -fstack-protector -L/usr/local/lib'
    libpth=/usr/local/lib /usr/lib/gcc/x86_64-linux-gnu/6/include-fixed /usr/include/x86_64-linux-gnu /usr/lib /lib/x86_64-linux-gnu /lib/../lib /usr/lib/x86_64-linux-gnu /usr/lib/../lib /lib
    libs=-lpthread -lnsl -ldl -lm -lcrypt -lutil -lc
    perllibs=-lpthread -lnsl -ldl -lm -lcrypt -lutil -lc
    libc=libc-2.24.so, so=so, useshrplib=false, libperl=libperl.a
    gnulibc_version='2.24'
  Dynamic Linking:
    dlsrc=dl_dlopen.xs, dlext=so, d_dlsymun=undef, ccdlflags='-Wl,-E'
    cccdlflags='-fPIC', lddlflags='-shared -O2 -g -L/usr/local/lib -fstack-protector'


Characteristics of this binary (from libperl): 
  Compile-time options: DEBUGGING HAS_TIMES PERLIO_LAYERS
                        PERL_DONT_CREATE_GVSV
                        PERL_HASH_FUNC_ONE_AT_A_TIME_HARD PERL_MALLOC_WRAP
                        PERL_NEW_COPY_ON_WRITE PERL_PRESERVE_IVUV
                        PERL_USE_DEVEL USE_64_BIT_ALL USE_64_BIT_INT
                        USE_LARGE_FILES USE_LOCALE USE_LOCALE_COLLATE
                        USE_LOCALE_CTYPE USE_LOCALE_NUMERIC USE_PERLIO
                        USE_PERL_ATOF
  Locally applied patches:
	uncommitted-changes
  Built under linux
  Compiled at Mar 19 2017 15:05:26
  %ENV:
    PERL5LIB=""
    PERL5OPT=""
    PERL5_CPANPLUS_IS_RUNNING="6073"
    PERL5_CPAN_IS_RUNNING="6073"
    PERL_CANARY_STABILITY_NOPROMPT="1"
    PERL_MM_USE_DEFAULT="1"
    PERL_USE_UNSAFE_INC="1"
  @INC:
    /home/sand/src/perl/repoperls/installed-perls/host/k93msid/v5.20.2/d2d1/lib/site_perl/5.20.2/x86_64-linux
    /home/sand/src/perl/repoperls/installed-perls/host/k93msid/v5.20.2/d2d1/lib/site_perl/5.20.2
    /home/sand/src/perl/repoperls/installed-perls/host/k93msid/v5.20.2/d2d1/lib/5.20.2/x86_64-linux
    /home/sand/src/perl/repoperls/installed-perls/host/k93msid/v5.20.2/d2d1/lib/5.20.2
    .