Nodejs-Util v0.012 Perl 5 v5.30.0 x86_64-linux-thread-multi

Status
Pass
From
Chris Hills
Dist
Nodejs-Util v0.012
Platform
Perl 5 v5.30.0 x86_64-linux-thread-multi
Date
2019-05-31 23:28:26
ID
ca28e4d6-83fb-11e9-a5da-ce1955ae972f
This distribution has been tested as part of the CPAN Testers
project, supporting the Perl programming language.  See
http://wiki.cpantesters.org/ for more information or email
questions to cpan-testers-discuss@perl.org


--
Dear PERLANCAR,

This is a computer-generated report for Nodejs-Util-0.012
on perl 5.30.0, created by App::cpanminus::reporter 0.17 (1.7044).

Thank you for uploading your work to CPAN.  Congratulations!
All tests were successful.

Sections of this report:

    * Tester comments
    * Program output
    * Prerequisites
    * Environment and other context

------------------------------
TESTER COMMENTS
------------------------------

Additional comments from tester:

none provided

------------------------------
PROGRAM OUTPUT
------------------------------

Output from '':

Building and testing Nodejs-Util-0.012
cp lib/Nodejs/Util.pm blib/lib/Nodejs/Util.pm
Manifying 1 pod document
PERL_DL_NONLAZY=1 "/home/chaz/.local/local/perl-5.30.0/bin/perl" "-MExtUtils::Command::MM" "-MTest::Harness" "-e" "undef *Test::Harness::Switches; test_harness(0, 'blib/lib', 'blib/arch')" t/*.t
t/00-compile.t ........... ok
t/01-basic.t ............. ok
t/author-critic.t ........ skipped: these tests are for testing by the author
t/author-pod-coverage.t .. skipped: these tests are for testing by the author
t/author-pod-syntax.t .... skipped: these tests are for testing by the author
t/release-rinci.t ........ skipped: these tests are for release candidate testing
All tests successful.
Files=6, Tests=3,  0 wallclock secs ( 0.03 usr  0.00 sys +  0.22 cusr  0.04 csys =  0.29 CPU)
Result: PASS

------------------------------
PREREQUISITES
------------------------------

Prerequisite modules loaded:

    No requirements found

------------------------------
ENVIRONMENT AND OTHER CONTEXT
------------------------------

Environment variables:

    LANG = en_US.UTF-8
    PATH = /home/chaz/.local/bin:/home/chaz/bin:/home/chaz/perl5/bin:/home/chaz/perl5/bin:/usr/local/bin:/usr/bin:/usr/local/sbin:/usr/sbin:/home/chaz/.composer/vendor/bin:/home/chaz/.local/bin:/home/chaz/bin
    PERL5LIB = /home/chaz/perl5/lib/perl5:/home/chaz/perl5/lib/perl5
    PERL_LOCAL_LIB_ROOT = /home/chaz/perl5:/home/chaz/perl5
    PERL_MB_OPT = --install_base "/home/chaz/perl5"
    PERL_MM_OPT = INSTALL_BASE=/home/chaz/perl5
    SHELL = /bin/bash
    TERM = screen-256color
    TMPDIR = /home/chaz/.local/tmp/tmux

Perl special variables (and OS-specific diagnostics, for MSWin32):

    EGID = 1000 10 1000
    EUID = 1000
    EXECUTABLE_NAME = /home/chaz/.local/local/perl-5.30.0/bin/perl
    GID = 1000 10 1000
    UID = 1000

Perl module toolchain versions installed:

    Module              Have    
    ------------------- --------
    CPAN                2.27    
    CPAN::Meta          2.150010
    Cwd                 3.78    
    ExtUtils::CBuilder  0.280231
    ExtUtils::Command   7.34    
    ExtUtils::Install   2.14    
    ExtUtils::MakeMaker 7.34    
    ExtUtils::Manifest  1.72    
    ExtUtils::ParseXS   3.40    
    File::Spec          3.78    
    JSON                4.02    
    JSON::PP            4.02    
    Module::Build       0.4229  
    Module::Signature   n/a     
    Parse::CPAN::Meta   2.150010
    Test::Harness       3.42    
    Test::More          1.302162
    YAML                1.29    
    YAML::Syck          n/a     
    version             0.9924  


--

Summary of my perl5 (revision 5 version 30 subversion 0) configuration:
   
  Platform:
    osname=linux
    osvers=3.10.0-957.12.2.el7.x86_64
    archname=x86_64-linux-thread-multi
    uname='linux vps-5.chaz6.com 3.10.0-957.12.2.el7.x86_64 #1 smp tue may 14 21:24:32 utc 2019 x86_64 x86_64 x86_64 gnulinux '
    config_args='-des -Dprefix=/home/chaz/.local/local/perl-5.30.0 -Duseshrplib -Dusethreads'
    hint=recommended
    useposix=true
    d_sigaction=define
    useithreads=define
    usemultiplicity=define
    use64bitint=define
    use64bitall=define
    uselongdouble=undef
    usemymalloc=n
    default_inc_excludes_dot=define
    bincompat5005=undef
  Compiler:
    cc='cc'
    ccflags ='-D_REENTRANT -D_GNU_SOURCE -fwrapv -fno-strict-aliasing -pipe -fstack-protector-strong -I/usr/local/include -D_LARGEFILE_SOURCE -D_FILE_OFFSET_BITS=64 -D_FORTIFY_SOURCE=2'
    optimize='-O2'
    cppflags='-D_REENTRANT -D_GNU_SOURCE -fwrapv -fno-strict-aliasing -pipe -fstack-protector-strong -I/usr/local/include'
    ccversion=''
    gccversion='4.8.5 20150623 (Red Hat 4.8.5-36)'
    gccosandvers=''
    intsize=4
    longsize=8
    ptrsize=8
    doublesize=8
    byteorder=12345678
    doublekind=3
    d_longlong=define
    longlongsize=8
    d_longdbl=define
    longdblsize=16
    longdblkind=3
    ivtype='long'
    ivsize=8
    nvtype='double'
    nvsize=8
    Off_t='off_t'
    lseeksize=8
    alignbytes=8
    prototype=define
  Linker and Libraries:
    ld='cc'
    ldflags =' -fstack-protector-strong -L/usr/local/lib'
    libpth=/usr/local/lib /usr/lib /lib/../lib64 /usr/lib/../lib64 /lib /lib64 /usr/lib64 /usr/local/lib64
    libs=-lpthread -lnsl -lgdbm -ldb -ldl -lm -lcrypt -lutil -lc -lgdbm_compat
    perllibs=-lpthread -lnsl -ldl -lm -lcrypt -lutil -lc
    libc=libc-2.17.so
    so=so
    useshrplib=true
    libperl=libperl.so
    gnulibc_version='2.17'
  Dynamic Linking:
    dlsrc=dl_dlopen.xs
    dlext=so
    d_dlsymun=undef
    ccdlflags='-Wl,-E -Wl,-rpath,/home/chaz/.local/local/perl-5.30.0/lib/5.30.0/x86_64-linux-thread-multi/CORE'
    cccdlflags='-fPIC'
    lddlflags='-shared -O2 -L/usr/local/lib -fstack-protector-strong'


Characteristics of this binary (from libperl): 
  Compile-time options:
    HAS_TIMES
    MULTIPLICITY
    PERLIO_LAYERS
    PERL_COPY_ON_WRITE
    PERL_DONT_CREATE_GVSV
    PERL_IMPLICIT_CONTEXT
    PERL_MALLOC_WRAP
    PERL_OP_PARENT
    PERL_PRESERVE_IVUV
    USE_64_BIT_ALL
    USE_64_BIT_INT
    USE_ITHREADS
    USE_LARGE_FILES
    USE_LOCALE
    USE_LOCALE_COLLATE
    USE_LOCALE_CTYPE
    USE_LOCALE_NUMERIC
    USE_LOCALE_TIME
    USE_PERLIO
    USE_PERL_ATOF
    USE_REENTRANT_API
    USE_THREAD_SAFE_LOCALE
  Built under linux
  Compiled at May 22 2019 16:56:39
  %ENV:
    PERL5LIB="/home/chaz/perl5/lib/perl5:/home/chaz/perl5/lib/perl5"
    PERL_LOCAL_LIB_ROOT="/home/chaz/perl5:/home/chaz/perl5"
    PERL_MB_OPT="--install_base "/home/chaz/perl5""
    PERL_MM_OPT="INSTALL_BASE=/home/chaz/perl5"
  @INC:
    /home/chaz/perl5/lib/perl5/x86_64-linux-thread-multi
    /home/chaz/perl5/lib/perl5
    /home/chaz/perl5/lib/perl5/x86_64-linux-thread-multi
    /home/chaz/perl5/lib/perl5
    /home/chaz/.local/local/perl-5.30.0/lib/site_perl/5.30.0/x86_64-linux-thread-multi
    /home/chaz/.local/local/perl-5.30.0/lib/site_perl/5.30.0
    /home/chaz/.local/local/perl-5.30.0/lib/5.30.0/x86_64-linux-thread-multi
    /home/chaz/.local/local/perl-5.30.0/lib/5.30.0