XML-Rabbit v0.4.1 Perl 5 v5.37.2 x86_64-linux
- Status
- Pass
- From
- Nedzad Hrnjica (NHRNJICA)
- Dist
-
XML-Rabbit v0.4.1
- Platform
- Perl 5 v5.37.2 x86_64-linux
- Date
- 2022-08-02 16:33:07
- ID
- ca1bde46-1280-11ed-b3b1-127e1cf29030
This distribution has been tested as part of the CPAN Testers
project, supporting the Perl programming language. See
http://wiki.cpantesters.org/ for more information or email
questions to cpan-testers-discuss@perl.org
--
Dear ROBINS,
This is a computer-generated report for XML-Rabbit-0.4.1
on perl 5.37.2, created by App::cpanminus::reporter 0.17 (1.7046).
Thank you for uploading your work to CPAN. Congratulations!
All tests were successful.
Sections of this report:
* Tester comments
* Program output
* Prerequisites
* Environment and other context
------------------------------
TESTER COMMENTS
------------------------------
Additional comments from tester:
none provided
------------------------------
PROGRAM OUTPUT
------------------------------
Output from '':
Building and testing XML-Rabbit-0.4.1
cp lib/XML/Rabbit/Root.pm blib/lib/XML/Rabbit/Root.pm
cp lib/XML/Rabbit/Trait/XPathValueList.pm blib/lib/XML/Rabbit/Trait/XPathValueList.pm
cp lib/XML/Rabbit/Trait/XPathObjectMap.pm blib/lib/XML/Rabbit/Trait/XPathObjectMap.pm
cp lib/XML/Rabbit/Trait/XPathValueMap.pm blib/lib/XML/Rabbit/Trait/XPathValueMap.pm
cp lib/XML/Rabbit/Role/Document.pm blib/lib/XML/Rabbit/Role/Document.pm
cp lib/XML/Rabbit/Sugar.pm blib/lib/XML/Rabbit/Sugar.pm
cp lib/XML/Rabbit/Trait/XPathValue.pm blib/lib/XML/Rabbit/Trait/XPathValue.pm
cp lib/XML/Rabbit/Role/Node.pm blib/lib/XML/Rabbit/Role/Node.pm
cp lib/XML/Rabbit/Trait/XPath.pm blib/lib/XML/Rabbit/Trait/XPath.pm
cp lib/XML/Rabbit.pm blib/lib/XML/Rabbit.pm
cp lib/XML/Rabbit/Node.pm blib/lib/XML/Rabbit/Node.pm
cp lib/XML/Rabbit/Trait/XPathObjectList.pm blib/lib/XML/Rabbit/Trait/XPathObjectList.pm
cp lib/XML/Rabbit/RootNode.pm blib/lib/XML/Rabbit/RootNode.pm
cp lib/XML/Rabbit/Trait/XPathObject.pm blib/lib/XML/Rabbit/Trait/XPathObject.pm
cp bin/dump_xml_structure blib/script/dump_xml_structure
"/home/liveapp/.plenv/versions/5.37.2/bin/perl5.37.2" -MExtUtils::MY -e 'MY->fixin(shift)' -- blib/script/dump_xml_structure
cp bin/xpath_extract blib/script/xpath_extract
"/home/liveapp/.plenv/versions/5.37.2/bin/perl5.37.2" -MExtUtils::MY -e 'MY->fixin(shift)' -- blib/script/xpath_extract
Manifying 2 pod documents
Manifying 14 pod documents
PERL_DL_NONLAZY=1 "/home/liveapp/.plenv/versions/5.37.2/bin/perl5.37.2" "-MExtUtils::Command::MM" "-MTest::Harness" "-e" "undef *Test::Harness::Switches; test_harness(0, 'blib/lib', 'blib/arch')" t/*.t t/regression/*.t
# Testing XML::Rabbit 0.4.1, Perl 5.037002, /home/liveapp/.plenv/versions/5.37.2/bin/perl5.37.2
t/00_load.t ........................... ok
# Detected libxml2 version: 20910
t/01_libxml_version.t ................. ok
t/10_parse_xhtml_fh.t ................. ok
t/10_parse_xhtml_file.t ............... ok
t/10_parse_xhtml_string.t ............. ok
t/11_parse_imsqti.t ................... ok
t/12_xpath_value_map.t ................ ok
t/13_xpath_object_map.t ............... ok
t/14_sugar_parse_xhtml_file.t ......... ok
t/15_sugar_parse_imsqti.t ............. ok
t/16_sugar_xpath_value_map.t .......... ok
t/17_sugar_xpath_object_map.t ......... ok
t/18_dump_xml.t ....................... ok
t/19_RT_71815.t ....................... ok
t/20_RT_81519.t ....................... ok
t/author-critic.t ..................... skipped: these tests are for testing by the author
t/regression/node_attribute_traits.t .. ok
t/release-eol.t ....................... skipped: these tests are for release candidate testing
t/release-kwalitee.t .................. skipped: these tests are for release candidate testing
t/release-no-tabs.t ................... skipped: these tests are for release candidate testing
t/release-pod-coverage.t .............. skipped: these tests are for release candidate testing
t/release-pod-syntax.t ................ skipped: these tests are for release candidate testing
All tests successful.
Files=22, Tests=165, 6 wallclock secs ( 0.07 usr 0.02 sys + 4.60 cusr 0.53 csys = 5.22 CPU)
Result: PASS
------------------------------
PREREQUISITES
------------------------------
Prerequisite modules loaded:
No requirements found
------------------------------
ENVIRONMENT AND OTHER CONTEXT
------------------------------
Environment variables:
LANG = C.UTF-8
PATH = /home/liveapp/.plenv/versions/5.37.2/bin:/home/liveapp/.plenv/libexec:/home/liveapp/.plenv/plugins/perl-build/bin:/home/liveapp/cpantesters.new/5.37.2/local/bin:/home/liveapp/.plenv/shims:/home/liveapp/.plenv/bin:/usr/local/sbin:/usr/local/bin:/usr/sbin:/usr/bin:/sbin:/bin:/usr/games:/usr/local/games:/snap/bin
PERL5LIB = /home/liveapp/cpantesters.new/5.37.2/local/lib/perl5
SHELL = /bin/bash
TERM = xterm-256color
Perl special variables (and OS-specific diagnostics, for MSWin32):
EGID = 1001 27 1001
EUID = 1001
EXECUTABLE_NAME = /home/liveapp/.plenv/versions/5.37.2/bin/perl5.37.2
GID = 1001 27 1001
UID = 1001
Perl module toolchain versions installed:
Module Have
------------------- --------
CPAN 2.34
CPAN::Meta 2.150010
Cwd 3.86
ExtUtils::CBuilder 0.280237
ExtUtils::Command 7.64
ExtUtils::Install 2.20
ExtUtils::MakeMaker 7.64
ExtUtils::Manifest 1.73
ExtUtils::ParseXS 3.45
File::Spec 3.86
JSON 4.07
JSON::PP 4.10
Module::Build 0.4231
Module::Signature n/a
Parse::CPAN::Meta 2.150010
Test::Harness 3.44
Test::More 1.302191
YAML 1.30
YAML::Syck 1.34
version 0.9929
--
Summary of my perl5 (revision 5 version 37 subversion 2) configuration:
Platform:
osname=linux
osvers=5.4.0-91-generic
archname=x86_64-linux
uname='linux supremeadmin 5.4.0-91-generic #102-ubuntu smp fri nov 5 16:31:28 utc 2021 x86_64 x86_64 x86_64 gnulinux '
config_args='-Dprefix=/home/liveapp/.plenv/versions/5.37.2 -de -Dversiononly -Dusedevel -A'eval:scriptdir=/home/liveapp/.plenv/versions/5.37.2/bin''
hint=recommended
useposix=true
d_sigaction=define
useithreads=undef
usemultiplicity=undef
use64bitint=define
use64bitall=define
uselongdouble=undef
usemymalloc=n
default_inc_excludes_dot=define
Compiler:
cc='cc'
ccflags ='-fwrapv -fno-strict-aliasing -pipe -fstack-protector-strong -I/usr/local/include -D_LARGEFILE_SOURCE -D_FILE_OFFSET_BITS=64'
optimize='-O2'
cppflags='-fwrapv -fno-strict-aliasing -pipe -fstack-protector-strong -I/usr/local/include'
ccversion=''
gccversion='9.4.0'
gccosandvers=''
intsize=4
longsize=8
ptrsize=8
doublesize=8
byteorder=12345678
doublekind=3
d_longlong=define
longlongsize=8
d_longdbl=define
longdblsize=16
longdblkind=3
ivtype='long'
ivsize=8
nvtype='double'
nvsize=8
Off_t='off_t'
lseeksize=8
alignbytes=8
prototype=define
Linker and Libraries:
ld='cc'
ldflags =' -fstack-protector-strong -L/usr/local/lib'
libpth=/usr/local/lib /usr/lib/x86_64-linux-gnu /usr/lib /lib/x86_64-linux-gnu /lib
libs=-lpthread -lnsl -ldl -lm -lcrypt -lutil -lc
perllibs=-lpthread -lnsl -ldl -lm -lcrypt -lutil -lc
libc=libc-2.31.so
so=so
useshrplib=false
libperl=libperl.a
gnulibc_version='2.31'
Dynamic Linking:
dlsrc=dl_dlopen.xs
dlext=so
d_dlsymun=undef
ccdlflags='-Wl,-E'
cccdlflags='-fPIC'
lddlflags='-shared -O2 -L/usr/local/lib -fstack-protector-strong'
Characteristics of this binary (from libperl):
Compile-time options:
HAS_TIMES
PERLIO_LAYERS
PERL_COPY_ON_WRITE
PERL_DONT_CREATE_GVSV
PERL_MALLOC_WRAP
PERL_OP_PARENT
PERL_PRESERVE_IVUV
PERL_USE_DEVEL
PERL_USE_SAFE_PUTENV
USE_64_BIT_ALL
USE_64_BIT_INT
USE_LARGE_FILES
USE_LOCALE
USE_LOCALE_COLLATE
USE_LOCALE_CTYPE
USE_LOCALE_NUMERIC
USE_LOCALE_TIME
USE_PERLIO
USE_PERL_ATOF
Built under linux
Compiled at Jul 24 2022 00:52:09
%ENV:
PERL5LIB="/home/liveapp/cpantesters.new/5.37.2/local/lib/perl5"
@INC:
/home/liveapp/cpantesters.new/5.37.2/local/lib/perl5
/home/liveapp/.plenv/versions/5.37.2/lib/perl5/site_perl/5.37.2/x86_64-linux
/home/liveapp/.plenv/versions/5.37.2/lib/perl5/site_perl/5.37.2
/home/liveapp/.plenv/versions/5.37.2/lib/perl5/5.37.2/x86_64-linux
/home/liveapp/.plenv/versions/5.37.2/lib/perl5/5.37.2