Module-Faker v0.027 Perl 5 v5.40.0 x86_64-linux

Status
Pass
From
Dan Book
Dist
Module-Faker v0.027
Platform
Perl 5 v5.40.0 x86_64-linux
Date
2024-06-11 06:06:48
ID
ca14a38e-27b8-11ef-a222-d33ec2ee0a1a
This distribution has been tested as part of the CPAN Testers
project, supporting the Perl programming language.  See
http://wiki.cpantesters.org/ for more information or email
questions to cpan-testers-discuss@perl.org


--
Dear RJBS,

This is a computer-generated report for Module-Faker-0.027
on perl 5.40.0, created by App::cpanminus::reporter 0.21 (1.7047).

Thank you for uploading your work to CPAN.  Congratulations!
All tests were successful.

Sections of this report:

    * Tester comments
    * Program output
    * Prerequisites
    * Environment and other context

------------------------------
TESTER COMMENTS
------------------------------

Additional comments from tester:

none provided

------------------------------
PROGRAM OUTPUT
------------------------------

Output from '':

Building and testing Module-Faker-0.027
cp lib/Data/Fake/CPAN.pm blib/lib/Data/Fake/CPAN.pm
cp lib/Module/Faker/Heavy.pm blib/lib/Module/Faker/Heavy.pm
cp lib/Module/Faker/Module.pm blib/lib/Module/Faker/Module.pm
cp lib/Module/Faker/Package.pm blib/lib/Module/Faker/Package.pm
cp lib/Module/Faker.pm blib/lib/Module/Faker.pm
cp lib/Module/Faker/Dist.pm blib/lib/Module/Faker/Dist.pm
cp lib/Module/Faker/File.pm blib/lib/Module/Faker/File.pm
cp lib/Module/Faker/Appendix.pm blib/lib/Module/Faker/Appendix.pm
cp bin/module-faker blib/script/module-faker
"/home/grinnz/.plenv/versions/5.40.0/bin/perl5.40.0" -MExtUtils::MY -e 'MY->fixin(shift)' -- blib/script/module-faker
Manifying 1 pod document
Manifying 8 pod documents
PERL_DL_NONLAZY=1 "/home/grinnz/.plenv/versions/5.40.0/bin/perl5.40.0" "-MExtUtils::Command::MM" "-MTest::Harness" "-e" "undef *Test::Harness::Switches; test_harness(0, 'blib/lib', 'blib/arch')" t/*.t
# 
# Versions for all modules listed in MYMETA.json (including optional ones):
# 
# === Configure Requires ===
# 
#     Module              Want Have
#     ------------------- ---- ----
#     ExtUtils::MakeMaker 6.78 7.70
# 
# === Build Requires ===
# 
#     Module              Want Have
#     ------------------- ---- ----
#     ExtUtils::MakeMaker  any 7.70
# 
# === Test Requires ===
# 
#     Module              Want     Have
#     ------------------- ---- --------
#     Cwd                  any     3.90
#     ExtUtils::MakeMaker  any     7.70
#     File::Spec           any     3.90
#     JSON::PP             any     4.16
#     Path::Class         0.06     0.37
#     Test::More          0.96 1.302199
# 
# === Test Recommends ===
# 
#     Module         Want     Have
#     ---------- -------- --------
#     CPAN::Meta 2.120900 2.150010
# 
# === Runtime Requires ===
# 
#     Module                           Want     Have
#     ---------------------------- -------- --------
#     Archive::Any::Create              any     0.03
#     Archive::Any::Create::Zip         any    undef
#     CPAN::DistnameInfo                any     0.12
#     CPAN::Meta                   2.130880 2.150010
#     CPAN::Meta::Converter             any 2.150010
#     CPAN::Meta::Merge                 any 2.150010
#     CPAN::Meta::Requirements          any    2.143
#     Carp                              any     1.54
#     Data::Fake                        any    0.006
#     Data::Fake::Names                 any    0.006
#     Data::OptList                     any    0.114
#     Encode                            any     3.21
#     File::Next                        any     1.18
#     File::Path                        any     2.18
#     File::Temp                        any   0.2311
#     Getopt::Long::Descriptive         any    0.114
#     List::Util                        any     1.63
#     Moose                            0.33   2.2207
#     Moose::Role                       any   2.2207
#     Moose::Util::TypeConstraints      any   2.2207
#     Parse::CPAN::Meta              1.4401 2.150010
#     Path::Class                      0.06     0.37
#     Storable                          any     3.32
#     Sub::Exporter                     any    0.991
#     Text::Template                    any     1.61
#     experimental                      any    0.032
#     parent                            any    0.241
#     perl                         5.020000 5.040000
#     strict                            any     1.13
#     warnings                          any     1.70
# 
t/00-report-prereqs.t .. ok
t/append-utf8.t ........ ok
t/append.t ............. ok
t/basic.t .............. ok
t/makefile-pl.t ........ ok
t/meta-files.t ......... ok
t/omit-file.t .......... ok
t/provide-order.t ...... ok
t/requires.t ........... ok
All tests successful.
Files=9, Tests=34,  4 wallclock secs ( 0.05 usr  0.03 sys +  3.24 cusr  0.40 csys =  3.72 CPU)
Result: PASS

------------------------------
PREREQUISITES
------------------------------

Prerequisite modules loaded:

    No requirements found

------------------------------
ENVIRONMENT AND OTHER CONTEXT
------------------------------

Environment variables:

    LANG = en_US.UTF-8
    PATH = /home/grinnz/.plenv/versions/5.40.0/bin:/home/grinnz/.plenv/libexec:/home/grinnz/.plenv/plugins/perl-build/bin:/home/grinnz/.plenv/plugins/plenv-contrib/bin:/home/grinnz/.plenv/shims:/home/grinnz/.plenv/bin:/usr/local/cuda/bin:/home/grinnz/.plenv/bin:/usr/local/cuda/bin:/usr/local/bin:/usr/bin:/usr/local/sbin:/usr/sbin
    SHELL = /usr/bin/fish
    TERM = tmux-256color

Perl special variables (and OS-specific diagnostics, for MSWin32):

    EGID = 1000 10 26 135 974 1000
    EUID = 1000
    EXECUTABLE_NAME = /home/grinnz/.plenv/versions/5.40.0/bin/perl5.40.0
    GID = 1000 10 26 135 974 1000
    UID = 1000

Perl module toolchain versions installed:

    Module              Have    
    ------------------- --------
    CPAN                2.36    
    CPAN::Meta          2.150010
    Cwd                 3.90    
    ExtUtils::CBuilder  0.280240
    ExtUtils::Command   7.70    
    ExtUtils::Install   2.22    
    ExtUtils::MakeMaker 7.70    
    ExtUtils::Manifest  1.75    
    ExtUtils::ParseXS   3.51    
    File::Spec          3.90    
    JSON                4.10    
    JSON::PP            4.16    
    Module::Build       0.4234  
    Module::Signature   0.88    
    Parse::CPAN::Meta   2.150010
    Test::Harness       3.48    
    Test::More          1.302199
    YAML                1.31    
    YAML::Syck          1.34    
    version             0.9930  


--

Summary of my perl5 (revision 5 version 40 subversion 0) configuration:
   
  Platform:
    osname=linux
    osvers=6.3.8-200.fc38.x86_64
    archname=x86_64-linux
    uname='linux home.grinnz.com 6.3.8-200.fc38.x86_64 #1 smp preempt_dynamic thu jun 15 02:15:40 utc 2023 x86_64 gnulinux '
    config_args='-Dprefix=/home/grinnz/.plenv/versions/5.40.0 -de -Dversiononly -A'eval:scriptdir=/home/grinnz/.plenv/versions/5.40.0/bin''
    hint=recommended
    useposix=true
    d_sigaction=define
    useithreads=undef
    usemultiplicity=undef
    use64bitint=define
    use64bitall=define
    uselongdouble=undef
    usemymalloc=n
    default_inc_excludes_dot=define
  Compiler:
    cc='cc'
    ccflags ='-fwrapv -fno-strict-aliasing -pipe -fstack-protector-strong -I/usr/local/include -D_LARGEFILE_SOURCE -D_FILE_OFFSET_BITS=64 -D_FORTIFY_SOURCE=2'
    optimize='-O2'
    cppflags='-fwrapv -fno-strict-aliasing -pipe -fstack-protector-strong -I/usr/local/include'
    ccversion=''
    gccversion='13.2.1 20231011 (Red Hat 13.2.1-4)'
    gccosandvers=''
    intsize=4
    longsize=8
    ptrsize=8
    doublesize=8
    byteorder=12345678
    doublekind=3
    d_longlong=define
    longlongsize=8
    d_longdbl=define
    longdblsize=16
    longdblkind=3
    ivtype='long'
    ivsize=8
    nvtype='double'
    nvsize=8
    Off_t='off_t'
    lseeksize=8
    alignbytes=8
    prototype=define
  Linker and Libraries:
    ld='cc'
    ldflags =' -fstack-protector-strong -L/usr/local/lib'
    libpth=/usr/local/lib /usr/lib /usr/lib64 /usr/local/lib64
    libs=-lpthread -lgdbm -ldb -ldl -lm -lcrypt -lutil -lc -lgdbm_compat
    perllibs=-lpthread -ldl -lm -lcrypt -lutil -lc
    libc=/lib/../lib64/libc.so.6
    so=so
    useshrplib=false
    libperl=libperl.a
    gnulibc_version='2.37'
  Dynamic Linking:
    dlsrc=dl_dlopen.xs
    dlext=so
    d_dlsymun=undef
    ccdlflags='-Wl,-E'
    cccdlflags='-fPIC'
    lddlflags='-shared -O2 -L/usr/local/lib -fstack-protector-strong'


Characteristics of this binary (from libperl): 
  Compile-time options:
    HAS_LONG_DOUBLE
    HAS_STRTOLD
    HAS_TIMES
    PERLIO_LAYERS
    PERL_COPY_ON_WRITE
    PERL_DONT_CREATE_GVSV
    PERL_HASH_FUNC_SIPHASH13
    PERL_HASH_USE_SBOX32
    PERL_MALLOC_WRAP
    PERL_OP_PARENT
    PERL_PRESERVE_IVUV
    PERL_USE_SAFE_PUTENV
    USE_64_BIT_ALL
    USE_64_BIT_INT
    USE_LARGE_FILES
    USE_LOCALE
    USE_LOCALE_COLLATE
    USE_LOCALE_CTYPE
    USE_LOCALE_NUMERIC
    USE_LOCALE_TIME
    USE_PERLIO
    USE_PERL_ATOF
  Built under linux
  Compiled at Jun 10 2024 21:21:12
  @INC:
    /home/grinnz/.plenv/versions/5.40.0/lib/perl5/site_perl/5.40.0/x86_64-linux
    /home/grinnz/.plenv/versions/5.40.0/lib/perl5/site_perl/5.40.0
    /home/grinnz/.plenv/versions/5.40.0/lib/perl5/5.40.0/x86_64-linux
    /home/grinnz/.plenv/versions/5.40.0/lib/perl5/5.40.0