Report for Music-Tag-0.4103

Back
From: metabase:user:3215efbe-2aae-11df-837a-5e0a49663a4f
Subject: PASS Music-Tag-0.4103 v5.14.1 GNU/Linux
Date: 2011-11-21T00:50:21Z

This distribution has been tested as part of the CPAN Testers
project, supporting the Perl programming language.  See
http://wiki.cpantesters.org/ for more information or email
questions to cpan-testers-discuss@perl.org


--
Dear Edward J. Allen III,

This is a computer-generated report for Music-Tag-0.4103
on perl 5.14.1, created by CPAN-Reporter-1.2002.

Thank you for uploading your work to CPAN.  Congratulations!
All tests were successful.

Sections of this report:

    * Tester comments
    * Program output
    * Prerequisites
    * Environment and other context

------------------------------
TESTER COMMENTS
------------------------------

Additional comments from tester:

this report is from an automated smoke testing program
and was not reviewed by a human for accuracy

------------------------------
PROGRAM OUTPUT
------------------------------

Output from '/usr/bin/make test':

PERL_DL_NONLAZY=1 /opt/perls/nothreads/perl-5.14.1/bin/perl "-MExtUtils::Command::MM" "-e" "test_harness(0, 'blib/lib', 'blib/arch')" t/*.t
t/1-general.t ........ ok
t/2-options.t ........ ok
Music::Tag::Auto Sorry, I can't find a plugin for /home/tf/.cpan/build/Music-Tag-0.4103-1dVsZO/t/fake.music at /home/tf/.cpan/build/Music-Tag-0.4103-1dVsZO/blib/lib/Music/Tag.pm line 146
t/3-auto.t ........... ok
t/5-generic.t ........ ok
t/6-unaccent.t ....... ok
t/97-pod.t ........... ok
t/98-pod-coverage.t .. ok
All tests successful.
Files=7, Tests=250, 37 wallclock secs ( 0.77 usr  0.13 sys + 33.74 cusr  0.60 csys = 35.24 CPU)
Result: PASS

------------------------------
PREREQUISITES
------------------------------

Prerequisite modules loaded:

requires:

    Module              Need   Have        
    ------------------- ------ ------------
    Config::Options     0.07   0.08        
    Data::Dumper        2      2.131       
    DateTimeX::Easy     0.088  0.089       
    Digest::SHA1        2.11   2.13        
    Encode              2.12   2.44        
    File::Copy          2      2.21        
    File::Slurp         1      9999.19     
    File::Spec          3.24   3.33        
  ! File::stat          1      broken      
    IO::Dir             1      1.08        
    IO::File            1.13   1.15        
    Locale::Country     2.07   3.16        
    Readonly            1      1.03        
    Scalar::Util        1.21   1.23        
    Test::More          0.1    1.005000_001
    Time::Local         1.1901 1.2000      

build_requires:

    Module              Need   Have        
    ------------------- ------ ------------
    ExtUtils::MakeMaker 0      6.63_02     

configure_requires:

    Module              Need   Have        
    ------------------- ------ ------------
    ExtUtils::MakeMaker 0      6.63_02     


------------------------------
ENVIRONMENT AND OTHER CONTEXT
------------------------------

Environment variables:

    AUTOMATED_TESTING = 1
    LANG = C
    PATH = /opt/perls/nothreads/perl-5.14.1/bin:/usr/local/bin:/usr/bin:/bin:/usr/local/games:/usr/games
    PERL5LIB = 
    PERL5OPT = 
    PERL5_CPANPLUS_IS_RUNNING = 22905
    PERL5_CPAN_IS_RUNNING = 22905
    PERL5_CPAN_IS_RUNNING_IN_RECURSION = 1254,22905
    PERL_CR_SMOKER_CURRENT = Music-Tag-0.4103
    PERL_EXTUTILS_AUTOINSTALL = --defaultdeps
    PERL_MM_USE_DEFAULT = 1
    SHELL = /bin/bash
    TERM = xterm

Perl special variables (and OS-specific diagnostics, for MSWin32):

    $^X = /opt/perls/nothreads/perl-5.14.1/bin/perl
    $UID/$EUID = 1000 / 1000
    $GID = 1000 24 25 27 29 30 44 46 1000
    $EGID = 1000 24 25 27 29 30 44 46 1000

Perl module toolchain versions installed:

    Module              Have        
    ------------------- ------------
    CPAN                1.9800      
    CPAN::Meta          2.112621    
    Cwd                 3.33        
    ExtUtils::CBuilder  0.280202    
    ExtUtils::Command   1.17        
    ExtUtils::Install   1.56        
    ExtUtils::MakeMaker 6.63_02     
    ExtUtils::Manifest  1.60        
    ExtUtils::ParseXS   3.05        
    File::Spec          3.33        
    JSON                2.27        
    JSON::PP            2.27008     
    Module::Build       0.39_01     
    Module::Signature   0.68        
    Parse::CPAN::Meta   1.4401      
    Test::Harness       3.23        
    Test::More          1.005000_001
    YAML                0.73        
    YAML::Syck          1.19        
    version             0.95        


--

Summary of my perl5 (revision 5 version 14 subversion 1) configuration:
   
  Platform:
    osname=linux, osvers=2.6.32-5-kirkwood, archname=armv5tel-linux
    uname='linux plugpc 2.6.32-5-kirkwood #1 tue mar 8 10:56:14 utc 2011 armv5tel gnulinux '
    config_args='-des -Dprefix=/opt/perls/nothreads/perl-5.14.1'
    hint=recommended, useposix=true, d_sigaction=define
    useithreads=undef, usemultiplicity=undef
    useperlio=define, d_sfio=undef, uselargefiles=define, usesocks=undef
    use64bitint=undef, use64bitall=undef, uselongdouble=undef
    usemymalloc=n, bincompat5005=undef
  Compiler:
    cc='cc', ccflags ='-fno-strict-aliasing -pipe -fstack-protector -I/usr/local/include -D_LARGEFILE_SOURCE -D_FILE_OFFSET_BITS=64',
    optimize='-O2',
    cppflags='-fno-strict-aliasing -pipe -fstack-protector -I/usr/local/include'
    ccversion='', gccversion='4.4.5', gccosandvers=''
    intsize=4, longsize=4, ptrsize=4, doublesize=8, byteorder=1234
    d_longlong=define, longlongsize=8, d_longdbl=define, longdblsize=8
    ivtype='long', ivsize=4, nvtype='double', nvsize=8, Off_t='off_t', lseeksize=8
    alignbytes=8, prototype=define
  Linker and Libraries:
    ld='cc', ldflags =' -fstack-protector -L/usr/local/lib'
    libpth=/usr/local/lib /lib /usr/lib /usr/lib/arm-linux-gnueabi
    libs=-lnsl -lgdbm -ldb -ldl -lm -lcrypt -lutil -lc -lgdbm_compat
    perllibs=-lnsl -ldl -lm -lcrypt -lutil -lc
    libc=/lib/libc-2.11.2.so, so=so, useshrplib=false, libperl=libperl.a
    gnulibc_version='2.11.2'
  Dynamic Linking:
    dlsrc=dl_dlopen.xs, dlext=so, d_dlsymun=undef, ccdlflags='-Wl,-E'
    cccdlflags='-fPIC', lddlflags='-shared -O2 -L/usr/local/lib -fstack-protector'


Characteristics of this binary (from libperl): 
  Compile-time options: PERL_DONT_CREATE_GVSV PERL_MALLOC_WRAP
                        PERL_PRESERVE_IVUV USE_LARGE_FILES USE_PERLIO
                        USE_PERL_ATOF
  Built under linux
  Compiled at Aug 15 2011 20:41:16
  %ENV:
    PERL5LIB=""
    PERL5OPT=""
    PERL5_CPANPLUS_IS_RUNNING="22905"
    PERL5_CPAN_IS_RUNNING="22905"
    PERL5_CPAN_IS_RUNNING_IN_RECURSION="1254,22905"
    PERL_CR_SMOKER_CURRENT="Music-Tag-0.4103"
    PERL_EXTUTILS_AUTOINSTALL="--defaultdeps"
    PERL_MM_USE_DEFAULT="1"
  @INC:
    /opt/perls/nothreads/perl-5.14.1/lib/site_perl/5.14.1/armv5tel-linux
    /opt/perls/nothreads/perl-5.14.1/lib/site_perl/5.14.1
    /opt/perls/nothreads/perl-5.14.1/lib/5.14.1/armv5tel-linux
    /opt/perls/nothreads/perl-5.14.1/lib/5.14.1
    .