XML-RSS v1.65 Perl 5 v5.22.0 amd64-freebsd
- Status
- Pass
- From
- Slaven Rezić
- Dist
-
XML-RSS v1.65
- Platform
- Perl 5 v5.22.0 amd64-freebsd
- Date
- 2025-02-24 03:09:41
- ID
- c9f338a6-f25c-11ef-b6ee-19f76d8775ea
This distribution has been tested as part of the CPAN Testers
project, supporting the Perl programming language. See
http://wiki.cpantesters.org/ for more information or email
questions to cpan-testers-discuss@perl.org
--
Dear Shlomi Fish,
This is a computer-generated report for XML-RSS-1.65
on perl 5.22.0, created by CPAN-Reporter-1.2019.
Thank you for uploading your work to CPAN. Congratulations!
All tests were successful.
Sections of this report:
* Tester comments
* Program output
* Prerequisites
* Environment and other context
------------------------------
TESTER COMMENTS
------------------------------
Additional comments from tester:
none provided
------------------------------
PROGRAM OUTPUT
------------------------------
Output from './Build test':
t/0.9-generate.t ...................... ok
t/0.9-parse.t ......................... ok
t/0.9-strict.t ........................ ok
t/0.91-parse.t ........................ ok
t/00-compile.t ........................ ok
t/1.0-gen-errors-on-missing-fields.t .. ok
t/1.0-generate.t ...................... ok
t/1.0-parse-2.t ....................... ok
t/1.0-parse-exotic.t .................. ok
t/1.0-parse.t ......................... ok
t/1.0-to-2.0.t ........................ ok
t/2.0-generate.t ...................... ok
t/2.0-modules.t ....................... ok
t/2.0-parse-2.t ....................... ok
t/2.0-parse-cloud.t ................... ok
t/2.0-parse-self.t .................... ok
t/2.0-parse.t ......................... ok
t/2.0-permalink.t ..................... ok
t/2.0-wo-title.t ...................... ok
t/add-item-insert-vs-append.t ......... ok
t/auto_add_modules.t .................. ok
t/charset1.t .......................... ok
t/empty-elements.t .................... ok
t/enclosures-multi.t .................. ok
t/enclosures.t ........................ ok
t/enclosures2.t ....................... ok
t/encode-output.t ..................... ok
t/encoding.t .......................... ok
t/guid-outside-item.t ................. ok
t/guid.t .............................. ok
t/load.t .............................. ok
t/render-upon-init.t .................. ok
t/rss2-gt-encoding.t .................. ok
t/rss2-nested-custom-tag.t ............ ok
t/save-while-in-taint-mode.t .......... ok
t/subcategory.t ....................... ok
t/test-generated-items.t .............. ok
t/version.t ........................... ok
t/xml-base.t .......................... ok
t/xml-header.t ........................ ok
All tests successful.
Files=40, Tests=461, 11 wallclock secs ( 0.12 usr 0.09 sys + 6.05 cusr 4.66 csys = 10.91 CPU)
Result: PASS
------------------------------
PREREQUISITES
------------------------------
Prerequisite modules loaded:
requires:
Module Need Have
------------------------ ----- --------
Carp 0 1.50
DateTime::Format::Mail 0 0.403
DateTime::Format::W3CDTF 0 0.07
HTML::Entities 0 3.78
perl 5.008 5.022000
strict 0 1.09
vars 0 1.03
warnings 0 1.32
XML::Parser 0 2.47
build_requires:
Module Need Have
------------------------ ----- --------
constant 0 1.33
File::Find 0 1.29
File::Spec 0 3.75
IO::Handle 0 1.55
IPC::Open3 0 1.18
Module::Build 0.28 0.4234
POSIX 0 1.53
Test::More 0.88 1.302209
configure_requires:
Module Need Have
------------------------ ----- --------
ExtUtils::MakeMaker 0 7.70
Module::Build 0.28 0.4234
------------------------------
ENVIRONMENT AND OTHER CONTEXT
------------------------------
Environment variables:
LC_ALL = de_DE.ISO8859-1
PATH = /usr/local/bin:/usr/bin:/bin:/usr/local/sbin:/usr/sbin:/sbin:/home/cpansand/bin/freebsd10.3:/home/cpansand/bin/sh:/home/cpansand/bin:/usr/games:/home/cpansand/devel:/home/eserte/src/srezic-misc/scripts
PERL5LIB =
PERL5OPT =
PERL5_CPANPLUS_IS_RUNNING = 31089
PERL5_CPAN_IS_RUNNING = 31089
PERL5_CPAN_IS_RUNNING_IN_RECURSION = 89981,31089
PERLDOC = -MPod::Perldoc::ToTextOverstrike
PERL_BATCH = yes
PERL_CANARY_STABILITY_NOPROMPT = 1
PERL_CPAN_REPORTER_CONFIG = /var/tmp/cpansmoker-1023/2025022322/cpanreporter_000_config.ini
PERL_EXTUTILS_AUTOINSTALL = --defaultdeps
PERL_USE_UNSAFE_INC = 1
SHELL = /usr/local/bin/zsh
TERM = screen
TMPDIR = /var/tmp/cpansmoker-1023/2025022322
Perl special variables (and OS-specific diagnostics, for MSWin32):
$^X = /usr/perl5.22.0p/bin/perl
$UID/$EUID = 1023 / 1023
$GID = 1023 1023
$EGID = 1023 1023
Perl module toolchain versions installed:
Module Have
------------------- --------
CPAN 2.37
CPAN::Meta 2.150010
Cwd 3.75
ExtUtils::CBuilder 0.280236
ExtUtils::Command 7.70
ExtUtils::Install 2.22
ExtUtils::MakeMaker 7.70
ExtUtils::Manifest 1.75
ExtUtils::ParseXS 3.51
File::Spec 3.75
JSON 4.10
JSON::PP 4.16
Module::Build 0.4234
Module::Signature 0.89
Parse::CPAN::Meta 2.150010
Test2 1.302209
Test::Harness 3.50
Test::More 1.302209
YAML 1.30
YAML::Syck 1.34
version 0.9933
--
Summary of my perl5 (revision 5 version 22 subversion 0) configuration:
Platform:
osname=freebsd, osvers=10.1-release, archname=amd64-freebsd
uname='freebsd cvrsnica-freebsd-101.herceg.de 10.1-release freebsd 10.1-release #0 r274401: tue nov 11 21:02:49 utc 2014 root@releng1.nyi.freebsd.org:usrobjusrsrcsysgeneric amd64 '
config_args='-ds -e -Dprefix=/usr/perl5.22.0p -Dcf_email=srezic@cpan.org'
hint=recommended, useposix=true, d_sigaction=define
useithreads=undef, usemultiplicity=undef
use64bitint=define, use64bitall=define, uselongdouble=undef
usemymalloc=n, bincompat5005=undef
Compiler:
cc='cc', ccflags ='-DHAS_FPSETMASK -DHAS_FLOATINGPOINT_H -fno-strict-aliasing -pipe -fstack-protector -I/usr/local/include -D_FORTIFY_SOURCE=2',
optimize='-O',
cppflags='-DHAS_FPSETMASK -DHAS_FLOATINGPOINT_H -fno-strict-aliasing -pipe -fstack-protector -I/usr/local/include'
ccversion='', gccversion='4.2.1 Compatible FreeBSD Clang 3.4.1 (tags/RELEASE_34/dot1-final 208032)', gccosandvers=''
intsize=4, longsize=8, ptrsize=8, doublesize=8, byteorder=12345678, doublekind=3
d_longlong=define, longlongsize=8, d_longdbl=define, longdblsize=16, longdblkind=3
ivtype='long', ivsize=8, nvtype='double', nvsize=8, Off_t='off_t', lseeksize=8
alignbytes=8, prototype=define
Linker and Libraries:
ld='cc', ldflags ='-pthread -Wl,-E -fstack-protector -L/usr/local/lib'
libpth=/usr/lib /usr/local/lib /usr/include/clang/3.4.1 /usr/lib
libs=-lpthread -lgdbm -lm -lcrypt -lutil -lc
perllibs=-lpthread -lm -lcrypt -lutil -lc
libc=, so=so, useshrplib=false, libperl=libperl.a
gnulibc_version=''
Dynamic Linking:
dlsrc=dl_dlopen.xs, dlext=so, d_dlsymun=undef, ccdlflags=' '
cccdlflags='-DPIC -fPIC', lddlflags='-shared -L/usr/local/lib -fstack-protector'
Characteristics of this binary (from libperl):
Compile-time options: HAS_TIMES PERLIO_LAYERS PERL_DONT_CREATE_GVSV
PERL_HASH_FUNC_ONE_AT_A_TIME_HARD PERL_MALLOC_WRAP
PERL_NEW_COPY_ON_WRITE PERL_PRESERVE_IVUV
USE_64_BIT_ALL USE_64_BIT_INT USE_LARGE_FILES
USE_LOCALE USE_LOCALE_COLLATE USE_LOCALE_CTYPE
USE_LOCALE_NUMERIC USE_LOCALE_TIME USE_PERLIO
USE_PERL_ATOF
Built under freebsd
Compiled at Jun 1 2015 20:19:01
%ENV:
PERL5LIB=""
PERL5OPT=""
PERL5_CPANPLUS_IS_RUNNING="31089"
PERL5_CPAN_IS_RUNNING="31089"
PERL5_CPAN_IS_RUNNING_IN_RECURSION="89981,31089"
PERLDOC="-MPod::Perldoc::ToTextOverstrike"
PERL_BATCH="yes"
PERL_CANARY_STABILITY_NOPROMPT="1"
PERL_CPAN_REPORTER_CONFIG="/var/tmp/cpansmoker-1023/2025022322/cpanreporter_000_config.ini"
PERL_EXTUTILS_AUTOINSTALL="--defaultdeps"
PERL_USE_UNSAFE_INC="1"
@INC:
/usr/perl5.22.0p/lib/site_perl/5.22.0/amd64-freebsd
/usr/perl5.22.0p/lib/site_perl/5.22.0
/usr/perl5.22.0p/lib/5.22.0/amd64-freebsd
/usr/perl5.22.0p/lib/5.22.0
.