Report for Error-Hierarchy-1.103530

Back
From: metabase:user:30ae4450-2aae-11df-837a-5e0a49663a4f
Subject: PASS Error-Hierarchy-1.103530 v5.16.2 
Date: 2012-12-24T12:58:51Z

This distribution has been tested as part of the CPAN Testers
project, supporting the Perl programming language.  See
http://wiki.cpantesters.org/ for more information or email
questions to cpan-testers-discuss@perl.org


--
Dear Marcel Gruenauer,

This is a computer-generated report for Error-Hierarchy-1.103530
on perl 5.16.2, created by CPAN-Reporter-1.2007.

Thank you for uploading your work to CPAN.  Congratulations!
All tests were successful.

Sections of this report:

    * Tester comments
    * Program output
    * Prerequisites
    * Environment and other context

------------------------------
TESTER COMMENTS
------------------------------

Additional comments from tester:

this report is from an automated smoke testing program
and was not reviewed by a human for accuracy

------------------------------
PROGRAM OUTPUT
------------------------------

Output from 'C:\strawberry5162\c\bin\dmake.exe test':

C:\strawberry5162\perl\bin\perl.exe "-MExtUtils::Command::MM" "-e" "test_harness(0, 'blib\lib', 'blib\arch')" t/*.t
t/00-compile.t ............... ok
# Testing with Perl 5.016002, C:\strawberry5162\perl\bin\perl.exe
#     Capture::Tiny version is 0.21
#     Carp version is 1.26
#     Class::Accessor version is 0.34
#     Class::Accessor::Complex version is 1.100880
#     Class::Trigger version is 0.14
#     Data::Container version is 1.100840
#     Data::Dumper version is 2.136
#     Data::Inherited version is 1.100860
#     Data::Miscellany version is 1.100850
#     Data::UUID version is 1.218
#     English version is 1.05
#     Error version is 0.17019
#     Exporter version is 5.67
#     ExtUtils::MakeMaker version is 6.6302
#     File::Find version is 1.20
#     File::Temp version is 0.22
#     Scalar::Util version is 1.25
#     Sys::Hostname version is 1.16
#     Test::Builder version is 0.98
#     Test::Exception version is 0.31
#     Test::More version is 0.98
#     YAML version is 0.84
#     constant version is 1.23
#     overload version is 1.18
#     parent version is 0.225
t/000-report-versions.t ...... ok
t/01_all.t ................... ok
t/02_trigger.t ............... ok
t/author-critic.t ............ skipped: these tests are for testing by the author
t/release-check-changes.t .... skipped: these tests are for release candidate testing
t/release-dist-manifest.t .... skipped: these tests are for release candidate testing
t/release-distmeta.t ......... skipped: these tests are for release candidate testing
t/release-eol.t .............. skipped: these tests are for release candidate testing
t/release-has-version.t ...... skipped: these tests are for release candidate testing
t/release-kwalitee.t ......... skipped: these tests are for release candidate testing
t/release-minimum-version.t .. skipped: these tests are for release candidate testing
t/release-no-tabs.t .......... skipped: these tests are for release candidate testing
t/release-pod-coverage.t ..... skipped: these tests are for release candidate testing
t/release-pod-spell.t ........ skipped: these tests are for release candidate testing
t/release-pod-syntax.t ....... skipped: these tests are for release candidate testing
t/release-portability.t ...... skipped: these tests are for release candidate testing
t/release-synopsis.t ......... skipped: these tests are for release candidate testing
t/release-unused-vars.t ...... skipped: these tests are for release candidate testing
All tests successful.
Files=19, Tests=101,  7 wallclock secs ( 0.04 usr +  0.18 sys =  0.22 CPU)
Result: PASS

------------------------------
PREREQUISITES
------------------------------

Prerequisite modules loaded:

requires:

    Module                   Need Have    
    ------------------------ ---- --------
    Carp                     0    1.26    
    Class::Accessor          0    0.34    
    Class::Accessor::Complex 0    1.100880
    Class::Trigger           0    0.14    
    constant                 0    1.23    
    Data::Container          0    1.100840
    Data::Dumper             0    2.136   
    Data::Inherited          0    1.100860
    Data::Miscellany         0    1.100850
    Data::UUID               0    1.218   
    Error                    0    0.17019 
    Exporter                 0    5.67    
    overload                 0    1.18    
    parent                   0    0.225   
    Sys::Hostname            0    1.16    
    Test::Builder            0    0.98    
    Test::Exception          0    0.31    
    YAML                     0    0.84    

build_requires:

    Module                   Need Have    
    ------------------------ ---- --------
    Capture::Tiny            0    0.21    
    English                  0    1.05    
    File::Find               0    1.20    
    File::Temp               0    0.22    
    Scalar::Util             0    1.25    
    Test::More               0.94 0.98    

configure_requires:

    Module                   Need Have    
    ------------------------ ---- --------
    ExtUtils::MakeMaker      6.31 6.63_02 


------------------------------
ENVIRONMENT AND OTHER CONTEXT
------------------------------

Environment variables:

    AUTOMATED_TESTING = 1
    COMSPEC = C:\WINDOWS\system32\cmd.exe
    NUMBER_OF_PROCESSORS = 1
    PATH = C:\Program Files\Far Manager\;C:\P\ImageMagick-6.8.0-Q8;C:\WINDOWS\system32;C:\WINDOWS;C:\WINDOWS\System32\Wbem;C:\strawberry5162\c\bin;C:\strawberry5162\perl\site\bin;C:\strawberry5162\perl\bin
    PERL5LIB = C:\strawberry5162\cpan\build\Data-Container-1.100840-ULYC27/blib/arch;C:\strawberry5162\cpan\build\Data-Container-1.100840-ULYC27/blib/lib;C:\strawberry5162\cpan\build\Class-Accessor-Constructor-1.111590-50Iib0/blib/arch;C:\strawberry5162\cpan\build\Class-Accessor-Constructor-1.111590-50Iib0/blib/lib;C:\strawberry5162\cpan\build\Class-Accessor-Complex-1.100880-zZooxc/blib/arch;C:\strawberry5162\cpan\build\Class-Accessor-Complex-1.100880-zZooxc/blib/lib;C:\strawberry5162\cpan\build\Data-Miscellany-1.100850-vlmbQe/blib/arch;C:\strawberry5162\cpan\build\Data-Miscellany-1.100850-vlmbQe/blib/lib;C:\strawberry5162\cpan\build\Data-Inherited-1.100860-ld5Y8b/blib/arch;C:\strawberry5162\cpan\build\Data-Inherited-1.100860-ld5Y8b/blib/lib;C:\strawberry5162\cpan\build\Class-Accessor-Installer-1.100880-ano3SX/blib/arch;C:\strawberry5162\cpan\build\Class-Accessor-Installer-1.100880-ano3SX/blib/lib
    PERL5OPT = 
    PERL5_CPANPLUS_IS_RUNNING = 1872
    PERL5_CPAN_IS_RUNNING = 1872
    PERL5_CPAN_IS_RUNNING_IN_RECURSION = 1440,1872
    PERL_CR_SMOKER_CURRENT = Class-Value-Net-1.110250
    PERL_EXTUTILS_AUTOINSTALL = --defaultdeps
    PERL_MM_USE_DEFAULT = 1
    PROCESSOR_IDENTIFIER = x86 Family 16 Model 5 Stepping 3, AuthenticAMD
    TEMP = C:\DOCUME~1\c\LOCALS~1\Temp
    TERM = dumb

Perl special variables (and OS-specific diagnostics, for MSWin32):

    $^X = C:\strawberry5162\perl\bin\perl.exe
    $UID/$EUID = 0 / 0
    $GID = 0
    $EGID = 0
    Win32::GetOSName = WinXP/.Net
    Win32::GetOSVersion = Service Pack 3, 5, 1, 2600, 2, 3, 0, 256, 1
    Win32::FsType = NTFS
    Win32::IsAdminUser = 1

Perl module toolchain versions installed:

    Module              Have    
    ------------------- --------
    CPAN                1.9800  
    CPAN::Meta          2.120921
    Cwd                 3.39_02 
    ExtUtils::CBuilder  0.280206
    ExtUtils::Command   1.17    
    ExtUtils::Install   1.58    
    ExtUtils::MakeMaker 6.63_02 
    ExtUtils::Manifest  1.61    
    ExtUtils::ParseXS   3.16    
    File::Spec          3.39_02 
    JSON                2.53    
    JSON::PP            2.27200 
    Module::Build       0.4003  
    Module::Signature   0.68    
    Parse::CPAN::Meta   1.4404  
    Test::Harness       3.25    
    Test::More          0.98    
    YAML                0.84    
    YAML::Syck          1.22    
    version             0.9901  


--

Summary of my perl5 (revision 5 version 16 subversion 2) configuration:
   
  Platform:
    osname=MSWin32, osvers=4.0, archname=MSWin32-x86-multi-thread
    uname='Win32 strawberry-perl 5.16.2.1 #1 Fri Nov  2 00:33:54 2012 i386'
    config_args='undef'
    hint=recommended, useposix=true, d_sigaction=undef
    useithreads=define, usemultiplicity=define
    useperlio=define, d_sfio=undef, uselargefiles=define, usesocks=undef
    use64bitint=undef, use64bitall=undef, uselongdouble=undef
    usemymalloc=n, bincompat5005=undef
  Compiler:
    cc='gcc', ccflags =' -s -O2 -DWIN32  -DPERL_TEXTMODE_SCRIPTS -DPERL_IMPLICIT_CONTEXT -DPERL_IMPLICIT_SYS -fno-strict-aliasing -mms-bitfields',
    optimize='-s -O2',
    cppflags='-DWIN32'
    ccversion='', gccversion='4.6.3', gccosandvers=''
    intsize=4, longsize=4, ptrsize=4, doublesize=8, byteorder=1234
    d_longlong=undef, longlongsize=8, d_longdbl=define, longdblsize=12
    ivtype='long', ivsize=4, nvtype='double', nvsize=8, Off_t='long long', lseeksize=8
    alignbytes=8, prototype=define
  Linker and Libraries:
    ld='g++', ldflags ='-s -L"C:\strawberry5162\perl\lib\CORE" -L"C:\strawberry5162\c\lib"'
    libpth=C:\strawberry5162\c\lib C:\strawberry5162\c\i686-w64-mingw32\lib
    libs=-lmoldname -lkernel32 -luser32 -lgdi32 -lwinspool -lcomdlg32 -ladvapi32 -lshell32 -lole32 -loleaut32 -lnetapi32 -luuid -lws2_32 -lmpr -lwinmm -lversion -lodbc32 -lodbccp32 -lcomctl32
    perllibs=-lmoldname -lkernel32 -luser32 -lgdi32 -lwinspool -lcomdlg32 -ladvapi32 -lshell32 -lole32 -loleaut32 -lnetapi32 -luuid -lws2_32 -lmpr -lwinmm -lversion -lodbc32 -lodbccp32 -lcomctl32
    libc=, so=dll, useshrplib=true, libperl=libperl516.a
    gnulibc_version=''
  Dynamic Linking:
    dlsrc=dl_win32.xs, dlext=dll, d_dlsymun=undef, ccdlflags=' '
    cccdlflags=' ', lddlflags='-mdll -s -L"C:\strawberry5162\perl\lib\CORE" -L"C:\strawberry5162\c\lib"'


Characteristics of this binary (from libperl): 
  Compile-time options: HAS_TIMES HAVE_INTERP_INTERN MULTIPLICITY
                        PERLIO_LAYERS PERL_DONT_CREATE_GVSV
                        PERL_IMPLICIT_CONTEXT PERL_IMPLICIT_SYS
                        PERL_MALLOC_WRAP PERL_PRESERVE_IVUV PL_OP_SLAB_ALLOC
                        USE_ITHREADS USE_LARGE_FILES USE_LOCALE
                        USE_LOCALE_COLLATE USE_LOCALE_CTYPE
                        USE_LOCALE_NUMERIC USE_PERLIO USE_PERL_ATOF
  Built under MSWin32
  Compiled at Nov  2 2012 00:44:17
  %ENV:
    PERL5LIB="C:\strawberry5162\cpan\build\Data-Container-1.100840-ULYC27/blib/arch;C:\strawberry5162\cpan\build\Data-Container-1.100840-ULYC27/blib/lib;C:\strawberry5162\cpan\build\Class-Accessor-Constructor-1.111590-50Iib0/blib/arch;C:\strawberry5162\cpan\build\Class-Accessor-Constructor-1.111590-50Iib0/blib/lib;C:\strawberry5162\cpan\build\Class-Accessor-Complex-1.100880-zZooxc/blib/arch;C:\strawberry5162\cpan\build\Class-Accessor-Complex-1.100880-zZooxc/blib/lib;C:\strawberry5162\cpan\build\Data-Miscellany-1.100850-vlmbQe/blib/arch;C:\strawberry5162\cpan\build\Data-Miscellany-1.100850-vlmbQe/blib/lib;C:\strawberry5162\cpan\build\Data-Inherited-1.100860-ld5Y8b/blib/arch;C:\strawberry5162\cpan\build\Data-Inherited-1.100860-ld5Y8b/blib/lib;C:\strawberry5162\cpan\build\Class-Accessor-Installer-1.100880-ano3SX/blib/arch;C:\strawberry5162\cpan\build\Class-Accessor-Installer-1.100880-ano3SX/blib/lib"
    PERL5_CPANPLUS_IS_RUNNING="1872"
    PERL5_CPAN_IS_RUNNING="1872"
    PERL5_CPAN_IS_RUNNING_IN_RECURSION="1440,1872"
    PERL_CR_SMOKER_CURRENT="Class-Value-Net-1.110250"
    PERL_EXTUTILS_AUTOINSTALL="--defaultdeps"
    PERL_MM_USE_DEFAULT="1"
  @INC:
    C:\strawberry5162\cpan\build\Data-Container-1.100840-ULYC27/blib/arch
    C:\strawberry5162\cpan\build\Data-Container-1.100840-ULYC27/blib/lib
    C:\strawberry5162\cpan\build\Class-Accessor-Constructor-1.111590-50Iib0/blib/arch
    C:\strawberry5162\cpan\build\Class-Accessor-Constructor-1.111590-50Iib0/blib/lib
    C:\strawberry5162\cpan\build\Class-Accessor-Complex-1.100880-zZooxc/blib/arch
    C:\strawberry5162\cpan\build\Class-Accessor-Complex-1.100880-zZooxc/blib/lib
    C:\strawberry5162\cpan\build\Data-Miscellany-1.100850-vlmbQe/blib/arch
    C:\strawberry5162\cpan\build\Data-Miscellany-1.100850-vlmbQe/blib/lib
    C:\strawberry5162\cpan\build\Data-Inherited-1.100860-ld5Y8b/blib/arch
    C:\strawberry5162\cpan\build\Data-Inherited-1.100860-ld5Y8b/blib/lib
    C:\strawberry5162\cpan\build\Class-Accessor-Installer-1.100880-ano3SX/blib/arch
    C:\strawberry5162\cpan\build\Class-Accessor-Installer-1.100880-ano3SX/blib/lib
    C:/strawberry5162/perl/site/lib
    C:/strawberry5162/perl/vendor/lib
    C:/strawberry5162/perl/lib
    .