Back
From: metabase:user:314402c4-2aae-11df-837a-5e0a49663a4f
Subject: PASS DBIx-Class-Graph-1.05 v5.15.9 FreeBSD
Date: 2012-04-06T13:52:45Z
This distribution has been tested as part of the CPAN Testers
project, supporting the Perl programming language. See
http://wiki.cpantesters.org/ for more information or email
questions to cpan-testers-discuss@perl.org
--
Dear Moritz Onken,
This is a computer-generated report for DBIx-Class-Graph-1.05
on perl 5.15.9, created by CPAN-Reporter-1.2005.
Thank you for uploading your work to CPAN. Congratulations!
All tests were successful.
Sections of this report:
* Tester comments
* Program output
* Prerequisites
* Environment and other context
------------------------------
TESTER COMMENTS
------------------------------
Additional comments from tester:
none provided
------------------------------
PROGRAM OUTPUT
------------------------------
Output from './Build test':
t/00-compile.t ................ ok
#
#
# perl: v5.15.9 (wanted any version) on freebsd from /usr/home/cpansand/var/ctps/5159/install/perl-d005e6a6a9ca86c3b2f1eaa7b931b085cf8a205b/bin/perl
#
# Class::C3 => 0.23 (want any version)
# DBIx::Class => 0.08196 (want any version)
# DBIx::Class::ResultSet => <undef> (want any version)
# DBIx::Class::Schema => <undef> (want any version)
# File::Find => 1.20 (want any version)
# File::Temp => 0.22 (want any version)
# Graph => 0.94 (want 0.94)
# List::MoreUtils => 0.33 (want any version)
# Module::Build => 0.3901 (want 0.3601)
# Moose => 2.0403 (want any version)
# Moose::Role => 2.0403 (want any version)
# Scalar::Util => 1.23 (want any version)
# Test::Memory::Cycle => 1.04 (want any version)
# Test::More => 0.98 (want 0.88)
# base => 2.18 (want any version)
# strict => 1.07 (want any version)
# warnings => 1.13 (want any version)
#
# Thanks for using my code. I hope it works for you.
# If not, please try and include this output in the bug report.
# That will help me reproduce the issue and solve you problem.
#
t/000-report-versions-tiny.t .. ok
defined(@array) is deprecated at /home/e/eserte/var/ctps/5159/install/perl-d005e6a6a9ca86c3b2f1eaa7b931b085cf8a205b/lib/site_perl/5.15.9/Module/Find.pm line 182.
(Maybe you should just omit the defined()?)
t/complex.t ................... ok
defined(@array) is deprecated at /home/e/eserte/var/ctps/5159/install/perl-d005e6a6a9ca86c3b2f1eaa7b931b085cf8a205b/lib/site_perl/5.15.9/Module/Find.pm line 182.
(Maybe you should just omit the defined()?)
t/leak.t ...................... ok
t/release-has-version.t ....... skipped: these tests are for release candidate testing
t/release-kwalitee.t .......... skipped: these tests are for release candidate testing
t/release-minimum-version.t ... skipped: these tests are for release candidate testing
t/release-pod-coverage.t ...... skipped: these tests are for release candidate testing
t/release-pod-syntax.t ........ skipped: these tests are for release candidate testing
defined(@array) is deprecated at /home/e/eserte/var/ctps/5159/install/perl-d005e6a6a9ca86c3b2f1eaa7b931b085cf8a205b/lib/site_perl/5.15.9/Module/Find.pm line 182.
(Maybe you should just omit the defined()?)
t/result.t .................... ok
defined(@array) is deprecated at /home/e/eserte/var/ctps/5159/install/perl-d005e6a6a9ca86c3b2f1eaa7b931b085cf8a205b/lib/site_perl/5.15.9/Module/Find.pm line 182.
(Maybe you should just omit the defined()?)
t/resultset.t ................. ok
defined(@array) is deprecated at /home/e/eserte/var/ctps/5159/install/perl-d005e6a6a9ca86c3b2f1eaa7b931b085cf8a205b/lib/site_perl/5.15.9/Module/Find.pm line 182.
(Maybe you should just omit the defined()?)
t/simple01.t .................. ok
defined(@array) is deprecated at /home/e/eserte/var/ctps/5159/install/perl-d005e6a6a9ca86c3b2f1eaa7b931b085cf8a205b/lib/site_perl/5.15.9/Module/Find.pm line 182.
(Maybe you should just omit the defined()?)
t/simple02.t .................. ok
defined(@array) is deprecated at /home/e/eserte/var/ctps/5159/install/perl-d005e6a6a9ca86c3b2f1eaa7b931b085cf8a205b/lib/site_perl/5.15.9/Module/Find.pm line 182.
(Maybe you should just omit the defined()?)
t/simplesucc.t ................ ok
defined(@array) is deprecated at /home/e/eserte/var/ctps/5159/install/perl-d005e6a6a9ca86c3b2f1eaa7b931b085cf8a205b/lib/site_perl/5.15.9/Module/Find.pm line 182.
(Maybe you should just omit the defined()?)
t/wrapper.t ................... ok
All tests successful.
Files=15, Tests=69, 19 wallclock secs ( 0.06 usr 0.04 sys + 8.80 cusr 0.86 csys = 9.76 CPU)
Result: PASS
------------------------------
PREREQUISITES
------------------------------
Prerequisite modules loaded:
requires:
Module Need Have
---------------------- ------ -------
base 0 2.18
Class::C3 0 0.23
DBIx::Class 0 0.08196
DBIx::Class::ResultSet 0 0
Graph 0.94 0.94
List::MoreUtils 0 0.33
Moose 0 2.0403
Moose::Role 0 2.0403
Scalar::Util 0 1.23
strict 0 1.07
warnings 0 1.13
build_requires:
Module Need Have
---------------------- ------ -------
DBIx::Class::Schema 0 0
File::Find 0 1.20
File::Temp 0 0.22
Module::Build 0.3601 0.39_01
Test::Memory::Cycle 0 1.04
Test::More 0.88 0.98
configure_requires:
Module Need Have
---------------------- ------ -------
Module::Build 0.3601 0.39_01
------------------------------
ENVIRONMENT AND OTHER CONTEXT
------------------------------
Environment variables:
DBIC_NO_WARN_BAD_PERL = 1
PATH = /usr/local/bin:/usr/X11R6/bin:/usr/X11/bin:/usr/perl5.8.0/bin:/usr/bin:/bin:/usr/local/sbin:/usr/sbin:/sbin:/usr/local/pilot/bin:/home/cpansand/bin/freebsd8.0:/home/cpansand/bin/sh:/home/cpansand/bin:/usr/X386/bin:/usr/games:/home/cpansand/devel:/usr/home/e/eserte/src/perl/CPAN-Testers-ParallelSmoker/utils
PERL = /usr/home/cpansand/var/ctps/5159/install/perl-d005e6a6a9ca86c3b2f1eaa7b931b085cf8a205b/bin/perl
PERL5LIB =
PERL5OPT =
PERL5_CPANPLUS_IS_RUNNING = 46271
PERL5_CPAN_IS_RUNNING = 46271
PERL5_CPAN_IS_RUNNING_IN_RECURSION = 46255,46271
PERL_BATCH = yes
PERL_CPAN_REPORTER_DIR = /home/cpansand/var/ctps/5159/config/perl-d005e6a6a9ca86c3b2f1eaa7b931b085cf8a205b/cpanreporter
PERL_EXTUTILS_AUTOINSTALL = --defaultdeps
PERL_HTML_DISPLAY_CLASS = HTML::Display::Mozilla
PERL_PARALLEL_SMOKER = yes
SHELL = /usr/local/bin/zsh
TERM = xterm
TMPDIR = /var/tmp/cpansmoker-1023
Perl special variables (and OS-specific diagnostics, for MSWin32):
$^X = /usr/home/cpansand/var/ctps/5159/install/perl-d005e6a6a9ca86c3b2f1eaa7b931b085cf8a205b/bin/perl
$UID/$EUID = 1023 / 1023
$GID = 1023 1023
$EGID = 1023 1023
Perl module toolchain versions installed:
Module Have
------------------- --------
CPAN 1.9800
CPAN::Meta 2.120630
Cwd 3.39_02
ExtUtils::CBuilder 0.280206
ExtUtils::Command 1.17
ExtUtils::Install 1.58
ExtUtils::MakeMaker 6.63_02
ExtUtils::Manifest 1.61
ExtUtils::ParseXS 3.16
File::Spec 3.39_02
JSON 2.53
JSON::PP 2.27200
Module::Build 0.39_01
Module::Signature n/a
Parse::CPAN::Meta 1.4402
Test::Harness 3.23
Test::More 0.98
YAML 0.80
YAML::Syck 1.20
version 0.96
--
Summary of my perl5 (revision 5 version 15 subversion 9) configuration:
Commit id: d005e6a6a9ca86c3b2f1eaa7b931b085cf8a205b
Platform:
osname=freebsd, osvers=8.0-release-p4, archname=i386-freebsd
uname='freebsd biokovo.herceg.de 8.0-release-p4 freebsd 8.0-release-p4 #0: mon jul 12 20:22:27 utc 2010 root@i386-builder.daemonology.net:usrobjusrsrcsysgeneric i386 '
config_args='-ds -e -Uversiononly -Dinstallusrbinperl=n -Dusedevel -Dprefix=/home/e/eserte/var/ctps/5159/install/perl-d005e6a6a9ca86c3b2f1eaa7b931b085cf8a205b'
hint=recommended, useposix=true, d_sigaction=define
useithreads=undef, usemultiplicity=undef
useperlio=define, d_sfio=undef, uselargefiles=define, usesocks=undef
use64bitint=undef, use64bitall=undef, uselongdouble=undef
usemymalloc=n, bincompat5005=undef
Compiler:
cc='cc', ccflags ='-DHAS_FPSETMASK -DHAS_FLOATINGPOINT_H -fno-strict-aliasing -pipe -fstack-protector -I/usr/local/include',
optimize='-O',
cppflags='-DHAS_FPSETMASK -DHAS_FLOATINGPOINT_H -fno-strict-aliasing -pipe -fstack-protector -I/usr/local/include'
ccversion='', gccversion='4.2.1 20070719 [FreeBSD]', gccosandvers=''
intsize=4, longsize=4, ptrsize=4, doublesize=8, byteorder=1234
d_longlong=define, longlongsize=8, d_longdbl=define, longdblsize=12
ivtype='long', ivsize=4, nvtype='double', nvsize=8, Off_t='off_t', lseeksize=8
alignbytes=4, prototype=define
Linker and Libraries:
ld='cc', ldflags ='-Wl,-E -fstack-protector -L/usr/local/lib'
libpth=/usr/lib /usr/local/lib
libs=-lgdbm -lm -lcrypt -lutil -lc
perllibs=-lm -lcrypt -lutil -lc
libc=, so=so, useshrplib=false, libperl=libperl.a
gnulibc_version=''
Dynamic Linking:
dlsrc=dl_dlopen.xs, dlext=so, d_dlsymun=undef, ccdlflags=' '
cccdlflags='-DPIC -fPIC', lddlflags='-shared -L/usr/local/lib -fstack-protector'
Characteristics of this binary (from libperl):
Compile-time options: HAS_TIMES PERLIO_LAYERS PERL_DONT_CREATE_GVSV
PERL_MALLOC_WRAP PERL_PRESERVE_IVUV PERL_USE_DEVEL
USE_LARGE_FILES USE_LOCALE USE_LOCALE_COLLATE
USE_LOCALE_CTYPE USE_LOCALE_NUMERIC USE_PERLIO
USE_PERL_ATOF
Built under freebsd
Compiled at Apr 6 2012 12:37:04
%ENV:
PERL="/usr/home/cpansand/var/ctps/5159/install/perl-d005e6a6a9ca86c3b2f1eaa7b931b085cf8a205b/bin/perl"
PERL5LIB=""
PERL5OPT=""
PERL5_CPANPLUS_IS_RUNNING="46271"
PERL5_CPAN_IS_RUNNING="46271"
PERL5_CPAN_IS_RUNNING_IN_RECURSION="46255,46271"
PERL_BATCH="yes"
PERL_CPAN_REPORTER_DIR="/home/cpansand/var/ctps/5159/config/perl-d005e6a6a9ca86c3b2f1eaa7b931b085cf8a205b/cpanreporter"
PERL_EXTUTILS_AUTOINSTALL="--defaultdeps"
PERL_HTML_DISPLAY_CLASS="HTML::Display::Mozilla"
PERL_PARALLEL_SMOKER="yes"
@INC:
/home/e/eserte/var/ctps/5159/install/perl-d005e6a6a9ca86c3b2f1eaa7b931b085cf8a205b/lib/site_perl/5.15.9/i386-freebsd
/home/e/eserte/var/ctps/5159/install/perl-d005e6a6a9ca86c3b2f1eaa7b931b085cf8a205b/lib/site_perl/5.15.9
/home/e/eserte/var/ctps/5159/install/perl-d005e6a6a9ca86c3b2f1eaa7b931b085cf8a205b/lib/5.15.9/i386-freebsd
/home/e/eserte/var/ctps/5159/install/perl-d005e6a6a9ca86c3b2f1eaa7b931b085cf8a205b/lib/5.15.9
.