Report for HTTP-Session2-1.09

Back
From: metabase:user:314402c4-2aae-11df-837a-5e0a49663a4f
Subject: PASS HTTP-Session2-1.09 v5.22.3 GNU/Linux
Date: 2017-07-10T06:55:41Z

This distribution has been tested as part of the CPAN Testers
project, supporting the Perl programming language.  See
http://wiki.cpantesters.org/ for more information or email
questions to cpan-testers-discuss@perl.org


--
Dear Author,

This is a computer-generated report for HTTP-Session2-1.09
on perl 5.22.3, created by CPAN-Reporter-1.2018.

Thank you for uploading your work to CPAN.  Congratulations!
All tests were successful.

Sections of this report:

    * Tester comments
    * Program output
    * Prerequisites
    * Environment and other context

------------------------------
TESTER COMMENTS
------------------------------

Additional comments from tester:

none provided

------------------------------
PROGRAM OUTPUT
------------------------------

Output from './Build test':

t/00_compile.t .............. ok
Secret string too short at /home/cpansand/.cpan/build/2017070909/HTTP-Session2-1.09-JnJoDm/blib/lib/HTTP/Session2/Base.pm line 79.
	HTTP::Session2::Base::__ANON__(HTTP::Session2::ServerStore=HASH(0x5607e86c5be8), "s3cret") called at t/01_server_side.t line 23
	main::__ANON__("client -> server: request without cookie", CODE(0x5607e86c5720)) called at t/01_server_side.t line 25
	main::__ANON__() called at /opt/perl-5.22.3/lib/site_perl/5.22.3/Test/Builder.pm line 310
	eval {...} called at /opt/perl-5.22.3/lib/site_perl/5.22.3/Test/Builder.pm line 310
	Test::Builder::subtest(Test::Builder=HASH(0x5607e7f30bd0), "First request", CODE(0x5607e865dba0)) called at /opt/perl-5.22.3/lib/site_perl/5.22.3/Test/More.pm line 807
	Test::More::subtest("First request", CODE(0x5607e865dba0)) called at t/01_server_side.t line 11
	main::scenario("First request", CODE(0x5607e865dba0)) called at t/01_server_side.t line 31
Secret string too short at /home/cpansand/.cpan/build/2017070909/HTTP-Session2-1.09-JnJoDm/blib/lib/HTTP/Session2/Base.pm line 79.
	HTTP::Session2::Base::__ANON__(HTTP::Session2::ServerStore=HASH(0x5607e86c5990), "s3cret") called at t/01_server_side.t line 40
	main::__ANON__("client -> server: request without cookie", CODE(0x5607e86b0c30)) called at t/01_server_side.t line 42
	main::__ANON__() called at /opt/perl-5.22.3/lib/site_perl/5.22.3/Test/Builder.pm line 310
	eval {...} called at /opt/perl-5.22.3/lib/site_perl/5.22.3/Test/Builder.pm line 310
	Test::Builder::subtest(Test::Builder=HASH(0x5607e7f30bd0), "Store something without login", CODE(0x5607e86a2f40)) called at /opt/perl-5.22.3/lib/site_perl/5.22.3/Test/More.pm line 807
	Test::More::subtest("Store something without login", CODE(0x5607e86a2f40)) called at t/01_server_side.t line 11
	main::scenario("Store something without login", CODE(0x5607e86a2f40)) called at t/01_server_side.t line 58
Secret string too short at /home/cpansand/.cpan/build/2017070909/HTTP-Session2-1.09-JnJoDm/blib/lib/HTTP/Session2/Base.pm line 79.
	HTTP::Session2::Base::__ANON__(HTTP::Session2::ServerStore=HASH(0x5607e86cb3b0), "s3cret") called at t/01_server_side.t line 70
	main::__ANON__("client -> server: request without cookie", CODE(0x5607e86caff0)) called at t/01_server_side.t line 72
	main::__ANON__() called at /opt/perl-5.22.3/lib/site_perl/5.22.3/Test/Builder.pm line 310
	eval {...} called at /opt/perl-5.22.3/lib/site_perl/5.22.3/Test/Builder.pm line 310
	Test::Builder::subtest(Test::Builder=HASH(0x5607e7f30bd0), "Login", CODE(0x5607e86a3228)) called at /opt/perl-5.22.3/lib/site_perl/5.22.3/Test/More.pm line 807
	Test::More::subtest("Login", CODE(0x5607e86a3228)) called at t/01_server_side.t line 11
	main::scenario("Login", CODE(0x5607e86a3228)) called at t/01_server_side.t line 96
Secret string too short at /home/cpansand/.cpan/build/2017070909/HTTP-Session2-1.09-JnJoDm/blib/lib/HTTP/Session2/Base.pm line 79.
	HTTP::Session2::Base::__ANON__(HTTP::Session2::ServerStore=HASH(0x5607e86ca8b8), "s3cret") called at t/01_server_side.t line 108
	main::__ANON__("client -> server: request without cookie", CODE(0x5607e86c6290)) called at t/01_server_side.t line 110
	main::__ANON__() called at /opt/perl-5.22.3/lib/site_perl/5.22.3/Test/Builder.pm line 310
	eval {...} called at /opt/perl-5.22.3/lib/site_perl/5.22.3/Test/Builder.pm line 310
	Test::Builder::subtest(Test::Builder=HASH(0x5607e7f30bd0), "In a login session", CODE(0x5607e86a38e8)) called at /opt/perl-5.22.3/lib/site_perl/5.22.3/Test/More.pm line 807
	Test::More::subtest("In a login session", CODE(0x5607e86a38e8)) called at t/01_server_side.t line 11
	main::scenario("In a login session", CODE(0x5607e86a38e8)) called at t/01_server_side.t line 124
Secret string too short at /home/cpansand/.cpan/build/2017070909/HTTP-Session2-1.09-JnJoDm/blib/lib/HTTP/Session2/Base.pm line 79.
	HTTP::Session2::Base::__ANON__(HTTP::Session2::ServerStore=HASH(0x5607e86d3860), "s3cret") called at t/01_server_side.t line 131
	main::__ANON__("client -> server: request without cookie", CODE(0x5607e86c5a98)) called at t/01_server_side.t line 138
	main::__ANON__() called at /opt/perl-5.22.3/lib/site_perl/5.22.3/Test/Builder.pm line 310
	eval {...} called at /opt/perl-5.22.3/lib/site_perl/5.22.3/Test/Builder.pm line 310
	Test::Builder::subtest(Test::Builder=HASH(0x5607e7f30bd0), "Logout", CODE(0x5607e86b02e8)) called at /opt/perl-5.22.3/lib/site_perl/5.22.3/Test/More.pm line 807
	Test::More::subtest("Logout", CODE(0x5607e86b02e8)) called at t/01_server_side.t line 11
	main::scenario("Logout", CODE(0x5607e86b02e8)) called at t/01_server_side.t line 153
t/01_server_side.t .......... ok
Secret string too short at /home/cpansand/.cpan/build/2017070909/HTTP-Session2-1.09-JnJoDm/blib/lib/HTTP/Session2/Base.pm line 79.
	HTTP::Session2::Base::__ANON__(HTTP::Session2::ClientStore=HASH(0x56169a3cec98), "s3cret") called at t/02_client_side.t line 17
	main::__ANON__("client -> server: request without cookie", CODE(0x56169a3bfcd0)) called at t/02_client_side.t line 22
	main::__ANON__() called at /opt/perl-5.22.3/lib/site_perl/5.22.3/Test/Builder.pm line 310
	eval {...} called at /opt/perl-5.22.3/lib/site_perl/5.22.3/Test/Builder.pm line 310
	Test::Builder::subtest(Test::Builder=HASH(0x561699bffa70), "First request", CODE(0x56169a0d7f00)) called at /opt/perl-5.22.3/lib/site_perl/5.22.3/Test/More.pm line 807
	Test::More::subtest("First request", CODE(0x56169a0d7f00)) called at t/02_client_side.t line 9
	main::scenario("First request", CODE(0x56169a0d7f00)) called at t/02_client_side.t line 28
Secret string too short at /home/cpansand/.cpan/build/2017070909/HTTP-Session2-1.09-JnJoDm/blib/lib/HTTP/Session2/Base.pm line 79.
	HTTP::Session2::Base::__ANON__(HTTP::Session2::ClientStore=HASH(0x56169a3bf7f0), "s3cret") called at t/02_client_side.t line 33
	main::__ANON__("client -> server: request without cookie", CODE(0x56169a3bf9a0)) called at t/02_client_side.t line 38
	main::__ANON__() called at /opt/perl-5.22.3/lib/site_perl/5.22.3/Test/Builder.pm line 310
	eval {...} called at /opt/perl-5.22.3/lib/site_perl/5.22.3/Test/Builder.pm line 310
	Test::Builder::subtest(Test::Builder=HASH(0x561699bffa70), "Store something without login", CODE(0x56169a3ac218)) called at /opt/perl-5.22.3/lib/site_perl/5.22.3/Test/More.pm line 807
	Test::More::subtest("Store something without login", CODE(0x56169a3ac218)) called at t/02_client_side.t line 9
	main::scenario("Store something without login", CODE(0x56169a3ac218)) called at t/02_client_side.t line 54
Do not use HTTP::Session2::ClientStore. Use HTTP::Session2::ServerStore or HTTP::Session2::ClientStore2 instead. at /home/cpansand/.cpan/build/2017070909/HTTP-Session2-1.09-JnJoDm/blib/lib/HTTP/Session2/ClientStore.pm line 25.
Secret string too short at /home/cpansand/.cpan/build/2017070909/HTTP-Session2-1.09-JnJoDm/blib/lib/HTTP/Session2/Base.pm line 79.
	HTTP::Session2::Base::__ANON__(HTTP::Session2::ClientStore=HASH(0x56169a3dd320), "s3cret") called at t/02_client_side.t line 60
	main::__ANON__("client -> server: request without cookie", CODE(0x56169a3cf538)) called at t/02_client_side.t line 66
	main::__ANON__() called at /opt/perl-5.22.3/lib/site_perl/5.22.3/Test/Builder.pm line 310
	eval {...} called at /opt/perl-5.22.3/lib/site_perl/5.22.3/Test/Builder.pm line 310
	Test::Builder::subtest(Test::Builder=HASH(0x561699bffa70), "Login", CODE(0x56169a3ac440)) called at /opt/perl-5.22.3/lib/site_perl/5.22.3/Test/More.pm line 807
	Test::More::subtest("Login", CODE(0x56169a3ac440)) called at t/02_client_side.t line 9
	main::scenario("Login", CODE(0x56169a3ac440)) called at t/02_client_side.t line 86
Do not use HTTP::Session2::ClientStore. Use HTTP::Session2::ServerStore or HTTP::Session2::ClientStore2 instead. at /home/cpansand/.cpan/build/2017070909/HTTP-Session2-1.09-JnJoDm/blib/lib/HTTP/Session2/ClientStore.pm line 35.
Do not use HTTP::Session2::ClientStore. Use HTTP::Session2::ServerStore or HTTP::Session2::ClientStore2 instead. at /home/cpansand/.cpan/build/2017070909/HTTP-Session2-1.09-JnJoDm/blib/lib/HTTP/Session2/ClientStore.pm line 25.
Secret string too short at /home/cpansand/.cpan/build/2017070909/HTTP-Session2-1.09-JnJoDm/blib/lib/HTTP/Session2/Base.pm line 79.
	HTTP::Session2::Base::__ANON__(HTTP::Session2::ClientStore=HASH(0x56169a3cf730), "s3cret") called at t/02_client_side.t line 92
	main::__ANON__("client -> server: request without cookie", CODE(0x56169a3d4a88)) called at t/02_client_side.t line 98
	main::__ANON__() called at /opt/perl-5.22.3/lib/site_perl/5.22.3/Test/Builder.pm line 310
	eval {...} called at /opt/perl-5.22.3/lib/site_perl/5.22.3/Test/Builder.pm line 310
	Test::Builder::subtest(Test::Builder=HASH(0x561699bffa70), "In a login session", CODE(0x56169a3ac908)) called at /opt/perl-5.22.3/lib/site_perl/5.22.3/Test/More.pm line 807
	Test::More::subtest("In a login session", CODE(0x56169a3ac908)) called at t/02_client_side.t line 9
	main::scenario("In a login session", CODE(0x56169a3ac908)) called at t/02_client_side.t line 107
Do not use HTTP::Session2::ClientStore. Use HTTP::Session2::ServerStore or HTTP::Session2::ClientStore2 instead. at /home/cpansand/.cpan/build/2017070909/HTTP-Session2-1.09-JnJoDm/blib/lib/HTTP/Session2/ClientStore.pm line 35.
Do not use HTTP::Session2::ClientStore. Use HTTP::Session2::ServerStore or HTTP::Session2::ClientStore2 instead. at /home/cpansand/.cpan/build/2017070909/HTTP-Session2-1.09-JnJoDm/blib/lib/HTTP/Session2/ClientStore.pm line 25.
Secret string too short at /home/cpansand/.cpan/build/2017070909/HTTP-Session2-1.09-JnJoDm/blib/lib/HTTP/Session2/Base.pm line 79.
	HTTP::Session2::Base::__ANON__(HTTP::Session2::ClientStore=HASH(0x56169a3d53e8), "s3cret") called at t/02_client_side.t line 112
	main::__ANON__("client -> server: request without cookie", CODE(0x56169a3ceb30)) called at t/02_client_side.t line 118
	main::__ANON__() called at /opt/perl-5.22.3/lib/site_perl/5.22.3/Test/Builder.pm line 310
	eval {...} called at /opt/perl-5.22.3/lib/site_perl/5.22.3/Test/Builder.pm line 310
	Test::Builder::subtest(Test::Builder=HASH(0x561699bffa70), "Logout", CODE(0x56169a3ac980)) called at /opt/perl-5.22.3/lib/site_perl/5.22.3/Test/More.pm line 807
	Test::More::subtest("Logout", CODE(0x56169a3ac980)) called at t/02_client_side.t line 9
	main::scenario("Logout", CODE(0x56169a3ac980)) called at t/02_client_side.t line 131
t/02_client_side.t .......... ok
Secret string too short at /home/cpansand/.cpan/build/2017070909/HTTP-Session2-1.09-JnJoDm/blib/lib/HTTP/Session2/Base.pm line 79.
	HTTP::Session2::Base::__ANON__(HTTP::Session2::ServerStore=HASH(0x557ea54003b0), "s3cret") called at t/03_mech.t line 121
	main::server_session(HASH(0x557ea53ffe28)) called at t/03_mech.t line 17
	main::__ANON__(HASH(0x557ea53ffe28)) called at /opt/perl-5.22.3/lib/site_perl/5.22.3/Test/WWW/Mechanize/PSGI.pm line 43
	Test::WWW::Mechanize::PSGI::try {...} () called at /opt/perl-5.22.3/lib/site_perl/5.22.3/Try/Tiny.pm line 103
	eval {...} called at /opt/perl-5.22.3/lib/site_perl/5.22.3/Try/Tiny.pm line 94
	Try::Tiny::try(CODE(0x557ea53ff840), Try::Tiny::Catch=REF(0x557ea4659e70)) called at /opt/perl-5.22.3/lib/site_perl/5.22.3/Test/WWW/Mechanize/PSGI.pm line 50
	Test::WWW::Mechanize::PSGI::simple_request(Test::WWW::Mechanize::PSGI=HASH(0x557ea52acdc0), HTTP::Request=HASH(0x557ea538c888), undef, undef) called at /opt/perl-5.22.3/lib/site_perl/5.22.3/LWP/UserAgent.pm line 297
	LWP::UserAgent::request(Test::WWW::Mechanize::PSGI=HASH(0x557ea52acdc0), HTTP::Request=HASH(0x557ea538c888)) called at /opt/perl-5.22.3/lib/site_perl/5.22.3/WWW/Mechanize.pm line 1413
	WWW::Mechanize::_make_request(Test::WWW::Mechanize::PSGI=HASH(0x557ea52acdc0), HTTP::Request=HASH(0x557ea538c888)) called at /opt/perl-5.22.3/lib/site_perl/5.22.3/WWW/Mechanize.pm line 1253
	WWW::Mechanize::request(Test::WWW::Mechanize::PSGI=HASH(0x557ea52acdc0), HTTP::Request=HASH(0x557ea538c888)) called at /opt/perl-5.22.3/lib/site_perl/5.22.3/LWP/UserAgent.pm line 435
	LWP::UserAgent::get(Test::WWW::Mechanize::PSGI=HASH(0x557ea52acdc0), "/") called at /opt/perl-5.22.3/lib/site_perl/5.22.3/WWW/Mechanize.pm line 117
	WWW::Mechanize::get(Test::WWW::Mechanize::PSGI=HASH(0x557ea52acdc0), "/") called at /opt/perl-5.22.3/lib/site_perl/5.22.3/Test/WWW/Mechanize.pm line 160
	Test::WWW::Mechanize::get_ok(Test::WWW::Mechanize::PSGI=HASH(0x557ea52acdc0), "/") called at t/03_mech.t line 74
Secret string too short at /home/cpansand/.cpan/build/2017070909/HTTP-Session2-1.09-JnJoDm/blib/lib/HTTP/Session2/Base.pm line 79.
	HTTP::Session2::Base::__ANON__(HTTP::Session2::ServerStore=HASH(0x557ea53e7918), "s3cret") called at t/03_mech.t line 121
	main::server_session(HASH(0x557ea5400350)) called at t/03_mech.t line 17
	main::__ANON__(HASH(0x557ea5400350)) called at /opt/perl-5.22.3/lib/site_perl/5.22.3/Test/WWW/Mechanize/PSGI.pm line 43
	Test::WWW::Mechanize::PSGI::try {...} () called at /opt/perl-5.22.3/lib/site_perl/5.22.3/Try/Tiny.pm line 103
	eval {...} called at /opt/perl-5.22.3/lib/site_perl/5.22.3/Try/Tiny.pm line 94
	Try::Tiny::try(CODE(0x557ea53e7588), Try::Tiny::Catch=REF(0x557ea54001a0)) called at /opt/perl-5.22.3/lib/site_perl/5.22.3/Test/WWW/Mechanize/PSGI.pm line 50
	Test::WWW::Mechanize::PSGI::simple_request(Test::WWW::Mechanize::PSGI=HASH(0x557ea52acdc0), HTTP::Request=HASH(0x557ea5400260), undef, undef) called at /opt/perl-5.22.3/lib/site_perl/5.22.3/LWP/UserAgent.pm line 297
	LWP::UserAgent::request(Test::WWW::Mechanize::PSGI=HASH(0x557ea52acdc0), HTTP::Request=HASH(0x557ea5400260)) called at /opt/perl-5.22.3/lib/site_perl/5.22.3/WWW/Mechanize.pm line 1413
	WWW::Mechanize::_make_request(Test::WWW::Mechanize::PSGI=HASH(0x557ea52acdc0), HTTP::Request=HASH(0x557ea5400260)) called at /opt/perl-5.22.3/lib/site_perl/5.22.3/WWW/Mechanize.pm line 1253
	WWW::Mechanize::request(Test::WWW::Mechanize::PSGI=HASH(0x557ea52acdc0), HTTP::Request=HASH(0x557ea5400260)) called at /opt/perl-5.22.3/lib/site_perl/5.22.3/LWP/UserAgent.pm line 478
	LWP::UserAgent::post(Test::WWW::Mechanize::PSGI=HASH(0x557ea52acdc0), "/wishlist?foo", HASH(0x557ea4fab1e0)) called at /opt/perl-5.22.3/lib/site_perl/5.22.3/Test/WWW/Mechanize.pm line 237
	Test::WWW::Mechanize::post_ok(Test::WWW::Mechanize::PSGI=HASH(0x557ea52acdc0), "/wishlist?foo") called at t/03_mech.t line 75
Secret string too short at /home/cpansand/.cpan/build/2017070909/HTTP-Session2-1.09-JnJoDm/blib/lib/HTTP/Session2/Base.pm line 79.
	HTTP::Session2::Base::__ANON__(HTTP::Session2::ServerStore=HASH(0x557ea54149c0), "s3cret") called at t/03_mech.t line 121
	main::server_session(HASH(0x557ea53e7db0)) called at t/03_mech.t line 17
	main::__ANON__(HASH(0x557ea53e7db0)) called at /opt/perl-5.22.3/lib/site_perl/5.22.3/Test/WWW/Mechanize/PSGI.pm line 43
	Test::WWW::Mechanize::PSGI::try {...} () called at /opt/perl-5.22.3/lib/site_perl/5.22.3/Try/Tiny.pm line 103
	eval {...} called at /opt/perl-5.22.3/lib/site_perl/5.22.3/Try/Tiny.pm line 94
	Try::Tiny::try(CODE(0x557ea53e7bb8), Try::Tiny::Catch=REF(0x557ea53e77f8)) called at /opt/perl-5.22.3/lib/site_perl/5.22.3/Test/WWW/Mechanize/PSGI.pm line 50
	Test::WWW::Mechanize::PSGI::simple_request(Test::WWW::Mechanize::PSGI=HASH(0x557ea52acdc0), HTTP::Request=HASH(0x557ea50f3260), undef, undef) called at /opt/perl-5.22.3/lib/site_perl/5.22.3/LWP/UserAgent.pm line 297
	LWP::UserAgent::request(Test::WWW::Mechanize::PSGI=HASH(0x557ea52acdc0), HTTP::Request=HASH(0x557ea50f3260)) called at /opt/perl-5.22.3/lib/site_perl/5.22.3/WWW/Mechanize.pm line 1413
	WWW::Mechanize::_make_request(Test::WWW::Mechanize::PSGI=HASH(0x557ea52acdc0), HTTP::Request=HASH(0x557ea50f3260)) called at /opt/perl-5.22.3/lib/site_perl/5.22.3/WWW/Mechanize.pm line 1253
	WWW::Mechanize::request(Test::WWW::Mechanize::PSGI=HASH(0x557ea52acdc0), HTTP::Request=HASH(0x557ea50f3260)) called at /opt/perl-5.22.3/lib/site_perl/5.22.3/LWP/UserAgent.pm line 435
	LWP::UserAgent::get(Test::WWW::Mechanize::PSGI=HASH(0x557ea52acdc0), "http://localhost/wishlist") called at /opt/perl-5.22.3/lib/site_perl/5.22.3/WWW/Mechanize.pm line 117
	WWW::Mechanize::get(Test::WWW::Mechanize::PSGI=HASH(0x557ea52acdc0), "/wishlist") called at /opt/perl-5.22.3/lib/site_perl/5.22.3/Test/WWW/Mechanize.pm line 160
	Test::WWW::Mechanize::get_ok(Test::WWW::Mechanize::PSGI=HASH(0x557ea52acdc0), "/wishlist") called at t/03_mech.t line 76
Secret string too short at /home/cpansand/.cpan/build/2017070909/HTTP-Session2-1.09-JnJoDm/blib/lib/HTTP/Session2/Base.pm line 79.
	HTTP::Session2::Base::__ANON__(HTTP::Session2::ServerStore=HASH(0x557ea5414f30), "s3cret") called at t/03_mech.t line 121
	main::server_session(HASH(0x557ea5414f60)) called at t/03_mech.t line 17
	main::__ANON__(HASH(0x557ea5414f60)) called at /opt/perl-5.22.3/lib/site_perl/5.22.3/Test/WWW/Mechanize/PSGI.pm line 43
	Test::WWW::Mechanize::PSGI::try {...} () called at /opt/perl-5.22.3/lib/site_perl/5.22.3/Try/Tiny.pm line 103
	eval {...} called at /opt/perl-5.22.3/lib/site_perl/5.22.3/Try/Tiny.pm line 94
	Try::Tiny::try(CODE(0x557ea5414a80), Try::Tiny::Catch=REF(0x557ea5414810)) called at /opt/perl-5.22.3/lib/site_perl/5.22.3/Test/WWW/Mechanize/PSGI.pm line 50
	Test::WWW::Mechanize::PSGI::simple_request(Test::WWW::Mechanize::PSGI=HASH(0x557ea52acdc0), HTTP::Request=HASH(0x557ea5414870), undef, undef) called at /opt/perl-5.22.3/lib/site_perl/5.22.3/LWP/UserAgent.pm line 297
	LWP::UserAgent::request(Test::WWW::Mechanize::PSGI=HASH(0x557ea52acdc0), HTTP::Request=HASH(0x557ea5414870)) called at /opt/perl-5.22.3/lib/site_perl/5.22.3/WWW/Mechanize.pm line 1413
	WWW::Mechanize::_make_request(Test::WWW::Mechanize::PSGI=HASH(0x557ea52acdc0), HTTP::Request=HASH(0x557ea5414870)) called at /opt/perl-5.22.3/lib/site_perl/5.22.3/WWW/Mechanize.pm line 1253
	WWW::Mechanize::request(Test::WWW::Mechanize::PSGI=HASH(0x557ea52acdc0), HTTP::Request=HASH(0x557ea5414870)) called at /opt/perl-5.22.3/lib/site_perl/5.22.3/LWP/UserAgent.pm line 478
	LWP::UserAgent::post(Test::WWW::Mechanize::PSGI=HASH(0x557ea52acdc0), "/wishlist?bar") called at t/03_mech.t line 78
Secret string too short at /home/cpansand/.cpan/build/2017070909/HTTP-Session2-1.09-JnJoDm/blib/lib/HTTP/Session2/Base.pm line 79.
	HTTP::Session2::Base::__ANON__(HTTP::Session2::ServerStore=HASH(0x557ea5415038), "s3cret") called at t/03_mech.t line 121
	main::server_session(HASH(0x557ea5415440)) called at t/03_mech.t line 17
	main::__ANON__(HASH(0x557ea5415440)) called at /opt/perl-5.22.3/lib/site_perl/5.22.3/Test/WWW/Mechanize/PSGI.pm line 43
	Test::WWW::Mechanize::PSGI::try {...} () called at /opt/perl-5.22.3/lib/site_perl/5.22.3/Try/Tiny.pm line 103
	eval {...} called at /opt/perl-5.22.3/lib/site_perl/5.22.3/Try/Tiny.pm line 94
	Try::Tiny::try(CODE(0x557ea5414bd0), Try::Tiny::Catch=REF(0x557ea5414b88)) called at /opt/perl-5.22.3/lib/site_perl/5.22.3/Test/WWW/Mechanize/PSGI.pm line 50
	Test::WWW::Mechanize::PSGI::simple_request(Test::WWW::Mechanize::PSGI=HASH(0x557ea52acdc0), HTTP::Request=HASH(0x557ea54148a0), undef, undef) called at /opt/perl-5.22.3/lib/site_perl/5.22.3/LWP/UserAgent.pm line 297
	LWP::UserAgent::request(Test::WWW::Mechanize::PSGI=HASH(0x557ea52acdc0), HTTP::Request=HASH(0x557ea54148a0)) called at /opt/perl-5.22.3/lib/site_perl/5.22.3/WWW/Mechanize.pm line 1413
	WWW::Mechanize::_make_request(Test::WWW::Mechanize::PSGI=HASH(0x557ea52acdc0), HTTP::Request=HASH(0x557ea54148a0)) called at /opt/perl-5.22.3/lib/site_perl/5.22.3/WWW/Mechanize.pm line 1253
	WWW::Mechanize::request(Test::WWW::Mechanize::PSGI=HASH(0x557ea52acdc0), HTTP::Request=HASH(0x557ea54148a0)) called at /opt/perl-5.22.3/lib/site_perl/5.22.3/LWP/UserAgent.pm line 478
	LWP::UserAgent::post(Test::WWW::Mechanize::PSGI=HASH(0x557ea52acdc0), "/wishlist?bar", HASH(0x557ea4fab1e0)) called at /opt/perl-5.22.3/lib/site_perl/5.22.3/Test/WWW/Mechanize.pm line 237
	Test::WWW::Mechanize::post_ok(Test::WWW::Mechanize::PSGI=HASH(0x557ea52acdc0), "/wishlist?bar") called at t/03_mech.t line 81
Secret string too short at /home/cpansand/.cpan/build/2017070909/HTTP-Session2-1.09-JnJoDm/blib/lib/HTTP/Session2/Base.pm line 79.
	HTTP::Session2::Base::__ANON__(HTTP::Session2::ServerStore=HASH(0x557ea541bee0), "s3cret") called at t/03_mech.t line 121
	main::server_session(HASH(0x557ea541bd18)) called at t/03_mech.t line 17
	main::__ANON__(HASH(0x557ea541bd18)) called at /opt/perl-5.22.3/lib/site_perl/5.22.3/Test/WWW/Mechanize/PSGI.pm line 43
	Test::WWW::Mechanize::PSGI::try {...} () called at /opt/perl-5.22.3/lib/site_perl/5.22.3/Try/Tiny.pm line 103
	eval {...} called at /opt/perl-5.22.3/lib/site_perl/5.22.3/Try/Tiny.pm line 94
	Try::Tiny::try(CODE(0x557ea52b82c0), Try::Tiny::Catch=REF(0x557ea54145d0)) called at /opt/perl-5.22.3/lib/site_perl/5.22.3/Test/WWW/Mechanize/PSGI.pm line 50
	Test::WWW::Mechanize::PSGI::simple_request(Test::WWW::Mechanize::PSGI=HASH(0x557ea52acdc0), HTTP::Request=HASH(0x557ea50a9788), undef, undef) called at /opt/perl-5.22.3/lib/site_perl/5.22.3/LWP/UserAgent.pm line 297
	LWP::UserAgent::request(Test::WWW::Mechanize::PSGI=HASH(0x557ea52acdc0), HTTP::Request=HASH(0x557ea50a9788)) called at /opt/perl-5.22.3/lib/site_perl/5.22.3/WWW/Mechanize.pm line 1413
	WWW::Mechanize::_make_request(Test::WWW::Mechanize::PSGI=HASH(0x557ea52acdc0), HTTP::Request=HASH(0x557ea50a9788)) called at /opt/perl-5.22.3/lib/site_perl/5.22.3/WWW/Mechanize.pm line 1253
	WWW::Mechanize::request(Test::WWW::Mechanize::PSGI=HASH(0x557ea52acdc0), HTTP::Request=HASH(0x557ea50a9788)) called at /opt/perl-5.22.3/lib/site_perl/5.22.3/LWP/UserAgent.pm line 435
	LWP::UserAgent::get(Test::WWW::Mechanize::PSGI=HASH(0x557ea52acdc0), "http://localhost/wishlist") called at /opt/perl-5.22.3/lib/site_perl/5.22.3/WWW/Mechanize.pm line 117
	WWW::Mechanize::get(Test::WWW::Mechanize::PSGI=HASH(0x557ea52acdc0), "/wishlist") called at /opt/perl-5.22.3/lib/site_perl/5.22.3/Test/WWW/Mechanize.pm line 160
	Test::WWW::Mechanize::get_ok(Test::WWW::Mechanize::PSGI=HASH(0x557ea52acdc0), "/wishlist") called at t/03_mech.t line 82
Secret string too short at /home/cpansand/.cpan/build/2017070909/HTTP-Session2-1.09-JnJoDm/blib/lib/HTTP/Session2/Base.pm line 79.
	HTTP::Session2::Base::__ANON__(HTTP::Session2::ServerStore=HASH(0x557ea541c450), "s3cret") called at t/03_mech.t line 121
	main::server_session(HASH(0x557ea541c3c0)) called at t/03_mech.t line 17
	main::__ANON__(HASH(0x557ea541c3c0)) called at /opt/perl-5.22.3/lib/site_perl/5.22.3/Test/WWW/Mechanize/PSGI.pm line 43
	Test::WWW::Mechanize::PSGI::try {...} () called at /opt/perl-5.22.3/lib/site_perl/5.22.3/Try/Tiny.pm line 103
	eval {...} called at /opt/perl-5.22.3/lib/site_perl/5.22.3/Try/Tiny.pm line 94
	Try::Tiny::try(CODE(0x557ea54150e0), Try::Tiny::Catch=REF(0x557ea5415578)) called at /opt/perl-5.22.3/lib/site_perl/5.22.3/Test/WWW/Mechanize/PSGI.pm line 50
	Test::WWW::Mechanize::PSGI::simple_request(Test::WWW::Mechanize::PSGI=HASH(0x557ea52acdc0), HTTP::Request=HASH(0x557ea541c3d8), undef, undef) called at /opt/perl-5.22.3/lib/site_perl/5.22.3/LWP/UserAgent.pm line 297
	LWP::UserAgent::request(Test::WWW::Mechanize::PSGI=HASH(0x557ea52acdc0), HTTP::Request=HASH(0x557ea541c3d8)) called at /opt/perl-5.22.3/lib/site_perl/5.22.3/WWW/Mechanize.pm line 1413
	WWW::Mechanize::_make_request(Test::WWW::Mechanize::PSGI=HASH(0x557ea52acdc0), HTTP::Request=HASH(0x557ea541c3d8)) called at /opt/perl-5.22.3/lib/site_perl/5.22.3/WWW/Mechanize.pm line 1253
	WWW::Mechanize::request(Test::WWW::Mechanize::PSGI=HASH(0x557ea52acdc0), HTTP::Request=HASH(0x557ea541c3d8)) called at /opt/perl-5.22.3/lib/site_perl/5.22.3/LWP/UserAgent.pm line 478
	LWP::UserAgent::post(Test::WWW::Mechanize::PSGI=HASH(0x557ea52acdc0), "/account/login?john", HASH(0x557ea4fab1e0)) called at /opt/perl-5.22.3/lib/site_perl/5.22.3/Test/WWW/Mechanize.pm line 237
	Test::WWW::Mechanize::post_ok(Test::WWW::Mechanize::PSGI=HASH(0x557ea52acdc0), "/account/login?john") called at t/03_mech.t line 84
Secret string too short at /home/cpansand/.cpan/build/2017070909/HTTP-Session2-1.09-JnJoDm/blib/lib/HTTP/Session2/Base.pm line 79.
	HTTP::Session2::Base::__ANON__(HTTP::Session2::ServerStore=HASH(0x557ea541c780), "s3cret") called at t/03_mech.t line 121
	main::server_session(HASH(0x557ea541c270)) called at t/03_mech.t line 17
	main::__ANON__(HASH(0x557ea541c270)) called at /opt/perl-5.22.3/lib/site_perl/5.22.3/Test/WWW/Mechanize/PSGI.pm line 43
	Test::WWW::Mechanize::PSGI::try {...} () called at /opt/perl-5.22.3/lib/site_perl/5.22.3/Try/Tiny.pm line 103
	eval {...} called at /opt/perl-5.22.3/lib/site_perl/5.22.3/Try/Tiny.pm line 94
	Try::Tiny::try(CODE(0x557ea53e7810), Try::Tiny::Catch=REF(0x557ea541bd00)) called at /opt/perl-5.22.3/lib/site_perl/5.22.3/Test/WWW/Mechanize/PSGI.pm line 50
	Test::WWW::Mechanize::PSGI::simple_request(Test::WWW::Mechanize::PSGI=HASH(0x557ea52acdc0), HTTP::Request=HASH(0x557ea541c300), undef, undef) called at /opt/perl-5.22.3/lib/site_perl/5.22.3/LWP/UserAgent.pm line 297
	LWP::UserAgent::request(Test::WWW::Mechanize::PSGI=HASH(0x557ea52acdc0), HTTP::Request=HASH(0x557ea541c300)) called at /opt/perl-5.22.3/lib/site_perl/5.22.3/WWW/Mechanize.pm line 1413
	WWW::Mechanize::_make_request(Test::WWW::Mechanize::PSGI=HASH(0x557ea52acdc0), HTTP::Request=HASH(0x557ea541c300)) called at /opt/perl-5.22.3/lib/site_perl/5.22.3/WWW/Mechanize.pm line 1253
	WWW::Mechanize::request(Test::WWW::Mechanize::PSGI=HASH(0x557ea52acdc0), HTTP::Request=HASH(0x557ea541c300)) called at /opt/perl-5.22.3/lib/site_perl/5.22.3/LWP/UserAgent.pm line 435
	LWP::UserAgent::get(Test::WWW::Mechanize::PSGI=HASH(0x557ea52acdc0), "http://localhost/wishlist") called at /opt/perl-5.22.3/lib/site_perl/5.22.3/WWW/Mechanize.pm line 117
	WWW::Mechanize::get(Test::WWW::Mechanize::PSGI=HASH(0x557ea52acdc0), "/wishlist") called at /opt/perl-5.22.3/lib/site_perl/5.22.3/Test/WWW/Mechanize.pm line 160
	Test::WWW::Mechanize::get_ok(Test::WWW::Mechanize::PSGI=HASH(0x557ea52acdc0), "/wishlist", "Wishlist is still available") called at t/03_mech.t line 85
Secret string too short at /home/cpansand/.cpan/build/2017070909/HTTP-Session2-1.09-JnJoDm/blib/lib/HTTP/Session2/Base.pm line 79.
	HTTP::Session2::Base::__ANON__(HTTP::Session2::ServerStore=HASH(0x557ea541e2e8), "s3cret") called at t/03_mech.t line 121
	main::server_session(HASH(0x557ea541e288)) called at t/03_mech.t line 17
	main::__ANON__(HASH(0x557ea541e288)) called at /opt/perl-5.22.3/lib/site_perl/5.22.3/Test/WWW/Mechanize/PSGI.pm line 43
	Test::WWW::Mechanize::PSGI::try {...} () called at /opt/perl-5.22.3/lib/site_perl/5.22.3/Try/Tiny.pm line 103
	eval {...} called at /opt/perl-5.22.3/lib/site_perl/5.22.3/Try/Tiny.pm line 94
	Try::Tiny::try(CODE(0x557ea53e79c0), Try::Tiny::Catch=REF(0x557ea541c480)) called at /opt/perl-5.22.3/lib/site_perl/5.22.3/Test/WWW/Mechanize/PSGI.pm line 50
	Test::WWW::Mechanize::PSGI::simple_request(Test::WWW::Mechanize::PSGI=HASH(0x557ea52acdc0), HTTP::Request=HASH(0x557ea53e6f58), undef, undef) called at /opt/perl-5.22.3/lib/site_perl/5.22.3/LWP/UserAgent.pm line 297
	LWP::UserAgent::request(Test::WWW::Mechanize::PSGI=HASH(0x557ea52acdc0), HTTP::Request=HASH(0x557ea53e6f58)) called at /opt/perl-5.22.3/lib/site_perl/5.22.3/WWW/Mechanize.pm line 1413
	WWW::Mechanize::_make_request(Test::WWW::Mechanize::PSGI=HASH(0x557ea52acdc0), HTTP::Request=HASH(0x557ea53e6f58)) called at /opt/perl-5.22.3/lib/site_perl/5.22.3/WWW/Mechanize.pm line 1253
	WWW::Mechanize::request(Test::WWW::Mechanize::PSGI=HASH(0x557ea52acdc0), HTTP::Request=HASH(0x557ea53e6f58)) called at /opt/perl-5.22.3/lib/site_perl/5.22.3/LWP/UserAgent.pm line 478
	LWP::UserAgent::post(Test::WWW::Mechanize::PSGI=HASH(0x557ea52acdc0), "/wishlist?baz") called at t/03_mech.t line 87
Secret string too short at /home/cpansand/.cpan/build/2017070909/HTTP-Session2-1.09-JnJoDm/blib/lib/HTTP/Session2/Base.pm line 79.
	HTTP::Session2::Base::__ANON__(HTTP::Session2::ServerStore=HASH(0x557ea541e7e0), "s3cret") called at t/03_mech.t line 121
	main::server_session(HASH(0x557ea541e768)) called at t/03_mech.t line 17
	main::__ANON__(HASH(0x557ea541e768)) called at /opt/perl-5.22.3/lib/site_perl/5.22.3/Test/WWW/Mechanize/PSGI.pm line 43
	Test::WWW::Mechanize::PSGI::try {...} () called at /opt/perl-5.22.3/lib/site_perl/5.22.3/Try/Tiny.pm line 103
	eval {...} called at /opt/perl-5.22.3/lib/site_perl/5.22.3/Try/Tiny.pm line 94
	Try::Tiny::try(CODE(0x557ea541c7e0), Try::Tiny::Catch=REF(0x557ea541c660)) called at /opt/perl-5.22.3/lib/site_perl/5.22.3/Test/WWW/Mechanize/PSGI.pm line 50
	Test::WWW::Mechanize::PSGI::simple_request(Test::WWW::Mechanize::PSGI=HASH(0x557ea52acdc0), HTTP::Request=HASH(0x557ea5415578), undef, undef) called at /opt/perl-5.22.3/lib/site_perl/5.22.3/LWP/UserAgent.pm line 297
	LWP::UserAgent::request(Test::WWW::Mechanize::PSGI=HASH(0x557ea52acdc0), HTTP::Request=HASH(0x557ea5415578)) called at /opt/perl-5.22.3/lib/site_perl/5.22.3/WWW/Mechanize.pm line 1413
	WWW::Mechanize::_make_request(Test::WWW::Mechanize::PSGI=HASH(0x557ea52acdc0), HTTP::Request=HASH(0x557ea5415578)) called at /opt/perl-5.22.3/lib/site_perl/5.22.3/WWW/Mechanize.pm line 1253
	WWW::Mechanize::request(Test::WWW::Mechanize::PSGI=HASH(0x557ea52acdc0), HTTP::Request=HASH(0x557ea5415578)) called at /opt/perl-5.22.3/lib/site_perl/5.22.3/LWP/UserAgent.pm line 478
	LWP::UserAgent::post(Test::WWW::Mechanize::PSGI=HASH(0x557ea52acdc0), "/wishlist?baz", HASH(0x557ea4fab1e0)) called at /opt/perl-5.22.3/lib/site_perl/5.22.3/Test/WWW/Mechanize.pm line 237
	Test::WWW::Mechanize::post_ok(Test::WWW::Mechanize::PSGI=HASH(0x557ea52acdc0), "/wishlist?baz") called at t/03_mech.t line 90
Secret string too short at /home/cpansand/.cpan/build/2017070909/HTTP-Session2-1.09-JnJoDm/blib/lib/HTTP/Session2/Base.pm line 79.
	HTTP::Session2::Base::__ANON__(HTTP::Session2::ServerStore=HASH(0x557ea541eb88), "s3cret") called at t/03_mech.t line 121
	main::server_session(HASH(0x557ea541e978)) called at t/03_mech.t line 17
	main::__ANON__(HASH(0x557ea541e978)) called at /opt/perl-5.22.3/lib/site_perl/5.22.3/Test/WWW/Mechanize/PSGI.pm line 43
	Test::WWW::Mechanize::PSGI::try {...} () called at /opt/perl-5.22.3/lib/site_perl/5.22.3/Try/Tiny.pm line 103
	eval {...} called at /opt/perl-5.22.3/lib/site_perl/5.22.3/Try/Tiny.pm line 94
	Try::Tiny::try(CODE(0x557ea541e2d0), Try::Tiny::Catch=REF(0x557ea541e3d8)) called at /opt/perl-5.22.3/lib/site_perl/5.22.3/Test/WWW/Mechanize/PSGI.pm line 50
	Test::WWW::Mechanize::PSGI::simple_request(Test::WWW::Mechanize::PSGI=HASH(0x557ea52acdc0), HTTP::Request=HASH(0x557ea5415458), undef, undef) called at /opt/perl-5.22.3/lib/site_perl/5.22.3/LWP/UserAgent.pm line 297
	LWP::UserAgent::request(Test::WWW::Mechanize::PSGI=HASH(0x557ea52acdc0), HTTP::Request=HASH(0x557ea5415458)) called at /opt/perl-5.22.3/lib/site_perl/5.22.3/WWW/Mechanize.pm line 1413
	WWW::Mechanize::_make_request(Test::WWW::Mechanize::PSGI=HASH(0x557ea52acdc0), HTTP::Request=HASH(0x557ea5415458)) called at /opt/perl-5.22.3/lib/site_perl/5.22.3/WWW/Mechanize.pm line 1253
	WWW::Mechanize::request(Test::WWW::Mechanize::PSGI=HASH(0x557ea52acdc0), HTTP::Request=HASH(0x557ea5415458)) called at /opt/perl-5.22.3/lib/site_perl/5.22.3/LWP/UserAgent.pm line 435
	LWP::UserAgent::get(Test::WWW::Mechanize::PSGI=HASH(0x557ea52acdc0), "http://localhost/wishlist") called at /opt/perl-5.22.3/lib/site_perl/5.22.3/WWW/Mechanize.pm line 117
	WWW::Mechanize::get(Test::WWW::Mechanize::PSGI=HASH(0x557ea52acdc0), "/wishlist") called at /opt/perl-5.22.3/lib/site_perl/5.22.3/Test/WWW/Mechanize.pm line 160
	Test::WWW::Mechanize::get_ok(Test::WWW::Mechanize::PSGI=HASH(0x557ea52acdc0), "/wishlist", "Wishlist is still available") called at t/03_mech.t line 91
Secret string too short at /home/cpansand/.cpan/build/2017070909/HTTP-Session2-1.09-JnJoDm/blib/lib/HTTP/Session2/Base.pm line 79.
	HTTP::Session2::Base::__ANON__(HTTP::Session2::ServerStore=HASH(0x557ea5422428), "s3cret") called at t/03_mech.t line 121
	main::server_session(HASH(0x557ea541ede0)) called at t/03_mech.t line 17
	main::__ANON__(HASH(0x557ea541ede0)) called at /opt/perl-5.22.3/lib/site_perl/5.22.3/Test/WWW/Mechanize/PSGI.pm line 43
	Test::WWW::Mechanize::PSGI::try {...} () called at /opt/perl-5.22.3/lib/site_perl/5.22.3/Try/Tiny.pm line 103
	eval {...} called at /opt/perl-5.22.3/lib/site_perl/5.22.3/Try/Tiny.pm line 94
	Try::Tiny::try(CODE(0x557ea541e7e0), Try::Tiny::Catch=REF(0x557ea541e8b8)) called at /opt/perl-5.22.3/lib/site_perl/5.22.3/Test/WWW/Mechanize/PSGI.pm line 50
	Test::WWW::Mechanize::PSGI::simple_request(Test::WWW::Mechanize::PSGI=HASH(0x557ea52acdc0), HTTP::Request=HASH(0x557ea541e7c8), undef, undef) called at /opt/perl-5.22.3/lib/site_perl/5.22.3/LWP/UserAgent.pm line 297
	LWP::UserAgent::request(Test::WWW::Mechanize::PSGI=HASH(0x557ea52acdc0), HTTP::Request=HASH(0x557ea541e7c8)) called at /opt/perl-5.22.3/lib/site_perl/5.22.3/WWW/Mechanize.pm line 1413
	WWW::Mechanize::_make_request(Test::WWW::Mechanize::PSGI=HASH(0x557ea52acdc0), HTTP::Request=HASH(0x557ea541e7c8)) called at /opt/perl-5.22.3/lib/site_perl/5.22.3/WWW/Mechanize.pm line 1253
	WWW::Mechanize::request(Test::WWW::Mechanize::PSGI=HASH(0x557ea52acdc0), HTTP::Request=HASH(0x557ea541e7c8)) called at /opt/perl-5.22.3/lib/site_perl/5.22.3/LWP/UserAgent.pm line 435
	LWP::UserAgent::get(Test::WWW::Mechanize::PSGI=HASH(0x557ea52acdc0), "http://localhost/my/name") called at /opt/perl-5.22.3/lib/site_perl/5.22.3/WWW/Mechanize.pm line 117
	WWW::Mechanize::get(Test::WWW::Mechanize::PSGI=HASH(0x557ea52acdc0), "/my/name") called at /opt/perl-5.22.3/lib/site_perl/5.22.3/Test/WWW/Mechanize.pm line 160
	Test::WWW::Mechanize::get_ok(Test::WWW::Mechanize::PSGI=HASH(0x557ea52acdc0), "/my/name") called at t/03_mech.t line 93
Secret string too short at /home/cpansand/.cpan/build/2017070909/HTTP-Session2-1.09-JnJoDm/blib/lib/HTTP/Session2/Base.pm line 79.
	HTTP::Session2::Base::__ANON__(HTTP::Session2::ServerStore=HASH(0x557ea5422578), "s3cret") called at t/03_mech.t line 121
	main::server_session(HASH(0x557ea5422878)) called at t/03_mech.t line 17
	main::__ANON__(HASH(0x557ea5422878)) called at /opt/perl-5.22.3/lib/site_perl/5.22.3/Test/WWW/Mechanize/PSGI.pm line 43
	Test::WWW::Mechanize::PSGI::try {...} () called at /opt/perl-5.22.3/lib/site_perl/5.22.3/Try/Tiny.pm line 103
	eval {...} called at /opt/perl-5.22.3/lib/site_perl/5.22.3/Try/Tiny.pm line 94
	Try::Tiny::try(CODE(0x557ea541ed20), Try::Tiny::Catch=REF(0x557ea541ec78)) called at /opt/perl-5.22.3/lib/site_perl/5.22.3/Test/WWW/Mechanize/PSGI.pm line 50
	Test::WWW::Mechanize::PSGI::simple_request(Test::WWW::Mechanize::PSGI=HASH(0x557ea52acdc0), HTTP::Request=HASH(0x557ea5422800), undef, undef) called at /opt/perl-5.22.3/lib/site_perl/5.22.3/LWP/UserAgent.pm line 297
	LWP::UserAgent::request(Test::WWW::Mechanize::PSGI=HASH(0x557ea52acdc0), HTTP::Request=HASH(0x557ea5422800)) called at /opt/perl-5.22.3/lib/site_perl/5.22.3/WWW/Mechanize.pm line 1413
	WWW::Mechanize::_make_request(Test::WWW::Mechanize::PSGI=HASH(0x557ea52acdc0), HTTP::Request=HASH(0x557ea5422800)) called at /opt/perl-5.22.3/lib/site_perl/5.22.3/WWW/Mechanize.pm line 1253
	WWW::Mechanize::request(Test::WWW::Mechanize::PSGI=HASH(0x557ea52acdc0), HTTP::Request=HASH(0x557ea5422800)) called at /opt/perl-5.22.3/lib/site_perl/5.22.3/LWP/UserAgent.pm line 478
	LWP::UserAgent::post(Test::WWW::Mechanize::PSGI=HASH(0x557ea52acdc0), "/account/logout?john") called at t/03_mech.t line 97
Secret string too short at /home/cpansand/.cpan/build/2017070909/HTTP-Session2-1.09-JnJoDm/blib/lib/HTTP/Session2/Base.pm line 79.
	HTTP::Session2::Base::__ANON__(HTTP::Session2::ClientStore=HASH(0x557ea54148e8), "s3cret") called at t/03_mech.t line 127
	main::client_session(HASH(0x557ea5415320)) called at t/03_mech.t line 17
	main::__ANON__(HASH(0x557ea5415320)) called at /opt/perl-5.22.3/lib/site_perl/5.22.3/Test/WWW/Mechanize/PSGI.pm line 43
	Test::WWW::Mechanize::PSGI::try {...} () called at /opt/perl-5.22.3/lib/site_perl/5.22.3/Try/Tiny.pm line 103
	eval {...} called at /opt/perl-5.22.3/lib/site_perl/5.22.3/Try/Tiny.pm line 94
	Try::Tiny::try(CODE(0x557ea53e7c00), Try::Tiny::Catch=REF(0x557ea541cba0)) called at /opt/perl-5.22.3/lib/site_perl/5.22.3/Test/WWW/Mechanize/PSGI.pm line 50
	Test::WWW::Mechanize::PSGI::simple_request(Test::WWW::Mechanize::PSGI=HASH(0x557ea533d4b0), HTTP::Request=HASH(0x557ea52ad030), undef, undef) called at /opt/perl-5.22.3/lib/site_perl/5.22.3/LWP/UserAgent.pm line 297
	LWP::UserAgent::request(Test::WWW::Mechanize::PSGI=HASH(0x557ea533d4b0), HTTP::Request=HASH(0x557ea52ad030)) called at /opt/perl-5.22.3/lib/site_perl/5.22.3/WWW/Mechanize.pm line 1413
	WWW::Mechanize::_make_request(Test::WWW::Mechanize::PSGI=HASH(0x557ea533d4b0), HTTP::Request=HASH(0x557ea52ad030)) called at /opt/perl-5.22.3/lib/site_perl/5.22.3/WWW/Mechanize.pm line 1253
	WWW::Mechanize::request(Test::WWW::Mechanize::PSGI=HASH(0x557ea533d4b0), HTTP::Request=HASH(0x557ea52ad030)) called at /opt/perl-5.22.3/lib/site_perl/5.22.3/LWP/UserAgent.pm line 435
	LWP::UserAgent::get(Test::WWW::Mechanize::PSGI=HASH(0x557ea533d4b0), "/") called at /opt/perl-5.22.3/lib/site_perl/5.22.3/WWW/Mechanize.pm line 117
	WWW::Mechanize::get(Test::WWW::Mechanize::PSGI=HASH(0x557ea533d4b0), "/") called at /opt/perl-5.22.3/lib/site_perl/5.22.3/Test/WWW/Mechanize.pm line 160
	Test::WWW::Mechanize::get_ok(Test::WWW::Mechanize::PSGI=HASH(0x557ea533d4b0), "/") called at t/03_mech.t line 74
Secret string too short at /home/cpansand/.cpan/build/2017070909/HTTP-Session2-1.09-JnJoDm/blib/lib/HTTP/Session2/Base.pm line 79.
	HTTP::Session2::Base::__ANON__(HTTP::Session2::ClientStore=HASH(0x557ea5415098), "s3cret") called at t/03_mech.t line 127
	main::client_session(HASH(0x557ea54152d8)) called at t/03_mech.t line 17
	main::__ANON__(HASH(0x557ea54152d8)) called at /opt/perl-5.22.3/lib/site_perl/5.22.3/Test/WWW/Mechanize/PSGI.pm line 43
	Test::WWW::Mechanize::PSGI::try {...} () called at /opt/perl-5.22.3/lib/site_perl/5.22.3/Try/Tiny.pm line 103
	eval {...} called at /opt/perl-5.22.3/lib/site_perl/5.22.3/Try/Tiny.pm line 94
	Try::Tiny::try(CODE(0x557ea53e7a80), Try::Tiny::Catch=REF(0x557ea5299318)) called at /opt/perl-5.22.3/lib/site_perl/5.22.3/Test/WWW/Mechanize/PSGI.pm line 50
	Test::WWW::Mechanize::PSGI::simple_request(Test::WWW::Mechanize::PSGI=HASH(0x557ea533d4b0), HTTP::Request=HASH(0x557ea5422e00), undef, undef) called at /opt/perl-5.22.3/lib/site_perl/5.22.3/LWP/UserAgent.pm line 297
	LWP::UserAgent::request(Test::WWW::Mechanize::PSGI=HASH(0x557ea533d4b0), HTTP::Request=HASH(0x557ea5422e00)) called at /opt/perl-5.22.3/lib/site_perl/5.22.3/WWW/Mechanize.pm line 1413
	WWW::Mechanize::_make_request(Test::WWW::Mechanize::PSGI=HASH(0x557ea533d4b0), HTTP::Request=HASH(0x557ea5422e00)) called at /opt/perl-5.22.3/lib/site_perl/5.22.3/WWW/Mechanize.pm line 1253
	WWW::Mechanize::request(Test::WWW::Mechanize::PSGI=HASH(0x557ea533d4b0), HTTP::Request=HASH(0x557ea5422e00)) called at /opt/perl-5.22.3/lib/site_perl/5.22.3/LWP/UserAgent.pm line 478
	LWP::UserAgent::post(Test::WWW::Mechanize::PSGI=HASH(0x557ea533d4b0), "/wishlist?foo", HASH(0x557ea4fab1e0)) called at /opt/perl-5.22.3/lib/site_perl/5.22.3/Test/WWW/Mechanize.pm line 237
	Test::WWW::Mechanize::post_ok(Test::WWW::Mechanize::PSGI=HASH(0x557ea533d4b0), "/wishlist?foo") called at t/03_mech.t line 75
Do not use HTTP::Session2::ClientStore. Use HTTP::Session2::ServerStore or HTTP::Session2::ClientStore2 instead. at /home/cpansand/.cpan/build/2017070909/HTTP-Session2-1.09-JnJoDm/blib/lib/HTTP/Session2/ClientStore.pm line 25.
Secret string too short at /home/cpansand/.cpan/build/2017070909/HTTP-Session2-1.09-JnJoDm/blib/lib/HTTP/Session2/Base.pm line 79.
	HTTP::Session2::Base::__ANON__(HTTP::Session2::ClientStore=HASH(0x557ea541c4f8), "s3cret") called at t/03_mech.t line 127
	main::client_session(HASH(0x557ea53e7be8)) called at t/03_mech.t line 17
	main::__ANON__(HASH(0x557ea53e7be8)) called at /opt/perl-5.22.3/lib/site_perl/5.22.3/Test/WWW/Mechanize/PSGI.pm line 43
	Test::WWW::Mechanize::PSGI::try {...} () called at /opt/perl-5.22.3/lib/site_perl/5.22.3/Try/Tiny.pm line 103
	eval {...} called at /opt/perl-5.22.3/lib/site_perl/5.22.3/Try/Tiny.pm line 94
	Try::Tiny::try(CODE(0x557ea5414b88), Try::Tiny::Catch=REF(0x557ea5414ba0)) called at /opt/perl-5.22.3/lib/site_perl/5.22.3/Test/WWW/Mechanize/PSGI.pm line 50
	Test::WWW::Mechanize::PSGI::simple_request(Test::WWW::Mechanize::PSGI=HASH(0x557ea533d4b0), HTTP::Request=HASH(0x557ea5414708), undef, undef) called at /opt/perl-5.22.3/lib/site_perl/5.22.3/LWP/UserAgent.pm line 297
	LWP::UserAgent::request(Test::WWW::Mechanize::PSGI=HASH(0x557ea533d4b0), HTTP::Request=HASH(0x557ea5414708)) called at /opt/perl-5.22.3/lib/site_perl/5.22.3/WWW/Mechanize.pm line 1413
	WWW::Mechanize::_make_request(Test::WWW::Mechanize::PSGI=HASH(0x557ea533d4b0), HTTP::Request=HASH(0x557ea5414708)) called at /opt/perl-5.22.3/lib/site_perl/5.22.3/WWW/Mechanize.pm line 1253
	WWW::Mechanize::request(Test::WWW::Mechanize::PSGI=HASH(0x557ea533d4b0), HTTP::Request=HASH(0x557ea5414708)) called at /opt/perl-5.22.3/lib/site_perl/5.22.3/LWP/UserAgent.pm line 435
	LWP::UserAgent::get(Test::WWW::Mechanize::PSGI=HASH(0x557ea533d4b0), "http://localhost/wishlist") called at /opt/perl-5.22.3/lib/site_perl/5.22.3/WWW/Mechanize.pm line 117
	WWW::Mechanize::get(Test::WWW::Mechanize::PSGI=HASH(0x557ea533d4b0), "/wishlist") called at /opt/perl-5.22.3/lib/site_perl/5.22.3/Test/WWW/Mechanize.pm line 160
	Test::WWW::Mechanize::get_ok(Test::WWW::Mechanize::PSGI=HASH(0x557ea533d4b0), "/wishlist") called at t/03_mech.t line 76
Do not use HTTP::Session2::ClientStore. Use HTTP::Session2::ServerStore or HTTP::Session2::ClientStore2 instead. at /home/cpansand/.cpan/build/2017070909/HTTP-Session2-1.09-JnJoDm/blib/lib/HTTP/Session2/ClientStore.pm line 35.
Secret string too short at /home/cpansand/.cpan/build/2017070909/HTTP-Session2-1.09-JnJoDm/blib/lib/HTTP/Session2/Base.pm line 79.
	HTTP::Session2::Base::__ANON__(HTTP::Session2::ClientStore=HASH(0x557ea541bca0), "s3cret") called at t/03_mech.t line 127
	main::client_session(HASH(0x557ea541edf8)) called at t/03_mech.t line 17
	main::__ANON__(HASH(0x557ea541edf8)) called at /opt/perl-5.22.3/lib/site_perl/5.22.3/Test/WWW/Mechanize/PSGI.pm line 43
	Test::WWW::Mechanize::PSGI::try {...} () called at /opt/perl-5.22.3/lib/site_perl/5.22.3/Try/Tiny.pm line 103
	eval {...} called at /opt/perl-5.22.3/lib/site_perl/5.22.3/Try/Tiny.pm line 94
	Try::Tiny::try(CODE(0x557ea541c2e8), Try::Tiny::Catch=REF(0x557ea541c3d8)) called at /opt/perl-5.22.3/lib/site_perl/5.22.3/Test/WWW/Mechanize/PSGI.pm line 50
	Test::WWW::Mechanize::PSGI::simple_request(Test::WWW::Mechanize::PSGI=HASH(0x557ea533d4b0), HTTP::Request=HASH(0x557ea541bf28), undef, undef) called at /opt/perl-5.22.3/lib/site_perl/5.22.3/LWP/UserAgent.pm line 297
	LWP::UserAgent::request(Test::WWW::Mechanize::PSGI=HASH(0x557ea533d4b0), HTTP::Request=HASH(0x557ea541bf28)) called at /opt/perl-5.22.3/lib/site_perl/5.22.3/WWW/Mechanize.pm line 1413
	WWW::Mechanize::_make_request(Test::WWW::Mechanize::PSGI=HASH(0x557ea533d4b0), HTTP::Request=HASH(0x557ea541bf28)) called at /opt/perl-5.22.3/lib/site_perl/5.22.3/WWW/Mechanize.pm line 1253
	WWW::Mechanize::request(Test::WWW::Mechanize::PSGI=HASH(0x557ea533d4b0), HTTP::Request=HASH(0x557ea541bf28)) called at /opt/perl-5.22.3/lib/site_perl/5.22.3/LWP/UserAgent.pm line 478
	LWP::UserAgent::post(Test::WWW::Mechanize::PSGI=HASH(0x557ea533d4b0), "/wishlist?bar") called at t/03_mech.t line 78
Do not use HTTP::Session2::ClientStore. Use HTTP::Session2::ServerStore or HTTP::Session2::ClientStore2 instead. at /home/cpansand/.cpan/build/2017070909/HTTP-Session2-1.09-JnJoDm/blib/lib/HTTP/Session2/ClientStore.pm line 35.
Secret string too short at /home/cpansand/.cpan/build/2017070909/HTTP-Session2-1.09-JnJoDm/blib/lib/HTTP/Session2/Base.pm line 79.
	HTTP::Session2::Base::__ANON__(HTTP::Session2::ClientStore=HASH(0x557ea53e76c0), "s3cret") called at t/03_mech.t line 127
	main::client_session(HASH(0x557ea54146d8)) called at t/03_mech.t line 17
	main::__ANON__(HASH(0x557ea54146d8)) called at /opt/perl-5.22.3/lib/site_perl/5.22.3/Test/WWW/Mechanize/PSGI.pm line 43
	Test::WWW::Mechanize::PSGI::try {...} () called at /opt/perl-5.22.3/lib/site_perl/5.22.3/Try/Tiny.pm line 103
	eval {...} called at /opt/perl-5.22.3/lib/site_perl/5.22.3/Try/Tiny.pm line 94
	Try::Tiny::try(CODE(0x557ea541c588), Try::Tiny::Catch=REF(0x557ea5415038)) called at /opt/perl-5.22.3/lib/site_perl/5.22.3/Test/WWW/Mechanize/PSGI.pm line 50
	Test::WWW::Mechanize::PSGI::simple_request(Test::WWW::Mechanize::PSGI=HASH(0x557ea533d4b0), HTTP::Request=HASH(0x557ea541c0c0), undef, undef) called at /opt/perl-5.22.3/lib/site_perl/5.22.3/LWP/UserAgent.pm line 297
	LWP::UserAgent::request(Test::WWW::Mechanize::PSGI=HASH(0x557ea533d4b0), HTTP::Request=HASH(0x557ea541c0c0)) called at /opt/perl-5.22.3/lib/site_perl/5.22.3/WWW/Mechanize.pm line 1413
	WWW::Mechanize::_make_request(Test::WWW::Mechanize::PSGI=HASH(0x557ea533d4b0), HTTP::Request=HASH(0x557ea541c0c0)) called at /opt/perl-5.22.3/lib/site_perl/5.22.3/WWW/Mechanize.pm line 1253
	WWW::Mechanize::request(Test::WWW::Mechanize::PSGI=HASH(0x557ea533d4b0), HTTP::Request=HASH(0x557ea541c0c0)) called at /opt/perl-5.22.3/lib/site_perl/5.22.3/LWP/UserAgent.pm line 478
	LWP::UserAgent::post(Test::WWW::Mechanize::PSGI=HASH(0x557ea533d4b0), "/wishlist?bar", HASH(0x557ea4fab1e0)) called at /opt/perl-5.22.3/lib/site_perl/5.22.3/Test/WWW/Mechanize.pm line 237
	Test::WWW::Mechanize::post_ok(Test::WWW::Mechanize::PSGI=HASH(0x557ea533d4b0), "/wishlist?bar") called at t/03_mech.t line 81
Do not use HTTP::Session2::ClientStore. Use HTTP::Session2::ServerStore or HTTP::Session2::ClientStore2 instead. at /home/cpansand/.cpan/build/2017070909/HTTP-Session2-1.09-JnJoDm/blib/lib/HTTP/Session2/ClientStore.pm line 35.
Do not use HTTP::Session2::ClientStore. Use HTTP::Session2::ServerStore or HTTP::Session2::ClientStore2 instead. at /home/cpansand/.cpan/build/2017070909/HTTP-Session2-1.09-JnJoDm/blib/lib/HTTP/Session2/ClientStore.pm line 25.
Secret string too short at /home/cpansand/.cpan/build/2017070909/HTTP-Session2-1.09-JnJoDm/blib/lib/HTTP/Session2/Base.pm line 79.
	HTTP::Session2::Base::__ANON__(HTTP::Session2::ClientStore=HASH(0x557ea541e378), "s3cret") called at t/03_mech.t line 127
	main::client_session(HASH(0x557ea5414cd8)) called at t/03_mech.t line 17
	main::__ANON__(HASH(0x557ea5414cd8)) called at /opt/perl-5.22.3/lib/site_perl/5.22.3/Test/WWW/Mechanize/PSGI.pm line 43
	Test::WWW::Mechanize::PSGI::try {...} () called at /opt/perl-5.22.3/lib/site_perl/5.22.3/Try/Tiny.pm line 103
	eval {...} called at /opt/perl-5.22.3/lib/site_perl/5.22.3/Try/Tiny.pm line 94
	Try::Tiny::try(CODE(0x557ea541be98), Try::Tiny::Catch=REF(0x557ea5415080)) called at /opt/perl-5.22.3/lib/site_perl/5.22.3/Test/WWW/Mechanize/PSGI.pm line 50
	Test::WWW::Mechanize::PSGI::simple_request(Test::WWW::Mechanize::PSGI=HASH(0x557ea533d4b0), HTTP::Request=HASH(0x557ea541c108), undef, undef) called at /opt/perl-5.22.3/lib/site_perl/5.22.3/LWP/UserAgent.pm line 297
	LWP::UserAgent::request(Test::WWW::Mechanize::PSGI=HASH(0x557ea533d4b0), HTTP::Request=HASH(0x557ea541c108)) called at /opt/perl-5.22.3/lib/site_perl/5.22.3/WWW/Mechanize.pm line 1413
	WWW::Mechanize::_make_request(Test::WWW::Mechanize::PSGI=HASH(0x557ea533d4b0), HTTP::Request=HASH(0x557ea541c108)) called at /opt/perl-5.22.3/lib/site_perl/5.22.3/WWW/Mechanize.pm line 1253
	WWW::Mechanize::request(Test::WWW::Mechanize::PSGI=HASH(0x557ea533d4b0), HTTP::Request=HASH(0x557ea541c108)) called at /opt/perl-5.22.3/lib/site_perl/5.22.3/LWP/UserAgent.pm line 435
	LWP::UserAgent::get(Test::WWW::Mechanize::PSGI=HASH(0x557ea533d4b0), "http://localhost/wishlist") called at /opt/perl-5.22.3/lib/site_perl/5.22.3/WWW/Mechanize.pm line 117
	WWW::Mechanize::get(Test::WWW::Mechanize::PSGI=HASH(0x557ea533d4b0), "/wishlist") called at /opt/perl-5.22.3/lib/site_perl/5.22.3/Test/WWW/Mechanize.pm line 160
	Test::WWW::Mechanize::get_ok(Test::WWW::Mechanize::PSGI=HASH(0x557ea533d4b0), "/wishlist") called at t/03_mech.t line 82
Do not use HTTP::Session2::ClientStore. Use HTTP::Session2::ServerStore or HTTP::Session2::ClientStore2 instead. at /home/cpansand/.cpan/build/2017070909/HTTP-Session2-1.09-JnJoDm/blib/lib/HTTP/Session2/ClientStore.pm line 35.
Secret string too short at /home/cpansand/.cpan/build/2017070909/HTTP-Session2-1.09-JnJoDm/blib/lib/HTTP/Session2/Base.pm line 79.
	HTTP::Session2::Base::__ANON__(HTTP::Session2::ClientStore=HASH(0x557ea541e318), "s3cret") called at t/03_mech.t line 127
	main::client_session(HASH(0x557ea54148b8)) called at t/03_mech.t line 17
	main::__ANON__(HASH(0x557ea54148b8)) called at /opt/perl-5.22.3/lib/site_perl/5.22.3/Test/WWW/Mechanize/PSGI.pm line 43
	Test::WWW::Mechanize::PSGI::try {...} () called at /opt/perl-5.22.3/lib/site_perl/5.22.3/Try/Tiny.pm line 103
	eval {...} called at /opt/perl-5.22.3/lib/site_perl/5.22.3/Try/Tiny.pm line 94
	Try::Tiny::try(CODE(0x557ea53e76c0), Try::Tiny::Catch=REF(0x557ea541c930)) called at /opt/perl-5.22.3/lib/site_perl/5.22.3/Test/WWW/Mechanize/PSGI.pm line 50
	Test::WWW::Mechanize::PSGI::simple_request(Test::WWW::Mechanize::PSGI=HASH(0x557ea533d4b0), HTTP::Request=HASH(0x557ea541ebe8), undef, undef) called at /opt/perl-5.22.3/lib/site_perl/5.22.3/LWP/UserAgent.pm line 297
	LWP::UserAgent::request(Test::WWW::Mechanize::PSGI=HASH(0x557ea533d4b0), HTTP::Request=HASH(0x557ea541ebe8)) called at /opt/perl-5.22.3/lib/site_perl/5.22.3/WWW/Mechanize.pm line 1413
	WWW::Mechanize::_make_request(Test::WWW::Mechanize::PSGI=HASH(0x557ea533d4b0), HTTP::Request=HASH(0x557ea541ebe8)) called at /opt/perl-5.22.3/lib/site_perl/5.22.3/WWW/Mechanize.pm line 1253
	WWW::Mechanize::request(Test::WWW::Mechanize::PSGI=HASH(0x557ea533d4b0), HTTP::Request=HASH(0x557ea541ebe8)) called at /opt/perl-5.22.3/lib/site_perl/5.22.3/LWP/UserAgent.pm line 478
	LWP::UserAgent::post(Test::WWW::Mechanize::PSGI=HASH(0x557ea533d4b0), "/account/login?john", HASH(0x557ea4fab1e0)) called at /opt/perl-5.22.3/lib/site_perl/5.22.3/Test/WWW/Mechanize.pm line 237
	Test::WWW::Mechanize::post_ok(Test::WWW::Mechanize::PSGI=HASH(0x557ea533d4b0), "/account/login?john") called at t/03_mech.t line 84
Do not use HTTP::Session2::ClientStore. Use HTTP::Session2::ServerStore or HTTP::Session2::ClientStore2 instead. at /home/cpansand/.cpan/build/2017070909/HTTP-Session2-1.09-JnJoDm/blib/lib/HTTP/Session2/ClientStore.pm line 35.
Do not use HTTP::Session2::ClientStore. Use HTTP::Session2::ServerStore or HTTP::Session2::ClientStore2 instead. at /home/cpansand/.cpan/build/2017070909/HTTP-Session2-1.09-JnJoDm/blib/lib/HTTP/Session2/ClientStore.pm line 35.
Do not use HTTP::Session2::ClientStore. Use HTTP::Session2::ServerStore or HTTP::Session2::ClientStore2 instead. at /home/cpansand/.cpan/build/2017070909/HTTP-Session2-1.09-JnJoDm/blib/lib/HTTP/Session2/ClientStore.pm line 25.
Secret string too short at /home/cpansand/.cpan/build/2017070909/HTTP-Session2-1.09-JnJoDm/blib/lib/HTTP/Session2/Base.pm line 79.
	HTTP::Session2::Base::__ANON__(HTTP::Session2::ClientStore=HASH(0x557ea541eba0), "s3cret") called at t/03_mech.t line 127
	main::client_session(HASH(0x557ea541ecd8)) called at t/03_mech.t line 17
	main::__ANON__(HASH(0x557ea541ecd8)) called at /opt/perl-5.22.3/lib/site_perl/5.22.3/Test/WWW/Mechanize/PSGI.pm line 43
	Test::WWW::Mechanize::PSGI::try {...} () called at /opt/perl-5.22.3/lib/site_perl/5.22.3/Try/Tiny.pm line 103
	eval {...} called at /opt/perl-5.22.3/lib/site_perl/5.22.3/Try/Tiny.pm line 94
	Try::Tiny::try(CODE(0x557ea541e888), Try::Tiny::Catch=REF(0x557ea541ee70)) called at /opt/perl-5.22.3/lib/site_perl/5.22.3/Test/WWW/Mechanize/PSGI.pm line 50
	Test::WWW::Mechanize::PSGI::simple_request(Test::WWW::Mechanize::PSGI=HASH(0x557ea533d4b0), HTTP::Request=HASH(0x557ea541c888), undef, undef) called at /opt/perl-5.22.3/lib/site_perl/5.22.3/LWP/UserAgent.pm line 297
	LWP::UserAgent::request(Test::WWW::Mechanize::PSGI=HASH(0x557ea533d4b0), HTTP::Request=HASH(0x557ea541c888)) called at /opt/perl-5.22.3/lib/site_perl/5.22.3/WWW/Mechanize.pm line 1413
	WWW::Mechanize::_make_request(Test::WWW::Mechanize::PSGI=HASH(0x557ea533d4b0), HTTP::Request=HASH(0x557ea541c888)) called at /opt/perl-5.22.3/lib/site_perl/5.22.3/WWW/Mechanize.pm line 1253
	WWW::Mechanize::request(Test::WWW::Mechanize::PSGI=HASH(0x557ea533d4b0), HTTP::Request=HASH(0x557ea541c888)) called at /opt/perl-5.22.3/lib/site_perl/5.22.3/LWP/UserAgent.pm line 435
	LWP::UserAgent::get(Test::WWW::Mechanize::PSGI=HASH(0x557ea533d4b0), "http://localhost/wishlist") called at /opt/perl-5.22.3/lib/site_perl/5.22.3/WWW/Mechanize.pm line 117
	WWW::Mechanize::get(Test::WWW::Mechanize::PSGI=HASH(0x557ea533d4b0), "/wishlist") called at /opt/perl-5.22.3/lib/site_perl/5.22.3/Test/WWW/Mechanize.pm line 160
	Test::WWW::Mechanize::get_ok(Test::WWW::Mechanize::PSGI=HASH(0x557ea533d4b0), "/wishlist", "Wishlist is still available") called at t/03_mech.t line 85
Do not use HTTP::Session2::ClientStore. Use HTTP::Session2::ServerStore or HTTP::Session2::ClientStore2 instead. at /home/cpansand/.cpan/build/2017070909/HTTP-Session2-1.09-JnJoDm/blib/lib/HTTP/Session2/ClientStore.pm line 35.
Secret string too short at /home/cpansand/.cpan/build/2017070909/HTTP-Session2-1.09-JnJoDm/blib/lib/HTTP/Session2/Base.pm line 79.
	HTTP::Session2::Base::__ANON__(HTTP::Session2::ClientStore=HASH(0x557ea541ee40), "s3cret") called at t/03_mech.t line 127
	main::client_session(HASH(0x557ea5422578)) called at t/03_mech.t line 17
	main::__ANON__(HASH(0x557ea5422578)) called at /opt/perl-5.22.3/lib/site_perl/5.22.3/Test/WWW/Mechanize/PSGI.pm line 43
	Test::WWW::Mechanize::PSGI::try {...} () called at /opt/perl-5.22.3/lib/site_perl/5.22.3/Try/Tiny.pm line 103
	eval {...} called at /opt/perl-5.22.3/lib/site_perl/5.22.3/Try/Tiny.pm line 94
	Try::Tiny::try(CODE(0x557ea5422470), Try::Tiny::Catch=REF(0x557ea541f038)) called at /opt/perl-5.22.3/lib/site_perl/5.22.3/Test/WWW/Mechanize/PSGI.pm line 50
	Test::WWW::Mechanize::PSGI::simple_request(Test::WWW::Mechanize::PSGI=HASH(0x557ea533d4b0), HTTP::Request=HASH(0x557ea541e180), undef, undef) called at /opt/perl-5.22.3/lib/site_perl/5.22.3/LWP/UserAgent.pm line 297
	LWP::UserAgent::request(Test::WWW::Mechanize::PSGI=HASH(0x557ea533d4b0), HTTP::Request=HASH(0x557ea541e180)) called at /opt/perl-5.22.3/lib/site_perl/5.22.3/WWW/Mechanize.pm line 1413
	WWW::Mechanize::_make_request(Test::WWW::Mechanize::PSGI=HASH(0x557ea533d4b0), HTTP::Request=HASH(0x557ea541e180)) called at /opt/perl-5.22.3/lib/site_perl/5.22.3/WWW/Mechanize.pm line 1253
	WWW::Mechanize::request(Test::WWW::Mechanize::PSGI=HASH(0x557ea533d4b0), HTTP::Request=HASH(0x557ea541e180)) called at /opt/perl-5.22.3/lib/site_perl/5.22.3/LWP/UserAgent.pm line 478
	LWP::UserAgent::post(Test::WWW::Mechanize::PSGI=HASH(0x557ea533d4b0), "/wishlist?baz") called at t/03_mech.t line 87
Do not use HTTP::Session2::ClientStore. Use HTTP::Session2::ServerStore or HTTP::Session2::ClientStore2 instead. at /home/cpansand/.cpan/build/2017070909/HTTP-Session2-1.09-JnJoDm/blib/lib/HTTP/Session2/ClientStore.pm line 35.
Secret string too short at /home/cpansand/.cpan/build/2017070909/HTTP-Session2-1.09-JnJoDm/blib/lib/HTTP/Session2/Base.pm line 79.
	HTTP::Session2::Base::__ANON__(HTTP::Session2::ClientStore=HASH(0x557ea541ecc0), "s3cret") called at t/03_mech.t line 127
	main::client_session(HASH(0x557ea5414900)) called at t/03_mech.t line 17
	main::__ANON__(HASH(0x557ea5414900)) called at /opt/perl-5.22.3/lib/site_perl/5.22.3/Test/WWW/Mechanize/PSGI.pm line 43
	Test::WWW::Mechanize::PSGI::try {...} () called at /opt/perl-5.22.3/lib/site_perl/5.22.3/Try/Tiny.pm line 103
	eval {...} called at /opt/perl-5.22.3/lib/site_perl/5.22.3/Try/Tiny.pm line 94
	Try::Tiny::try(CODE(0x557ea541ea08), Try::Tiny::Catch=REF(0x557ea5422ab8)) called at /opt/perl-5.22.3/lib/site_perl/5.22.3/Test/WWW/Mechanize/PSGI.pm line 50
	Test::WWW::Mechanize::PSGI::simple_request(Test::WWW::Mechanize::PSGI=HASH(0x557ea533d4b0), HTTP::Request=HASH(0x557ea541ca68), undef, undef) called at /opt/perl-5.22.3/lib/site_perl/5.22.3/LWP/UserAgent.pm line 297
	LWP::UserAgent::request(Test::WWW::Mechanize::PSGI=HASH(0x557ea533d4b0), HTTP::Request=HASH(0x557ea541ca68)) called at /opt/perl-5.22.3/lib/site_perl/5.22.3/WWW/Mechanize.pm line 1413
	WWW::Mechanize::_make_request(Test::WWW::Mechanize::PSGI=HASH(0x557ea533d4b0), HTTP::Request=HASH(0x557ea541ca68)) called at /opt/perl-5.22.3/lib/site_perl/5.22.3/WWW/Mechanize.pm line 1253
	WWW::Mechanize::request(Test::WWW::Mechanize::PSGI=HASH(0x557ea533d4b0), HTTP::Request=HASH(0x557ea541ca68)) called at /opt/perl-5.22.3/lib/site_perl/5.22.3/LWP/UserAgent.pm line 478
	LWP::UserAgent::post(Test::WWW::Mechanize::PSGI=HASH(0x557ea533d4b0), "/wishlist?baz", HASH(0x557ea4fab1e0)) called at /opt/perl-5.22.3/lib/site_perl/5.22.3/Test/WWW/Mechanize.pm line 237
	Test::WWW::Mechanize::post_ok(Test::WWW::Mechanize::PSGI=HASH(0x557ea533d4b0), "/wishlist?baz") called at t/03_mech.t line 90
Do not use HTTP::Session2::ClientStore. Use HTTP::Session2::ServerStore or HTTP::Session2::ClientStore2 instead. at /home/cpansand/.cpan/build/2017070909/HTTP-Session2-1.09-JnJoDm/blib/lib/HTTP/Session2/ClientStore.pm line 35.
Do not use HTTP::Session2::ClientStore. Use HTTP::Session2::ServerStore or HTTP::Session2::ClientStore2 instead. at /home/cpansand/.cpan/build/2017070909/HTTP-Session2-1.09-JnJoDm/blib/lib/HTTP/Session2/ClientStore.pm line 25.
Secret string too short at /home/cpansand/.cpan/build/2017070909/HTTP-Session2-1.09-JnJoDm/blib/lib/HTTP/Session2/Base.pm line 79.
	HTTP::Session2::Base::__ANON__(HTTP::Session2::ClientStore=HASH(0x557ea5423040), "s3cret") called at t/03_mech.t line 127
	main::client_session(HASH(0x557ea5422a28)) called at t/03_mech.t line 17
	main::__ANON__(HASH(0x557ea5422a28)) called at /opt/perl-5.22.3/lib/site_perl/5.22.3/Test/WWW/Mechanize/PSGI.pm line 43
	Test::WWW::Mechanize::PSGI::try {...} () called at /opt/perl-5.22.3/lib/site_perl/5.22.3/Try/Tiny.pm line 103
	eval {...} called at /opt/perl-5.22.3/lib/site_perl/5.22.3/Try/Tiny.pm line 94
	Try::Tiny::try(CODE(0x557ea541eb28), Try::Tiny::Catch=REF(0x557ea5422518)) called at /opt/perl-5.22.3/lib/site_perl/5.22.3/Test/WWW/Mechanize/PSGI.pm line 50
	Test::WWW::Mechanize::PSGI::simple_request(Test::WWW::Mechanize::PSGI=HASH(0x557ea533d4b0), HTTP::Request=HASH(0x557ea541c360), undef, undef) called at /opt/perl-5.22.3/lib/site_perl/5.22.3/LWP/UserAgent.pm line 297
	LWP::UserAgent::request(Test::WWW::Mechanize::PSGI=HASH(0x557ea533d4b0), HTTP::Request=HASH(0x557ea541c360)) called at /opt/perl-5.22.3/lib/site_perl/5.22.3/WWW/Mechanize.pm line 1413
	WWW::Mechanize::_make_request(Test::WWW::Mechanize::PSGI=HASH(0x557ea533d4b0), HTTP::Request=HASH(0x557ea541c360)) called at /opt/perl-5.22.3/lib/site_perl/5.22.3/WWW/Mechanize.pm line 1253
	WWW::Mechanize::request(Test::WWW::Mechanize::PSGI=HASH(0x557ea533d4b0), HTTP::Request=HASH(0x557ea541c360)) called at /opt/perl-5.22.3/lib/site_perl/5.22.3/LWP/UserAgent.pm line 435
	LWP::UserAgent::get(Test::WWW::Mechanize::PSGI=HASH(0x557ea533d4b0), "http://localhost/wishlist") called at /opt/perl-5.22.3/lib/site_perl/5.22.3/WWW/Mechanize.pm line 117
	WWW::Mechanize::get(Test::WWW::Mechanize::PSGI=HASH(0x557ea533d4b0), "/wishlist") called at /opt/perl-5.22.3/lib/site_perl/5.22.3/Test/WWW/Mechanize.pm line 160
	Test::WWW::Mechanize::get_ok(Test::WWW::Mechanize::PSGI=HASH(0x557ea533d4b0), "/wishlist", "Wishlist is still available") called at t/03_mech.t line 91
Do not use HTTP::Session2::ClientStore. Use HTTP::Session2::ServerStore or HTTP::Session2::ClientStore2 instead. at /home/cpansand/.cpan/build/2017070909/HTTP-Session2-1.09-JnJoDm/blib/lib/HTTP/Session2/ClientStore.pm line 35.
Secret string too short at /home/cpansand/.cpan/build/2017070909/HTTP-Session2-1.09-JnJoDm/blib/lib/HTTP/Session2/Base.pm line 79.
	HTTP::Session2::Base::__ANON__(HTTP::Session2::ClientStore=HASH(0x557ea5423280), "s3cret") called at t/03_mech.t line 127
	main::client_session(HASH(0x557ea5422ea8)) called at t/03_mech.t line 17
	main::__ANON__(HASH(0x557ea5422ea8)) called at /opt/perl-5.22.3/lib/site_perl/5.22.3/Test/WWW/Mechanize/PSGI.pm line 43
	Test::WWW::Mechanize::PSGI::try {...} () called at /opt/perl-5.22.3/lib/site_perl/5.22.3/Try/Tiny.pm line 103
	eval {...} called at /opt/perl-5.22.3/lib/site_perl/5.22.3/Try/Tiny.pm line 94
	Try::Tiny::try(CODE(0x557ea541ecc0), Try::Tiny::Catch=REF(0x557ea53e7948)) called at /opt/perl-5.22.3/lib/site_perl/5.22.3/Test/WWW/Mechanize/PSGI.pm line 50
	Test::WWW::Mechanize::PSGI::simple_request(Test::WWW::Mechanize::PSGI=HASH(0x557ea533d4b0), HTTP::Request=HASH(0x557ea542c1c0), undef, undef) called at /opt/perl-5.22.3/lib/site_perl/5.22.3/LWP/UserAgent.pm line 297
	LWP::UserAgent::request(Test::WWW::Mechanize::PSGI=HASH(0x557ea533d4b0), HTTP::Request=HASH(0x557ea542c1c0)) called at /opt/perl-5.22.3/lib/site_perl/5.22.3/WWW/Mechanize.pm line 1413
	WWW::Mechanize::_make_request(Test::WWW::Mechanize::PSGI=HASH(0x557ea533d4b0), HTTP::Request=HASH(0x557ea542c1c0)) called at /opt/perl-5.22.3/lib/site_perl/5.22.3/WWW/Mechanize.pm line 1253
	WWW::Mechanize::request(Test::WWW::Mechanize::PSGI=HASH(0x557ea533d4b0), HTTP::Request=HASH(0x557ea542c1c0)) called at /opt/perl-5.22.3/lib/site_perl/5.22.3/LWP/UserAgent.pm line 435
	LWP::UserAgent::get(Test::WWW::Mechanize::PSGI=HASH(0x557ea533d4b0), "http://localhost/my/name") called at /opt/perl-5.22.3/lib/site_perl/5.22.3/WWW/Mechanize.pm line 117
	WWW::Mechanize::get(Test::WWW::Mechanize::PSGI=HASH(0x557ea533d4b0), "/my/name") called at /opt/perl-5.22.3/lib/site_perl/5.22.3/Test/WWW/Mechanize.pm line 160
	Test::WWW::Mechanize::get_ok(Test::WWW::Mechanize::PSGI=HASH(0x557ea533d4b0), "/my/name") called at t/03_mech.t line 93
Do not use HTTP::Session2::ClientStore. Use HTTP::Session2::ServerStore or HTTP::Session2::ClientStore2 instead. at /home/cpansand/.cpan/build/2017070909/HTTP-Session2-1.09-JnJoDm/blib/lib/HTTP/Session2/ClientStore.pm line 35.
Secret string too short at /home/cpansand/.cpan/build/2017070909/HTTP-Session2-1.09-JnJoDm/blib/lib/HTTP/Session2/Base.pm line 79.
	HTTP::Session2::Base::__ANON__(HTTP::Session2::ClientStore=HASH(0x557ea542c718), "s3cret") called at t/03_mech.t line 127
	main::client_session(HASH(0x557ea5423298)) called at t/03_mech.t line 17
	main::__ANON__(HASH(0x557ea5423298)) called at /opt/perl-5.22.3/lib/site_perl/5.22.3/Test/WWW/Mechanize/PSGI.pm line 43
	Test::WWW::Mechanize::PSGI::try {...} () called at /opt/perl-5.22.3/lib/site_perl/5.22.3/Try/Tiny.pm line 103
	eval {...} called at /opt/perl-5.22.3/lib/site_perl/5.22.3/Try/Tiny.pm line 94
	Try::Tiny::try(CODE(0x557ea542c0d0), Try::Tiny::Catch=REF(0x557ea5423190)) called at /opt/perl-5.22.3/lib/site_perl/5.22.3/Test/WWW/Mechanize/PSGI.pm line 50
	Test::WWW::Mechanize::PSGI::simple_request(Test::WWW::Mechanize::PSGI=HASH(0x557ea533d4b0), HTTP::Request=HASH(0x557ea5422890), undef, undef) called at /opt/perl-5.22.3/lib/site_perl/5.22.3/LWP/UserAgent.pm line 297
	LWP::UserAgent::request(Test::WWW::Mechanize::PSGI=HASH(0x557ea533d4b0), HTTP::Request=HASH(0x557ea5422890)) called at /opt/perl-5.22.3/lib/site_perl/5.22.3/WWW/Mechanize.pm line 1413
	WWW::Mechanize::_make_request(Test::WWW::Mechanize::PSGI=HASH(0x557ea533d4b0), HTTP::Request=HASH(0x557ea5422890)) called at /opt/perl-5.22.3/lib/site_perl/5.22.3/WWW/Mechanize.pm line 1253
	WWW::Mechanize::request(Test::WWW::Mechanize::PSGI=HASH(0x557ea533d4b0), HTTP::Request=HASH(0x557ea5422890)) called at /opt/perl-5.22.3/lib/site_perl/5.22.3/LWP/UserAgent.pm line 478
	LWP::UserAgent::post(Test::WWW::Mechanize::PSGI=HASH(0x557ea533d4b0), "/account/logout?john") called at t/03_mech.t line 97
Do not use HTTP::Session2::ClientStore. Use HTTP::Session2::ServerStore or HTTP::Session2::ClientStore2 instead. at /home/cpansand/.cpan/build/2017070909/HTTP-Session2-1.09-JnJoDm/blib/lib/HTTP/Session2/ClientStore.pm line 35.
Do not use HTTP::Session2::ClientStore. Use HTTP::Session2::ServerStore or HTTP::Session2::ClientStore2 instead. at /home/cpansand/.cpan/build/2017070909/HTTP-Session2-1.09-JnJoDm/blib/lib/HTTP/Session2/ClientStore.pm line 35.
t/03_mech.t ................. ok
Do not use HTTP::Session2::ClientStore. Use HTTP::Session2::ServerStore or HTTP::Session2::ClientStore2 instead. at /home/cpansand/.cpan/build/2017070909/HTTP-Session2-1.09-JnJoDm/blib/lib/HTTP/Session2/ClientStore.pm line 25.
t/04_plack_response.t ....... ok
Secret string too short at /home/cpansand/.cpan/build/2017070909/HTTP-Session2-1.09-JnJoDm/blib/lib/HTTP/Session2/Base.pm line 79.
	HTTP::Session2::Base::__ANON__(HTTP::Session2::ClientStore=HASH(0x5557c0448e20), "s3cret") called at t/05_keep_me_signed_in.t line 20
Do not use HTTP::Session2::ClientStore. Use HTTP::Session2::ServerStore or HTTP::Session2::ClientStore2 instead. at /home/cpansand/.cpan/build/2017070909/HTTP-Session2-1.09-JnJoDm/blib/lib/HTTP/Session2/ClientStore.pm line 25.
t/05_keep_me_signed_in.t .... ok
Secret string too short at /home/cpansand/.cpan/build/2017070909/HTTP-Session2-1.09-JnJoDm/blib/lib/HTTP/Session2/Base.pm line 79.
	HTTP::Session2::Base::__ANON__(HTTP::Session2::Base=HASH(0x55b6ded14188), "i am secret") called at t/06_base_abstract.t line 7
t/06_base_abstract.t ........ ok
Secret string too short at /home/cpansand/.cpan/build/2017070909/HTTP-Session2-1.09-JnJoDm/blib/lib/HTTP/Session2/Base.pm line 79.
	HTTP::Session2::Base::__ANON__(HTTP::Session2::ClientStore=HASH(0x55659af833d0), "secret") called at t/07_client_store.t line 23
	main::__ANON__() called at /opt/perl-5.22.3/lib/site_perl/5.22.3/Test/Builder.pm line 310
	eval {...} called at /opt/perl-5.22.3/lib/site_perl/5.22.3/Test/Builder.pm line 310
	Test::Builder::subtest(Test::Builder=HASH(0x55659a32b4c8), "get/set/remove", CODE(0x55659aac7a78)) called at /opt/perl-5.22.3/lib/site_perl/5.22.3/Test/More.pm line 807
	Test::More::subtest("get/set/remove", CODE(0x55659aac7a78)) called at t/07_client_store.t line 31
Secret string too short at /home/cpansand/.cpan/build/2017070909/HTTP-Session2-1.09-JnJoDm/blib/lib/HTTP/Session2/Base.pm line 79.
	HTTP::Session2::Base::__ANON__(HTTP::Session2::ClientStore=HASH(0x55659af83808), "secret") called at t/07_client_store.t line 35
	main::__ANON__() called at /opt/perl-5.22.3/lib/site_perl/5.22.3/Test/Builder.pm line 310
	eval {...} called at /opt/perl-5.22.3/lib/site_perl/5.22.3/Test/Builder.pm line 310
	Test::Builder::subtest(Test::Builder=HASH(0x55659a32b4c8), "validate_token", CODE(0x55659af5e6f8)) called at /opt/perl-5.22.3/lib/site_perl/5.22.3/Test/More.pm line 807
	Test::More::subtest("validate_token", CODE(0x55659af5e6f8)) called at t/07_client_store.t line 71
Do not use HTTP::Session2::ClientStore. Use HTTP::Session2::ServerStore or HTTP::Session2::ClientStore2 instead. at /home/cpansand/.cpan/build/2017070909/HTTP-Session2-1.09-JnJoDm/blib/lib/HTTP/Session2/ClientStore.pm line 25.
Secret string too short at /home/cpansand/.cpan/build/2017070909/HTTP-Session2-1.09-JnJoDm/blib/lib/HTTP/Session2/Base.pm line 79.
	HTTP::Session2::Base::__ANON__(HTTP::Session2::ClientStore=HASH(0x55659af89ed8), "secret") called at t/07_client_store.t line 51
	main::__ANON__() called at /opt/perl-5.22.3/lib/site_perl/5.22.3/Test/Builder.pm line 310
	eval {...} called at /opt/perl-5.22.3/lib/site_perl/5.22.3/Test/Builder.pm line 310
	Test::Builder::subtest(Test::Builder=HASH(0x55659a32b4c8), "bad", CODE(0x55659af773b0)) called at /opt/perl-5.22.3/lib/site_perl/5.22.3/Test/More.pm line 807
	Test::More::subtest("bad", CODE(0x55659af773b0)) called at t/07_client_store.t line 57
	main::__ANON__() called at /opt/perl-5.22.3/lib/site_perl/5.22.3/Test/Builder.pm line 310
	eval {...} called at /opt/perl-5.22.3/lib/site_perl/5.22.3/Test/Builder.pm line 310
	Test::Builder::subtest(Test::Builder=HASH(0x55659a32b4c8), "validate_token", CODE(0x55659af5e6f8)) called at /opt/perl-5.22.3/lib/site_perl/5.22.3/Test/More.pm line 807
	Test::More::subtest("validate_token", CODE(0x55659af5e6f8)) called at t/07_client_store.t line 71
Do not use HTTP::Session2::ClientStore. Use HTTP::Session2::ServerStore or HTTP::Session2::ClientStore2 instead. at /home/cpansand/.cpan/build/2017070909/HTTP-Session2-1.09-JnJoDm/blib/lib/HTTP/Session2/ClientStore.pm line 35.
Secret string too short at /home/cpansand/.cpan/build/2017070909/HTTP-Session2-1.09-JnJoDm/blib/lib/HTTP/Session2/Base.pm line 79.
	HTTP::Session2::Base::__ANON__(HTTP::Session2::ClientStore=HASH(0x55659af93028), "secret") called at t/07_client_store.t line 65
	main::__ANON__() called at /opt/perl-5.22.3/lib/site_perl/5.22.3/Test/Builder.pm line 310
	eval {...} called at /opt/perl-5.22.3/lib/site_perl/5.22.3/Test/Builder.pm line 310
	Test::Builder::subtest(Test::Builder=HASH(0x55659a32b4c8), "good", CODE(0x55659af773b0)) called at /opt/perl-5.22.3/lib/site_perl/5.22.3/Test/More.pm line 807
	Test::More::subtest("good", CODE(0x55659af773b0)) called at t/07_client_store.t line 70
	main::__ANON__() called at /opt/perl-5.22.3/lib/site_perl/5.22.3/Test/Builder.pm line 310
	eval {...} called at /opt/perl-5.22.3/lib/site_perl/5.22.3/Test/Builder.pm line 310
	Test::Builder::subtest(Test::Builder=HASH(0x55659a32b4c8), "validate_token", CODE(0x55659af5e6f8)) called at /opt/perl-5.22.3/lib/site_perl/5.22.3/Test/More.pm line 807
	Test::More::subtest("validate_token", CODE(0x55659af5e6f8)) called at t/07_client_store.t line 71
Do not use HTTP::Session2::ClientStore. Use HTTP::Session2::ServerStore or HTTP::Session2::ClientStore2 instead. at /home/cpansand/.cpan/build/2017070909/HTTP-Session2-1.09-JnJoDm/blib/lib/HTTP/Session2/ClientStore.pm line 35.
Secret string too short at /home/cpansand/.cpan/build/2017070909/HTTP-Session2-1.09-JnJoDm/blib/lib/HTTP/Session2/Base.pm line 79.
	HTTP::Session2::Base::__ANON__(HTTP::Session2::ClientStore=HASH(0x55659af77500), "secret") called at t/07_client_store.t line 76
	main::__ANON__() called at /opt/perl-5.22.3/lib/site_perl/5.22.3/Test/Builder.pm line 310
	eval {...} called at /opt/perl-5.22.3/lib/site_perl/5.22.3/Test/Builder.pm line 310
	Test::Builder::subtest(Test::Builder=HASH(0x55659a32b4c8), "ignore_old", CODE(0x55659af76960)) called at /opt/perl-5.22.3/lib/site_perl/5.22.3/Test/More.pm line 807
	Test::More::subtest("ignore_old", CODE(0x55659af76960)) called at t/07_client_store.t line 106
Do not use HTTP::Session2::ClientStore. Use HTTP::Session2::ServerStore or HTTP::Session2::ClientStore2 instead. at /home/cpansand/.cpan/build/2017070909/HTTP-Session2-1.09-JnJoDm/blib/lib/HTTP/Session2/ClientStore.pm line 25.
Secret string too short at /home/cpansand/.cpan/build/2017070909/HTTP-Session2-1.09-JnJoDm/blib/lib/HTTP/Session2/Base.pm line 79.
	HTTP::Session2::Base::__ANON__(HTTP::Session2::ClientStore=HASH(0x55659af83b80), "secret") called at t/07_client_store.t line 87
	main::__ANON__() called at /opt/perl-5.22.3/lib/site_perl/5.22.3/Test/Builder.pm line 310
	eval {...} called at /opt/perl-5.22.3/lib/site_perl/5.22.3/Test/Builder.pm line 310
	Test::Builder::subtest(Test::Builder=HASH(0x55659a32b4c8), "ignore_old disabled", CODE(0x55659af947c8)) called at /opt/perl-5.22.3/lib/site_perl/5.22.3/Test/More.pm line 807
	Test::More::subtest("ignore_old disabled", CODE(0x55659af947c8)) called at t/07_client_store.t line 95
	main::__ANON__() called at /opt/perl-5.22.3/lib/site_perl/5.22.3/Test/Builder.pm line 310
	eval {...} called at /opt/perl-5.22.3/lib/site_perl/5.22.3/Test/Builder.pm line 310
	Test::Builder::subtest(Test::Builder=HASH(0x55659a32b4c8), "ignore_old", CODE(0x55659af76960)) called at /opt/perl-5.22.3/lib/site_perl/5.22.3/Test/More.pm line 807
	Test::More::subtest("ignore_old", CODE(0x55659af76960)) called at t/07_client_store.t line 106
Do not use HTTP::Session2::ClientStore. Use HTTP::Session2::ServerStore or HTTP::Session2::ClientStore2 instead. at /home/cpansand/.cpan/build/2017070909/HTTP-Session2-1.09-JnJoDm/blib/lib/HTTP/Session2/ClientStore.pm line 35.
Secret string too short at /home/cpansand/.cpan/build/2017070909/HTTP-Session2-1.09-JnJoDm/blib/lib/HTTP/Session2/Base.pm line 79.
	HTTP::Session2::Base::__ANON__(HTTP::Session2::ClientStore=HASH(0x55659af777e8), "secret") called at t/07_client_store.t line 97
	main::__ANON__() called at /opt/perl-5.22.3/lib/site_perl/5.22.3/Test/Builder.pm line 310
	eval {...} called at /opt/perl-5.22.3/lib/site_perl/5.22.3/Test/Builder.pm line 310
	Test::Builder::subtest(Test::Builder=HASH(0x55659a32b4c8), "ignore_old enabled", CODE(0x55659af947c8)) called at /opt/perl-5.22.3/lib/site_perl/5.22.3/Test/More.pm line 807
	Test::More::subtest("ignore_old enabled", CODE(0x55659af947c8)) called at t/07_client_store.t line 105
	main::__ANON__() called at /opt/perl-5.22.3/lib/site_perl/5.22.3/Test/Builder.pm line 310
	eval {...} called at /opt/perl-5.22.3/lib/site_perl/5.22.3/Test/Builder.pm line 310
	Test::Builder::subtest(Test::Builder=HASH(0x55659a32b4c8), "ignore_old", CODE(0x55659af76960)) called at /opt/perl-5.22.3/lib/site_perl/5.22.3/Test/More.pm line 807
	Test::More::subtest("ignore_old", CODE(0x55659af76960)) called at t/07_client_store.t line 106
t/07_client_store.t ......... ok
Secret string too short at /home/cpansand/.cpan/build/2017070909/HTTP-Session2-1.09-JnJoDm/blib/lib/HTTP/Session2/Base.pm line 79.
	HTTP::Session2::Base::__ANON__(HTTP::Session2::Expired=HASH(0x5563396d7678), 33333) called at t/08_expired.t line 7
t/08_expired.t .............. ok
# /dev/urandom available
# /dev/urandom(1): 288CdooxN1olQHeUJREGctEqSG_PzYR
# /dev/urandom(2): rhZJ0QKnemdC01cfTz3Tl24xYs_sYm3
# perl:            3029c9b60e39f267821a2d4aa5177c6
t/09_random.t ............... ok
t/11_secret_string.t ........ ok
Secret string too short at /home/cpansand/.cpan/build/2017070909/HTTP-Session2-1.09-JnJoDm/blib/lib/HTTP/Session2/Base.pm line 79.
	HTTP::Session2::Base::__ANON__(HTTP::Session2::ClientStore2=HASH(0x55e2c0500a30), "s3cret") called at t/client_store2/01_basic.t line 24
	main::__ANON__("client -> server: request without cookie", CODE(0x55e2c0500580)) called at t/client_store2/01_basic.t line 30
	main::__ANON__() called at /opt/perl-5.22.3/lib/site_perl/5.22.3/Test/Builder.pm line 310
	eval {...} called at /opt/perl-5.22.3/lib/site_perl/5.22.3/Test/Builder.pm line 310
	Test::Builder::subtest(Test::Builder=HASH(0x55e2bfca3bb0), "First request", CODE(0x55e2bfc66160)) called at /opt/perl-5.22.3/lib/site_perl/5.22.3/Test/More.pm line 807
	Test::More::subtest("First request", CODE(0x55e2bfc66160)) called at t/client_store2/01_basic.t line 9
	main::scenario("First request", CODE(0x55e2bfc66160)) called at t/client_store2/01_basic.t line 36
Secret string too short at /home/cpansand/.cpan/build/2017070909/HTTP-Session2-1.09-JnJoDm/blib/lib/HTTP/Session2/Base.pm line 79.
	HTTP::Session2::Base::__ANON__(HTTP::Session2::ClientStore2=HASH(0x55e2c04f9250), "s3cret") called at t/client_store2/01_basic.t line 41
	main::__ANON__("client -> server: request without cookie", CODE(0x55e2c04f9268)) called at t/client_store2/01_basic.t line 47
	main::__ANON__() called at /opt/perl-5.22.3/lib/site_perl/5.22.3/Test/Builder.pm line 310
	eval {...} called at /opt/perl-5.22.3/lib/site_perl/5.22.3/Test/Builder.pm line 310
	Test::Builder::subtest(Test::Builder=HASH(0x55e2bfca3bb0), "Store something without login", CODE(0x55e2bfc66160)) called at /opt/perl-5.22.3/lib/site_perl/5.22.3/Test/More.pm line 807
	Test::More::subtest("Store something without login", CODE(0x55e2bfc66160)) called at t/client_store2/01_basic.t line 9
	main::scenario("Store something without login", CODE(0x55e2bfc66160)) called at t/client_store2/01_basic.t line 63
Secret string too short at /home/cpansand/.cpan/build/2017070909/HTTP-Session2-1.09-JnJoDm/blib/lib/HTTP/Session2/Base.pm line 79.
	HTTP::Session2::Base::__ANON__(HTTP::Session2::ClientStore2=HASH(0x55e2c050ebb0), "s3cret") called at t/client_store2/01_basic.t line 69
	main::__ANON__("client -> server: request without cookie", CODE(0x55e2c0508148)) called at t/client_store2/01_basic.t line 76
	main::__ANON__() called at /opt/perl-5.22.3/lib/site_perl/5.22.3/Test/Builder.pm line 310
	eval {...} called at /opt/perl-5.22.3/lib/site_perl/5.22.3/Test/Builder.pm line 310
	Test::Builder::subtest(Test::Builder=HASH(0x55e2bfca3bb0), "Login", CODE(0x55e2bfc66160)) called at /opt/perl-5.22.3/lib/site_perl/5.22.3/Test/More.pm line 807
	Test::More::subtest("Login", CODE(0x55e2bfc66160)) called at t/client_store2/01_basic.t line 9
	main::scenario("Login", CODE(0x55e2bfc66160)) called at t/client_store2/01_basic.t line 96
Ciphertext does not begin with a valid header for 'salt' header mode at /home/cpansand/.cpan/build/2017070909/HTTP-Session2-1.09-JnJoDm/blib/lib/HTTP/Session2/ClientStore2.pm line 81.
Ciphertext does not begin with a valid header for 'salt' header mode at /home/cpansand/.cpan/build/2017070909/HTTP-Session2-1.09-JnJoDm/blib/lib/HTTP/Session2/ClientStore2.pm line 81.
Secret string too short at /home/cpansand/.cpan/build/2017070909/HTTP-Session2-1.09-JnJoDm/blib/lib/HTTP/Session2/Base.pm line 79.
	HTTP::Session2::Base::__ANON__(HTTP::Session2::ClientStore2=HASH(0x55e2c05082b0), "s3cret") called at t/client_store2/01_basic.t line 102
	main::__ANON__("client -> server: request without cookie", CODE(0x55e2c0501408)) called at t/client_store2/01_basic.t line 109
	main::__ANON__() called at /opt/perl-5.22.3/lib/site_perl/5.22.3/Test/Builder.pm line 310
	eval {...} called at /opt/perl-5.22.3/lib/site_perl/5.22.3/Test/Builder.pm line 310
	Test::Builder::subtest(Test::Builder=HASH(0x55e2bfca3bb0), "In a login session", CODE(0x55e2bfc66160)) called at /opt/perl-5.22.3/lib/site_perl/5.22.3/Test/More.pm line 807
	Test::More::subtest("In a login session", CODE(0x55e2bfc66160)) called at t/client_store2/01_basic.t line 9
	main::scenario("In a login session", CODE(0x55e2bfc66160)) called at t/client_store2/01_basic.t line 118
Ciphertext does not begin with a valid header for 'salt' header mode at /home/cpansand/.cpan/build/2017070909/HTTP-Session2-1.09-JnJoDm/blib/lib/HTTP/Session2/ClientStore2.pm line 81.
Secret string too short at /home/cpansand/.cpan/build/2017070909/HTTP-Session2-1.09-JnJoDm/blib/lib/HTTP/Session2/Base.pm line 79.
	HTTP::Session2::Base::__ANON__(HTTP::Session2::ClientStore2=HASH(0x55e2c0500760), "s3cret") called at t/client_store2/01_basic.t line 123
	main::__ANON__("client -> server: request without cookie", CODE(0x55e2c0500748)) called at t/client_store2/01_basic.t line 130
	main::__ANON__() called at /opt/perl-5.22.3/lib/site_perl/5.22.3/Test/Builder.pm line 310
	eval {...} called at /opt/perl-5.22.3/lib/site_perl/5.22.3/Test/Builder.pm line 310
	Test::Builder::subtest(Test::Builder=HASH(0x55e2bfca3bb0), "Logout", CODE(0x55e2bfc66160)) called at /opt/perl-5.22.3/lib/site_perl/5.22.3/Test/More.pm line 807
	Test::More::subtest("Logout", CODE(0x55e2bfc66160)) called at t/client_store2/01_basic.t line 9
	main::scenario("Logout", CODE(0x55e2bfc66160)) called at t/client_store2/01_basic.t line 143
Ciphertext does not begin with a valid header for 'salt' header mode at /home/cpansand/.cpan/build/2017070909/HTTP-Session2-1.09-JnJoDm/blib/lib/HTTP/Session2/ClientStore2.pm line 81.
t/client_store2/01_basic.t .. ok
t/client_store2/02_mech.t ... ok
t/client_store2/03_colon.t .. ok
All tests successful.
Files=14, Tests=83,  1 wallclock secs ( 0.04 usr  0.06 sys +  0.81 cusr  0.17 csys =  1.08 CPU)
Result: PASS

------------------------------
PREREQUISITES
------------------------------

Prerequisite modules loaded:

requires:

    Module                     Need     Have    
    -------------------------- -------- --------
    Cookie::Baker              0        0.07    
    Crypt::CBC                 0        2.33    
    Data::MessagePack          0        1.00    
    Digest::HMAC               0        1.03    
    Digest::SHA                0        5.95_01 
    Digest::SHA1               0        2.13    
    MIME::Base64               3.11     3.15    
    Mouse                      0        v2.4.9  
    parent                     0        0.232   
    perl                       5.008005 5.022003
    Time::HiRes                0        1.9726  

build_requires:

    Module                     Need     Have    
    -------------------------- -------- --------
    Crypt::Rijndael            0        1.13    
    Plack::Request             0        1.0044  
    Plack::Response            0        1.0044  
    Test::More                 0.98     1.302086
    Test::WWW::Mechanize::PSGI 0        0.37    

configure_requires:

    Module                     Need     Have    
    -------------------------- -------- --------
    Module::Build              0.38     0.4224  


------------------------------
ENVIRONMENT AND OTHER CONTEXT
------------------------------

Environment variables:

    LANG = C
    PATH = /usr/local/bin:/usr/bin:/bin:/usr/local/sbin:/usr/sbin:/sbin:/home/cpansand/bin/linux-gnu:/home/cpansand/bin/sh:/home/cpansand/bin:/usr/games:/home/cpansand/devel:/home/eserte/src/srezic-misc/scripts
    PERL5LIB = 
    PERL5OPT = 
    PERL5_CPANPLUS_IS_RUNNING = 26736
    PERL5_CPAN_IS_RUNNING = 26736
    PERL5_CPAN_IS_RUNNING_IN_RECURSION = 23280,26736
    PERLDOC = -MPod::Perldoc::ToTextOverstrike
    PERL_BATCH = yes
    PERL_CANARY_STABILITY_NOPROMPT = 1
    PERL_CPAN_REPORTER_CONFIG = /var/tmp/cpansmoker-1023/2017070909/cpanreporter_000_config.ini
    PERL_EXTUTILS_AUTOINSTALL = --defaultdeps
    SHELL = /usr/bin/zsh
    TERM = screen
    TMPDIR = /var/tmp/cpansmoker-1023/2017070909

Perl special variables (and OS-specific diagnostics, for MSWin32):

    $^X = /opt/perl-5.22.3/bin/perl
    $UID/$EUID = 1023 / 1023
    $GID = 1023 1023
    $EGID = 1023 1023

Perl module toolchain versions installed:

    Module              Have    
    ------------------- --------
    CPAN                2.11_01 
    CPAN::Meta          2.150010
    Cwd                 3.56_02 
    ExtUtils::CBuilder  0.280224
    ExtUtils::Command   7.30    
    ExtUtils::Install   2.06    
    ExtUtils::MakeMaker 7.30    
    ExtUtils::Manifest  1.70    
    ExtUtils::ParseXS   3.28    
    File::Spec          3.56_02 
    JSON                2.94    
    JSON::PP            2.94    
    Module::Build       0.4224  
    Module::Signature   0.81    
    Parse::CPAN::Meta   2.150010
    Test::Harness       3.35_01 
    Test::More          1.302086
    YAML                1.23    
    YAML::Syck          1.30    
    version             0.9918  


--

Summary of my perl5 (revision 5 version 22 subversion 3) configuration:
   
  Platform:
    osname=linux, osvers=4.9.0-3-amd64, archname=x86_64-linux
    uname='linux debian9 4.9.0-3-amd64 #1 smp debian 4.9.30-2+deb9u1 (2017-06-18) x86_64 gnulinux '
    config_args='-ds -e -Dprefix=/opt/perl-5.22.3 -Dcf_email=srezic@cpan.org'
    hint=recommended, useposix=true, d_sigaction=define
    useithreads=undef, usemultiplicity=undef
    use64bitint=define, use64bitall=define, uselongdouble=undef
    usemymalloc=n, bincompat5005=undef
  Compiler:
    cc='cc', ccflags ='-fwrapv -fno-strict-aliasing -pipe -fstack-protector-strong -I/usr/local/include -D_LARGEFILE_SOURCE -D_FILE_OFFSET_BITS=64',
    optimize='-O2',
    cppflags='-fwrapv -fno-strict-aliasing -pipe -fstack-protector-strong -I/usr/local/include'
    ccversion='', gccversion='6.3.0 20170516', gccosandvers=''
    intsize=4, longsize=8, ptrsize=8, doublesize=8, byteorder=12345678, doublekind=3
    d_longlong=define, longlongsize=8, d_longdbl=define, longdblsize=16, longdblkind=3
    ivtype='long', ivsize=8, nvtype='double', nvsize=8, Off_t='off_t', lseeksize=8
    alignbytes=8, prototype=define
  Linker and Libraries:
    ld='cc', ldflags =' -fstack-protector-strong -L/usr/local/lib'
    libpth=/usr/local/lib /usr/lib/gcc/x86_64-linux-gnu/6/include-fixed /usr/include/x86_64-linux-gnu /usr/lib /lib/x86_64-linux-gnu /lib/../lib /usr/lib/x86_64-linux-gnu /usr/lib/../lib /lib
    libs=-lpthread -lnsl -lgdbm -ldb -ldl -lm -lcrypt -lutil -lc -lgdbm_compat
    perllibs=-lpthread -lnsl -ldl -lm -lcrypt -lutil -lc
    libc=libc-2.24.so, so=so, useshrplib=false, libperl=libperl.a
    gnulibc_version='2.24'
  Dynamic Linking:
    dlsrc=dl_dlopen.xs, dlext=so, d_dlsymun=undef, ccdlflags='-Wl,-E'
    cccdlflags='-fPIC', lddlflags='-shared -O2 -L/usr/local/lib -fstack-protector-strong'


Characteristics of this binary (from libperl): 
  Compile-time options: HAS_TIMES PERLIO_LAYERS PERL_DONT_CREATE_GVSV
                        PERL_HASH_FUNC_ONE_AT_A_TIME_HARD PERL_MALLOC_WRAP
                        PERL_NEW_COPY_ON_WRITE PERL_PRESERVE_IVUV
                        USE_64_BIT_ALL USE_64_BIT_INT USE_LARGE_FILES
                        USE_LOCALE USE_LOCALE_COLLATE USE_LOCALE_CTYPE
                        USE_LOCALE_NUMERIC USE_LOCALE_TIME USE_PERLIO
                        USE_PERL_ATOF
  Built under linux
  Compiled at Jun 21 2017 06:16:58
  %ENV:
    PERL5LIB=""
    PERL5OPT=""
    PERL5_CPANPLUS_IS_RUNNING="26736"
    PERL5_CPAN_IS_RUNNING="26736"
    PERL5_CPAN_IS_RUNNING_IN_RECURSION="23280,26736"
    PERLDOC="-MPod::Perldoc::ToTextOverstrike"
    PERL_BATCH="yes"
    PERL_CANARY_STABILITY_NOPROMPT="1"
    PERL_CPAN_REPORTER_CONFIG="/var/tmp/cpansmoker-1023/2017070909/cpanreporter_000_config.ini"
    PERL_EXTUTILS_AUTOINSTALL="--defaultdeps"
  @INC:
    /opt/perl-5.22.3/lib/site_perl/5.22.3/x86_64-linux
    /opt/perl-5.22.3/lib/site_perl/5.22.3
    /opt/perl-5.22.3/lib/5.22.3/x86_64-linux
    /opt/perl-5.22.3/lib/5.22.3
    .