OpenTracing-Implementation-DataDog vv0.43.1 Perl 5 v5.37.4 x86_64-linux-thread-multi-ld
- Status
- Pass
- From
- Andreas J. König (ANDK)
- Dist
-
OpenTracing-Implementation-DataDog vv0.43.1
- Platform
- Perl 5 v5.37.4 x86_64-linux-thread-multi-ld
- Date
- 2022-10-14 08:32:49
- ID
- c9a18ae4-4b9a-11ed-af18-cedf88b6e7ad
This distribution has been tested as part of the CPAN Testers
project, supporting the Perl programming language. See
http://wiki.cpantesters.org/ for more information or email
questions to cpan-testers-discuss@perl.org
--
Dear Theo van Hoesel,
This is a computer-generated report for OpenTracing-Implementation-DataDog-v0.43.1
on perl 5.37.4, created by CPAN-Reporter-1.2018.
Thank you for uploading your work to CPAN. Congratulations!
All tests were successful.
Sections of this report:
* Tester comments
* Program output
* Prerequisites
* Environment and other context
------------------------------
TESTER COMMENTS
------------------------------
Additional comments from tester:
this report is from an automated smoke testing program
and was not reviewed by a human for accuracy
------------------------------
PROGRAM OUTPUT
------------------------------
Output from '/usr/bin/make test':
PERL_DL_NONLAZY=1 "/tmp/basesmoker-reloperl-kHob/bin/perl" "-MExtUtils::Command::MM" "-MTest::Harness" "-e" "undef *Test::Harness::Switches; test_harness(0, 'blib/lib', 'blib/arch')" t/OpenTracing/Implementation/DataDog/*.t t/OpenTracing/Implementation/DataDog/*/*.t
t/OpenTracing/Implementation/DataDog/00_use_ok.t ........................... ok
t/OpenTracing/Implementation/DataDog/10_component.t ........................ ok
t/OpenTracing/Implementation/DataDog/Client/00_use_ok.t .................... ok
t/OpenTracing/Implementation/DataDog/Client/10_uri.t ....................... ok
t/OpenTracing/Implementation/DataDog/Client/11_to_struct.t ................. ok
t/OpenTracing/Implementation/DataDog/Client/12_http_post_struct_as_json.t .. ok
t/OpenTracing/Implementation/DataDog/Client/19_send_span.t ................. ok
t/OpenTracing/Implementation/DataDog/Scope/00_use_ok.t ..................... ok
t/OpenTracing/Implementation/DataDog/Scope/01_can_all_ok.t ................. ok
t/OpenTracing/Implementation/DataDog/ScopeManager/01_can_all_ok.t .......... ok
t/OpenTracing/Implementation/DataDog/ScopeManager/09_build_scope.t ......... ok
t/OpenTracing/Implementation/DataDog/Span/01_can_all_ok.t .................. ok
t/OpenTracing/Implementation/DataDog/SpanContext/00_use_ok.t ............... ok
t/OpenTracing/Implementation/DataDog/SpanContext/01_can_all_ok.t ........... ok
t/OpenTracing/Implementation/DataDog/SpanContext/01_constructor_new.t ...... ok
t/OpenTracing/Implementation/DataDog/SpanContext/11_with_resource_name.t ... ok
t/OpenTracing/Implementation/DataDog/SpanContext/11_with_service_name.t .... ok
t/OpenTracing/Implementation/DataDog/SpanContext/11_with_service_type.t .... ok
t/OpenTracing/Implementation/DataDog/Tracer/00_use_ok.t .................... ok
t/OpenTracing/Implementation/DataDog/Tracer/01_can_all_ok.t ................ ok
t/OpenTracing/Implementation/DataDog/Tracer/09_build_context.t ............. ok
t/OpenTracing/Implementation/DataDog/Tracer/09_build_span.t ................ ok
t/OpenTracing/Implementation/DataDog/Tracer/11_extract_context.t ........... ok
t/OpenTracing/Implementation/DataDog/Tracer/12_inject_context.t ............ ok
All tests successful.
Files=24, Tests=33, 9 wallclock secs ( 0.09 usr 0.02 sys + 7.91 cusr 1.06 csys = 9.08 CPU)
Result: PASS
------------------------------
PREREQUISITES
------------------------------
Prerequisite modules loaded:
requires:
Module Need Have
----------------------------- ------- --------
aliased 0 0.34
Carp 0 1.54
Exporter 0 5.77
Hash::Merge 0 0.302
HTTP::Request 0 6.39
HTTP::Response::Maker 0 0.02
JSON::MaybeXS 0 1.004004
LWP::UserAgent 0 6.67
Moo 0 2.005004
Moo::Role 0 2.005004
MooX::Attribute::ENV 0.02 0.04
MooX::Enumeration 0 0.010
MooX::HandlesVia 0 0.001009
MooX::Should v0.1.4 v0.1.4
OpenTracing::Implementation 0.03 v0.32.0
OpenTracing::Role v0.85.0 v0.85.0
PerlX::Maybe 0 1.202
Ref::Util 0 0.204
Sub::Trigger::Lock 0 0.002
syntax 0 0.004
Syntax::Feature::Maybe 0 1.202
Try::Tiny 0 0.31
Type::Tiny::XS 0 0.022
Types::Common::String 0 2.000001
Types::Interface 0 0.002
Types::Standard 0 2.000001
build_requires:
Module Need Have
----------------------------- ------- --------
ExtUtils::MakeMaker 0 7.64
Ref::Util 0 0.204
Test::JSON 0 0.11
Test::MockModule 0 0.177.0
Test::Most 0 0.38
Test::OpenTracing::Interface 0 v0.23.0
Test::URI 0 1.084
configure_requires:
Module Need Have
----------------------------- ------- --------
ExtUtils::MakeMaker::CPANfile 0.09 0.09
------------------------------
ENVIRONMENT AND OTHER CONTEXT
------------------------------
Environment variables:
AUTOMATED_TESTING = 1
LANG = en_US.UTF-8
PATH = /home/sand/bin:/usr/local/bin:/usr/local/sbin:/usr/sbin:/usr/bin:/sbin:/bin:/usr/games:/usr/local/games:/snap/bin:/usr/local/perl/bin:/usr/X11/bin
PERL = /tmp/basesmoker-reloperl-kHob/bin/perl
PERL5LIB = /tmp/loop_over_bdir-699717-u8pT6m/DBIx-Migration-Directories-0.12-0/blib/arch:/tmp/loop_over_bdir-699717-u8pT6m/DBIx-Migration-Directories-0.12-0/blib/lib:/tmp/loop_over_bdir-699717-u8pT6m/ProjectBuilder-0.14.1-0/blib/arch:/tmp/loop_over_bdir-699717-u8pT6m/ProjectBuilder-0.14.1-0/blib/lib:/tmp/loop_over_bdir-699717-u8pT6m/Dpkg-1.21.9-0/blib/arch:/tmp/loop_over_bdir-699717-u8pT6m/Dpkg-1.21.9-0/blib/lib:/tmp/loop_over_bdir-699717-u8pT6m/triceps-2.1.0-0/blib/arch:/tmp/loop_over_bdir-699717-u8pT6m/triceps-2.1.0-0/blib/lib:/tmp/loop_over_bdir-699717-u8pT6m/CGI-Application-NetNewsIface-0.0204-0/blib/arch:/tmp/loop_over_bdir-699717-u8pT6m/CGI-Application-NetNewsIface-0.0204-0/blib/lib:/tmp/loop_over_bdir-699717-u8pT6m/Devel-Required-0.16-0/blib/arch:/tmp/loop_over_bdir-699717-u8pT6m/Devel-Required-0.16-0/blib/lib:/tmp/loop_over_bdir-699717-u8pT6m/NoZone-1.3-0/blib/arch:/tmp/loop_over_bdir-699717-u8pT6m/NoZone-1.3-0/blib/lib
PERL5OPT =
PERL5_CPANPLUS_IS_RUNNING = 699725
PERL5_CPAN_IS_RUNNING = 699725
PERL_CANARY_STABILITY_NOPROMPT = 1
PERL_MM_USE_DEFAULT = 1
PERL_USE_UNSAFE_INC = 1
SHELL = /usr/bin/zsh
TERM = screen
Perl special variables (and OS-specific diagnostics, for MSWin32):
$^X = /tmp/basesmoker-reloperl-kHob/bin/perl
$UID/$EUID = 1005 / 1005
$GID = 1005 1005
$EGID = 1005 1005
Perl module toolchain versions installed:
Module Have
------------------- --------
CPAN 2.34
CPAN::Meta 2.150010
Cwd 3.86
ExtUtils::CBuilder 0.280237
ExtUtils::Command 7.64
ExtUtils::Install 2.20
ExtUtils::MakeMaker 7.64
ExtUtils::Manifest 1.73
ExtUtils::ParseXS 3.46
File::Spec 3.87
JSON 4.10
JSON::PP 4.12
Module::Build 0.4231
Module::Signature 0.88
Parse::CPAN::Meta 2.150010
Test::Harness 3.44
Test::More 1.302191
YAML 1.30
YAML::Syck 1.34
version 0.9929
--
Summary of my perl5 (revision 5 version 37 subversion 4) configuration:
Commit id: f2582f5b18658f945a763f2edc110cdc7c5220e7
Platform:
osname=linux
osvers=5.4.0-125-generic
archname=x86_64-linux-thread-multi-ld
uname='linux k93focal 5.4.0-125-generic #141-ubuntu smp wed aug 10 13:42:03 utc 2022 x86_64 x86_64 x86_64 gnulinux '
config_args='-Dprefix=/home/sand/src/perl/repoperls/installed-perls/host/k93focal/v5.37.4/e463 -Dmyhostname=k93focal -Dinstallusrbinperl=n -Uversiononly -Dusedevel -des -Ui_db -Dlibswanted=cl pthread socket inet nsl gdbm dbm malloc dl ld sun m crypt sec util c cposix posix ucb BSD gdbm_compat -Duseithreads -Duselongdouble -DEBUGGING=both'
hint=recommended
useposix=true
d_sigaction=define
useithreads=define
usemultiplicity=define
use64bitint=define
use64bitall=define
uselongdouble=define
usemymalloc=n
default_inc_excludes_dot=define
Compiler:
cc='cc'
ccflags ='-D_REENTRANT -D_GNU_SOURCE -fwrapv -DDEBUGGING -fno-strict-aliasing -pipe -fstack-protector-strong -I/usr/local/include -D_LARGEFILE_SOURCE -D_FILE_OFFSET_BITS=64'
optimize='-O2 -g'
cppflags='-D_REENTRANT -D_GNU_SOURCE -fwrapv -DDEBUGGING -fno-strict-aliasing -pipe -fstack-protector-strong -I/usr/local/include'
ccversion=''
gccversion='9.4.0'
gccosandvers=''
intsize=4
longsize=8
ptrsize=8
doublesize=8
byteorder=12345678
doublekind=3
d_longlong=define
longlongsize=8
d_longdbl=define
longdblsize=16
longdblkind=3
ivtype='long'
ivsize=8
nvtype='long double'
nvsize=16
Off_t='off_t'
lseeksize=8
alignbytes=16
prototype=define
Linker and Libraries:
ld='cc'
ldflags =' -fstack-protector-strong -L/usr/local/lib'
libpth=/usr/local/lib /usr/lib/x86_64-linux-gnu /usr/lib /usr/lib64
libs=-lpthread -lnsl -ldl -lm -lcrypt -lutil -lc
perllibs=-lpthread -lnsl -ldl -lm -lcrypt -lutil -lc
libc=libc-2.31.so
so=so
useshrplib=false
libperl=libperl.a
gnulibc_version='2.31'
Dynamic Linking:
dlsrc=dl_dlopen.xs
dlext=so
d_dlsymun=undef
ccdlflags='-Wl,-E'
cccdlflags='-fPIC'
lddlflags='-shared -O2 -g -L/usr/local/lib -fstack-protector-strong'
Characteristics of this binary (from libperl):
Compile-time options:
DEBUGGING
HAS_TIMES
MULTIPLICITY
PERLIO_LAYERS
PERL_COPY_ON_WRITE
PERL_DONT_CREATE_GVSV
PERL_HASH_FUNC_SIPHASH13
PERL_HASH_USE_SBOX32
PERL_MALLOC_WRAP
PERL_OP_PARENT
PERL_PRESERVE_IVUV
PERL_TRACK_MEMPOOL
PERL_USE_DEVEL
PERL_USE_SAFE_PUTENV
USE_64_BIT_ALL
USE_64_BIT_INT
USE_ITHREADS
USE_LARGE_FILES
USE_LOCALE
USE_LOCALE_COLLATE
USE_LOCALE_CTYPE
USE_LOCALE_NUMERIC
USE_LOCALE_TIME
USE_LONG_DOUBLE
USE_PERLIO
USE_PERL_ATOF
USE_REENTRANT_API
USE_THREAD_SAFE_LOCALE
Built under linux
Compiled at Oct 10 2022 06:00:24
%ENV:
PERL="/tmp/basesmoker-reloperl-kHob/bin/perl"
PERL5LIB="/tmp/loop_over_bdir-699717-u8pT6m/DBIx-Migration-Directories-0.12-0/blib/arch:/tmp/loop_over_bdir-699717-u8pT6m/DBIx-Migration-Directories-0.12-0/blib/lib:/tmp/loop_over_bdir-699717-u8pT6m/ProjectBuilder-0.14.1-0/blib/arch:/tmp/loop_over_bdir-699717-u8pT6m/ProjectBuilder-0.14.1-0/blib/lib:/tmp/loop_over_bdir-699717-u8pT6m/Dpkg-1.21.9-0/blib/arch:/tmp/loop_over_bdir-699717-u8pT6m/Dpkg-1.21.9-0/blib/lib:/tmp/loop_over_bdir-699717-u8pT6m/triceps-2.1.0-0/blib/arch:/tmp/loop_over_bdir-699717-u8pT6m/triceps-2.1.0-0/blib/lib:/tmp/loop_over_bdir-699717-u8pT6m/CGI-Application-NetNewsIface-0.0204-0/blib/arch:/tmp/loop_over_bdir-699717-u8pT6m/CGI-Application-NetNewsIface-0.0204-0/blib/lib:/tmp/loop_over_bdir-699717-u8pT6m/Devel-Required-0.16-0/blib/arch:/tmp/loop_over_bdir-699717-u8pT6m/Devel-Required-0.16-0/blib/lib:/tmp/loop_over_bdir-699717-u8pT6m/NoZone-1.3-0/blib/arch:/tmp/loop_over_bdir-699717-u8pT6m/NoZone-1.3-0/blib/lib"
PERL5OPT=""
PERL5_CPANPLUS_IS_RUNNING="699725"
PERL5_CPAN_IS_RUNNING="699725"
PERL_CANARY_STABILITY_NOPROMPT="1"
PERL_MM_USE_DEFAULT="1"
PERL_USE_UNSAFE_INC="1"
@INC:
/tmp/loop_over_bdir-699717-u8pT6m/DBIx-Migration-Directories-0.12-0/blib/arch
/tmp/loop_over_bdir-699717-u8pT6m/DBIx-Migration-Directories-0.12-0/blib/lib
/tmp/loop_over_bdir-699717-u8pT6m/ProjectBuilder-0.14.1-0/blib/arch
/tmp/loop_over_bdir-699717-u8pT6m/ProjectBuilder-0.14.1-0/blib/lib
/tmp/loop_over_bdir-699717-u8pT6m/Dpkg-1.21.9-0/blib/arch
/tmp/loop_over_bdir-699717-u8pT6m/Dpkg-1.21.9-0/blib/lib
/tmp/loop_over_bdir-699717-u8pT6m/triceps-2.1.0-0/blib/arch
/tmp/loop_over_bdir-699717-u8pT6m/triceps-2.1.0-0/blib/lib
/tmp/loop_over_bdir-699717-u8pT6m/CGI-Application-NetNewsIface-0.0204-0/blib/arch
/tmp/loop_over_bdir-699717-u8pT6m/CGI-Application-NetNewsIface-0.0204-0/blib/lib
/tmp/loop_over_bdir-699717-u8pT6m/Devel-Required-0.16-0/blib/arch
/tmp/loop_over_bdir-699717-u8pT6m/Devel-Required-0.16-0/blib/lib
/tmp/loop_over_bdir-699717-u8pT6m/NoZone-1.3-0/blib/arch
/tmp/loop_over_bdir-699717-u8pT6m/NoZone-1.3-0/blib/lib
/home/sand/src/perl/repoperls/installed-perls/host/k93focal/v5.37.4/e463/lib/site_perl/5.37.4/x86_64-linux-thread-multi-ld
/home/sand/src/perl/repoperls/installed-perls/host/k93focal/v5.37.4/e463/lib/site_perl/5.37.4
/home/sand/src/perl/repoperls/installed-perls/host/k93focal/v5.37.4/e463/lib/5.37.4/x86_64-linux-thread-multi-ld
/home/sand/src/perl/repoperls/installed-perls/host/k93focal/v5.37.4/e463/lib/5.37.4
.