Net-DNS v1.50 Perl 5 v5.41.11 x86_64-linux-thread-multi
- Status
- Pass
- From
- Carlos Guevara
- Dist
-
Net-DNS v1.50
- Platform
- Perl 5 v5.41.11 x86_64-linux-thread-multi
- Date
- 2025-04-14 00:02:42
- ID
- c98a9606-18c3-11f0-a8a0-969c4f711899
This distribution has been tested as part of the CPAN Testers
project, supporting the Perl programming language. See
http://wiki.cpantesters.org/ for more information or email
questions to cpan-testers-discuss@perl.org
--
Dear NLnet Labs,
This is a computer-generated report for Net-DNS-1.50
on perl 5.41.11, created by CPAN-Reporter-1.2020.
Thank you for uploading your work to CPAN. Congratulations!
All tests were successful.
Sections of this report:
* Tester comments
* Program output
* Prerequisites
* Environment and other context
------------------------------
TESTER COMMENTS
------------------------------
Additional comments from tester:
this report is from an automated smoke testing program
and was not reviewed by a human for accuracy
------------------------------
PROGRAM OUTPUT
------------------------------
Output from '/usr/bin/make test':
PERL_DL_NONLAZY=1 HARNESS_OPTIONS=j1:c "/home/cpan/bin/perl/bin/perl5.41.11" "-It" "-MExtUtils::Command::MM" "-MTest::Harness" "-e" "undef *Test::Harness::Switches; test_harness(0, 'blib/lib', 'blib/arch')" t/*.t
t/00-install.t ............. ok
#
# These tests were run using:
# Net::DNS 1.50
# Carp 1.54
# Config 5.041011
# Digest::HMAC 1.05
# Digest::MD5 2.59
# Digest::SHA 6.04
# Encode 3.21
# Exporter 5.79
# ExtUtils::MakeMaker 7.74
# File::Find 1.44
# File::Spec 3.94
# Getopt::Long 2.58
# IO::File 1.55
# IO::Select 1.55
# IO::Socket 1.55
# IO::Socket::IP 0.43
# MIME::Base64 3.16_01
# PerlIO 1.12
# Scalar::Util 1.6801
# Socket 2.038
# Test::Builder 1.302210
# Test::More 1.302210
# Time::Local 1.35
# base 2.27
# constant 1.33
# integer 1.01
# overload 1.40
# strict 1.13
# warnings 1.74
t/00-load.t ................ ok
t/00-pod.t ................. ok
t/01-resolver-config.t ..... ok
t/01-resolver-env.t ........ ok
t/01-resolver-file.t ....... ok
t/01-resolver-flags.t ...... ok
t/01-resolver-opt.t ........ ok
t/01-resolver.t ............ ok
t/02-domain.t .............. ok
t/02-domainname.t .......... ok
t/02-IDN.t ................. skipped: Net::LibIDN2 not installed
t/02-mailbox.t ............. ok
t/02-text.t ................ ok
t/03-header.t .............. ok
t/03-parameters.t .......... ok
t/03-question.t ............ ok
t/03-rr.t .................. ok
t/04-packet-truncate.t ..... ok
t/04-packet.t .............. ok
t/05-A.t ................... ok
t/05-AAAA.t ................ ok
t/05-AFSDB.t ............... ok
t/05-AMTRELAY.t ............ ok
t/05-APL.t ................. ok
t/05-CAA.t ................. ok
t/05-CDNSKEY.t ............. ok
t/05-CDS.t ................. ok
t/05-CERT.t ................ ok
t/05-CNAME.t ............... ok
t/05-CSYNC.t ............... ok
t/05-DHCID.t ............... ok
t/05-DNAME.t ............... ok
t/05-DNSKEY.t .............. ok
t/05-DS.t .................. ok
t/05-DSYNC.t ............... ok
t/05-EUI48.t ............... ok
t/05-EUI64.t ............... ok
t/05-HINFO.t ............... ok
t/05-HIP.t ................. ok
t/05-HTTPS.t ............... ok
t/05-IPSECKEY.t ............ ok
t/05-ISDN.t ................ ok
t/05-KEY.t ................. ok
t/05-KX.t .................. ok
t/05-L32.t ................. ok
t/05-L64.t ................. ok
t/05-LOC.t ................. ok
t/05-LP.t .................. ok
t/05-MINFO.t ............... ok
t/05-MX.t .................. ok
t/05-NAPTR.t ............... ok
t/05-NID.t ................. ok
t/05-NS.t .................. ok
t/05-NSEC.t ................ ok
t/05-NSEC3.t ............... ok
t/05-NSEC3PARAM.t .......... ok
t/05-NULL.t ................ ok
t/05-OPENPGPKEY.t .......... ok
t/05-OPT.t ................. ok
t/05-PTR.t ................. ok
t/05-PX.t .................. ok
t/05-RP.t .................. ok
t/05-RRSIG.t ............... ok
t/05-RT.t .................. ok
t/05-SIG.t ................. ok
t/05-SMIMEA.t .............. ok
t/05-SOA.t ................. ok
t/05-SPF.t ................. ok
t/05-SRV.t ................. ok
t/05-SSHFP.t ............... ok
t/05-SVCB.t ................ ok
t/05-TKEY.t ................ ok
t/05-TLSA.t ................ ok
t/05-TSIG.t ................ ok
t/05-TXT.t ................. ok
t/05-URI.t ................. ok
t/05-X25.t ................. ok
t/05-ZONEMD.t .............. ok
t/06-update-unique-push.t .. ok
t/06-update.t .............. ok
t/07-rrsort.t .............. ok
t/07-zonefile.t ............ ok
t/08-IPv4.t ................ ok
t/08-IPv6.t ................ skipped: Cannot reach global root: Network is unreachable at t/08-IPv6.t line 50.
t/08-recurse.t ............. ok
t/21-NSEC-typelist.t ....... ok
t/22-NSEC-match.t .......... ok
t/23-NSEC-covered.t ........ ok
t/24-NSEC-encloser.t ....... ok
t/31-NSEC3-base32.t ........ ok
t/32-NSEC3-typelist.t ...... ok
t/33-NSEC3-hash.t .......... ok
t/34-NSEC3-flags.t ......... ok
t/36-NSEC3-covered.t ....... ok
t/37-NSEC3-encloser.t ...... ok
t/41-DNSKEY-keytag.t ....... ok
t/42-DNSKEY-flags.t ........ ok
t/43-DNSKEY-keylength.t .... ok
t/51-DS-SHA1.t ............. ok
t/52-DS-SHA256.t ........... ok
t/54-DS-SHA384.t ........... ok
t/71-TSIG-create.t ......... ok
t/72-TSIG-verify.t ......... ok
# Cleaning
t/99-cleanup.t ............. ok
All tests successful.
Files=105, Tests=3339, 47 wallclock secs ( 0.34 usr 0.13 sys + 8.20 cusr 1.35 csys = 10.02 CPU)
Result: PASS
------------------------------
PREREQUISITES
------------------------------
Prerequisite modules loaded:
requires:
Module Need Have
------------------- -------- --------
base 2.13 2.27
Carp 1.1 1.54
constant 1.17 1.33
Digest::HMAC 1.03 1.05
Digest::MD5 2.37 2.59
Digest::SHA 5.23 6.04
Encode 2.26 3.21
Exporter 5.63 5.79
File::Spec 3.29 3.94
integer 1 1.01
IO::File 1.14 1.55
IO::Select 1.17 1.55
IO::Socket 1.3 1.55
IO::Socket::IP 0.38 0.43
MIME::Base64 3.07 3.16_01
overload 1.06 1.40
perl 5.008009 5.041011
PerlIO 1.05 1.12
Scalar::Util 1.19 1.68_01
Socket 1.81 2.038
strict 1.03 1.13
Time::Local 1.19 1.35
warnings 1.0501 1.74
build_requires:
Module Need Have
------------------- -------- --------
ExtUtils::MakeMaker 0 7.74
File::Find 1.13 1.44
File::Spec 3.29 3.94
IO::File 1.14 1.55
Test::Builder 0.8 1.302210
Test::More 0.8 1.302210
configure_requires:
Module Need Have
------------------- -------- --------
Config 0 5.041011
ExtUtils::MakeMaker 6.48 7.74
Getopt::Long 2.43 2.58
IO::File 1.14 1.55
IO::Socket::IP 0.38 0.43
------------------------------
ENVIRONMENT AND OTHER CONTEXT
------------------------------
Environment variables:
AUTOMATED_TESTING = 1
DATE_MANIP_TEST_DM5 = 1
LANG = en_US.UTF-8
LC_ALL = C
NONINTERACTIVE_TESTING = 1
NO_NETWORK_TESTING = 1
PATH = /home/cpan/bin/perl/bin:/home/cpan/bin:/usr/share/Modules/bin:/home/cpan/bin:/usr/local/bin:/usr/bin:/usr/local/sbin:/usr/sbin
PERL5LIB =
PERL5OPT =
PERL5_CPANPLUS_IS_RUNNING = 311644
PERL5_CPAN_IS_RUNNING = 311644
PERL_MM_USE_DEFAULT = 1
PERL_USE_UNSAFE_INC = 1
SHELL = /bin/bash
TERM = screen
TMPDIR = /home/cpan/tmp
Perl special variables (and OS-specific diagnostics, for MSWin32):
$^X = /home/cpan/bin/perl/bin/perl5.41.11
$UID/$EUID = 1001 / 1001
$GID = 1001 1001
$EGID = 1001 1001
Perl module toolchain versions installed:
Module Have
------------------- --------
CPAN 2.38
CPAN::Meta 2.150010
Cwd 3.94
ExtUtils::CBuilder 0.280240
ExtUtils::Command 7.74
ExtUtils::Install 2.22
ExtUtils::MakeMaker 7.74
ExtUtils::Manifest 1.75
ExtUtils::ParseXS 3.57
File::Spec 3.94
JSON 4.10
JSON::PP 4.16
Module::Build 0.4234
Module::Signature 0.89
Parse::CPAN::Meta 2.150010
Test2 1.302210
Test::Harness 3.50
Test::More 1.302210
YAML 1.31
YAML::Syck n/a
version 0.9933
--
Summary of my perl5 (revision 5 version 41 subversion 11) configuration:
Commit id: 7946d6a39ecd42bbb39400c0df1c3bf3a7edfa71
Platform:
osname=linux
osvers=5.14.0-503.35.1.el9_5.x86_64
archname=x86_64-linux-thread-multi
uname='linux cjg-rhel9 5.14.0-503.35.1.el9_5.x86_64 #1 smp preempt_dynamic mon mar 24 11:15:27 edt 2025 x86_64 x86_64 x86_64 gnulinux '
config_args='-des -Dprefix=/home/cpan/bin/perl -Dscriptdir=/home/cpan/bin/perl/bin -Dusedevel -Duse64bitall -Duseithreads'
hint=recommended
useposix=true
d_sigaction=define
useithreads=define
usemultiplicity=define
use64bitint=define
use64bitall=define
uselongdouble=undef
usemymalloc=n
default_inc_excludes_dot=define
Compiler:
cc='cc'
ccflags ='-D_REENTRANT -D_GNU_SOURCE -fwrapv -fno-strict-aliasing -pipe -fstack-protector-strong -I/usr/local/include -D_LARGEFILE_SOURCE -D_FILE_OFFSET_BITS=64 -D_FORTIFY_SOURCE=2'
optimize='-O2'
cppflags='-D_REENTRANT -D_GNU_SOURCE -fwrapv -fno-strict-aliasing -pipe -fstack-protector-strong -I/usr/local/include'
ccversion=''
gccversion='11.5.0 20240719 (Red Hat 11.5.0-5)'
gccosandvers=''
intsize=4
longsize=8
ptrsize=8
doublesize=8
byteorder=12345678
doublekind=3
d_longlong=define
longlongsize=8
d_longdbl=define
longdblsize=16
longdblkind=3
ivtype='long'
ivsize=8
nvtype='double'
nvsize=8
Off_t='off_t'
lseeksize=8
alignbytes=8
prototype=define
Linker and Libraries:
ld='cc'
ldflags =' -fstack-protector-strong -L/usr/local/lib'
libpth=/usr/local/lib /usr/lib /usr/lib64 /usr/local/lib64
libs=-lpthread -ldb -ldl -lm -lcrypt -lutil -lc
perllibs=-lpthread -ldl -lm -lcrypt -lutil -lc
libc=/lib/../lib64/libc.so.6
so=so
useshrplib=false
libperl=libperl.a
gnulibc_version='2.34'
Dynamic Linking:
dlsrc=dl_dlopen.xs
dlext=so
d_dlsymun=undef
ccdlflags='-Wl,-E'
cccdlflags='-fPIC'
lddlflags='-shared -O2 -L/usr/local/lib -fstack-protector-strong'
Characteristics of this binary (from libperl):
Compile-time options:
HAS_LONG_DOUBLE
HAS_STRTOLD
HAS_TIMES
MULTIPLICITY
PERLIO_LAYERS
PERL_COPY_ON_WRITE
PERL_DONT_CREATE_GVSV
PERL_HASH_FUNC_SIPHASH13
PERL_HASH_USE_SBOX32
PERL_MALLOC_WRAP
PERL_OP_PARENT
PERL_PRESERVE_IVUV
PERL_USE_DEVEL
PERL_USE_SAFE_PUTENV
USE_64_BIT_ALL
USE_64_BIT_INT
USE_ITHREADS
USE_LARGE_FILES
USE_LOCALE
USE_LOCALE_COLLATE
USE_LOCALE_CTYPE
USE_LOCALE_NUMERIC
USE_LOCALE_TIME
USE_PERLIO
USE_PERL_ATOF
USE_REENTRANT_API
USE_THREAD_SAFE_LOCALE
Built under linux
Compiled at Apr 13 2025 16:29:15
%ENV:
PERL5LIB=""
PERL5OPT=""
PERL5_CPANPLUS_IS_RUNNING="311644"
PERL5_CPAN_IS_RUNNING="311644"
PERL_MM_USE_DEFAULT="1"
PERL_USE_UNSAFE_INC="1"
@INC:
/home/cpan/bin/perl/lib/site_perl/5.41.11/x86_64-linux-thread-multi
/home/cpan/bin/perl/lib/site_perl/5.41.11
/home/cpan/bin/perl/lib/5.41.11/x86_64-linux-thread-multi
/home/cpan/bin/perl/lib/5.41.11
.