Back
From: metabase:user:320bfe00-2aae-11df-837a-5e0a49663a4f
Subject: PASS Protocol-XMPP-0.006 v5.22.3 GNU/Linux
Date: 2017-02-23T06:39:12Z
This distribution has been tested as part of the CPAN Testers
project, supporting the Perl programming language. See
http://wiki.cpantesters.org/ for more information or email
questions to cpan-testers-discuss@perl.org
--
Dear Tom Molesworth,
This is a computer-generated report for Protocol-XMPP-0.006
on perl 5.22.3, created by CPAN-Reporter-1.2018.
Thank you for uploading your work to CPAN. Congratulations!
All tests were successful.
Sections of this report:
* Tester comments
* Program output
* Prerequisites
* Environment and other context
------------------------------
TESTER COMMENTS
------------------------------
Additional comments from tester:
this report is from an automated smoke testing program
and was not reviewed by a human for accuracy
------------------------------
PROGRAM OUTPUT
------------------------------
Output from '/usr/bin/make test':
PERL_DL_NONLAZY=1 "/home/sand/src/perl/repoperls/installed-perls/host/k93msid/v5.22.3/89ad/bin/perl" "-MExtUtils::Command::MM" "-MTest::Harness" "-e" "undef *Test::Harness::Switches; test_harness(0, 'blib/lib', 'blib/arch')" t/*.t
t/00-check-deps.t ............. ok
t/00-compile.t ................ ok
#
#
# Generated by Dist::Zilla::Plugin::ReportVersions::Tiny v1.10
# perl: 5.022003 (wanted 5.010001) on linux from /home/sand/src/perl/repoperls/installed-perls/host/k93msid/v5.22.3/89ad/bin/perl
#
# Authen::SASL => 2.16 (want 2.000)
# ExtUtils::MakeMaker => 7.24 (want 6.48)
# File::Spec => 3.62 (want any version)
# Future => 0.34 (want 0.29)
# IO::Handle => 1.35 (want any version)
# IPC::Open3 => 1.18 (want any version)
# MIME::Base64 => 3.15 (want any version)
# Mixin::Event::Dispatch => 2.000 (want 1.000)
# Module::Load => 0.32 (want any version)
# POSIX => 1.53_01 (want any version)
# Test::CheckDeps => 0.010 (want 0.010)
# Test::Fatal => 0.014 (want 0.010)
# Test::More => 1.302076 (want 0.98)
# Time::HiRes => 1.9741 (want any version)
# XML::LibXML::SAX::ChunkParser => 0.00008 (want 0.00003)
# XML::SAX => 0.99 (want any version)
# curry => 1 (want any version)
# parent => 0.232 (want any version)
#
# Thanks for using my code. I hope it works for you.
# If not, please try and include this output in the bug report.
# That will help me reproduce the issue and solve your problem.
#
t/000-report-versions-tiny.t .. ok
All tests successful.
Files=3, Tests=54, 4 wallclock secs ( 0.04 usr 0.02 sys + 1.46 cusr 0.60 csys = 2.12 CPU)
Result: PASS
------------------------------
PREREQUISITES
------------------------------
Prerequisite modules loaded:
requires:
Module Need Have
----------------------------- ------- --------
Authen::SASL 2.000 2.16
curry 0 1.000000
Future 0.29 0.34
MIME::Base64 0 3.15
Mixin::Event::Dispatch 1.000 2.000
Module::Load 0 0.32
parent 0 0.232
POSIX 0 1.53_01
Time::HiRes 0 1.9741
XML::LibXML::SAX::ChunkParser 0.00003 0.00008
XML::SAX 0 0.99
build_requires:
Module Need Have
----------------------------- ------- --------
ExtUtils::MakeMaker 0 7.24
File::Spec 0 3.62
IO::Handle 0 1.35
IPC::Open3 0 1.18
Test::CheckDeps 0.010 0.010
Test::Fatal 0.010 0.014
Test::More 0.98 1.302076
configure_requires:
Module Need Have
----------------------------- ------- --------
ExtUtils::MakeMaker 6.48 7.24
------------------------------
ENVIRONMENT AND OTHER CONTEXT
------------------------------
Environment variables:
AUTOMATED_TESTING = 1
LANG = en_US.UTF-8
PATH = /home/sand/bin:/usr/local/bin:/usr/bin:/bin:/usr/games:/usr/local/perl/bin:/usr/X11/bin:/sbin:/usr/sbin
PERL5LIB =
PERL5OPT =
PERL5_CPANPLUS_IS_RUNNING = 12073
PERL5_CPAN_IS_RUNNING = 12073
PERL_CANARY_STABILITY_NOPROMPT = 1
PERL_MM_USE_DEFAULT = 1
SHELL = /usr/bin/zsh
TERM = screen
Perl special variables (and OS-specific diagnostics, for MSWin32):
$^X = /home/sand/src/perl/repoperls/installed-perls/host/k93msid/v5.22.3/89ad/bin/perl
$UID/$EUID = 1005 / 1005
$GID = 1005 1005
$EGID = 1005 1005
Perl module toolchain versions installed:
Module Have
------------------- --------
CPAN 2.16
CPAN::Meta 2.150010
Cwd 3.62
ExtUtils::CBuilder 0.280224
ExtUtils::Command 7.24
ExtUtils::Install 2.04
ExtUtils::MakeMaker 7.24
ExtUtils::Manifest 1.70
ExtUtils::ParseXS 3.28
File::Spec 3.62
JSON 2.90
JSON::PP 2.27400
Module::Build 0.4220
Module::Signature 0.81
Parse::CPAN::Meta 2.150010
Test::Harness 3.36
Test::More 1.302076
YAML 1.23
YAML::Syck 1.29
version 0.9917
--
Summary of my perl5 (revision 5 version 22 subversion 3) configuration:
Derived from: 16b638b0a20de774856b3a21a75a5e373af5262c
Platform:
osname=linux, osvers=4.8.0-2-amd64, archname=x86_64-linux
uname='linux k93msid 4.8.0-2-amd64 #1 smp debian 4.8.11-1 (2016-12-02) x86_64 gnulinux '
config_args='-Dprefix=/home/sand/src/perl/repoperls/installed-perls/host/k93msid/v5.22.3/89ad -Dmyhostname=k93msid -Dinstallusrbinperl=n -Uversiononly -Dusedevel -des -Ui_db -Dlibswanted=cl pthread socket inet nsl gdbm dbm malloc dl ld sun m crypt sec util c cposix posix ucb BSD gdbm_compat -Uuseithreads -Uuselongdouble -DDEBUGGING=-g'
hint=recommended, useposix=true, d_sigaction=define
useithreads=undef, usemultiplicity=undef
use64bitint=define, use64bitall=define, uselongdouble=undef
usemymalloc=n, bincompat5005=undef
Compiler:
cc='cc', ccflags ='-fwrapv -fno-strict-aliasing -pipe -fstack-protector-strong -I/usr/local/include -D_LARGEFILE_SOURCE -D_FILE_OFFSET_BITS=64',
optimize='-O2 -g',
cppflags='-fwrapv -fno-strict-aliasing -pipe -fstack-protector-strong -I/usr/local/include'
ccversion='', gccversion='6.2.1 20161124', gccosandvers=''
intsize=4, longsize=8, ptrsize=8, doublesize=8, byteorder=12345678, doublekind=3
d_longlong=define, longlongsize=8, d_longdbl=define, longdblsize=16, longdblkind=3
ivtype='long', ivsize=8, nvtype='double', nvsize=8, Off_t='off_t', lseeksize=8
alignbytes=8, prototype=define
Linker and Libraries:
ld='cc', ldflags =' -fstack-protector-strong -L/usr/local/lib'
libpth=/usr/local/lib /usr/lib/gcc/x86_64-linux-gnu/6/include-fixed /usr/include/x86_64-linux-gnu /usr/lib /lib/x86_64-linux-gnu /lib/../lib /usr/lib/x86_64-linux-gnu /usr/lib/../lib /lib
libs=-lpthread -lnsl -ldl -lm -lcrypt -lutil -lc
perllibs=-lpthread -lnsl -ldl -lm -lcrypt -lutil -lc
libc=libc-2.24.so, so=so, useshrplib=false, libperl=libperl.a
gnulibc_version='2.24'
Dynamic Linking:
dlsrc=dl_dlopen.xs, dlext=so, d_dlsymun=undef, ccdlflags='-Wl,-E'
cccdlflags='-fPIC', lddlflags='-shared -O2 -g -L/usr/local/lib -fstack-protector-strong'
Characteristics of this binary (from libperl):
Compile-time options: HAS_TIMES PERLIO_LAYERS PERL_DONT_CREATE_GVSV
PERL_HASH_FUNC_ONE_AT_A_TIME_HARD PERL_MALLOC_WRAP
PERL_NEW_COPY_ON_WRITE PERL_PRESERVE_IVUV
PERL_USE_DEVEL USE_64_BIT_ALL USE_64_BIT_INT
USE_LARGE_FILES USE_LOCALE USE_LOCALE_COLLATE
USE_LOCALE_CTYPE USE_LOCALE_NUMERIC USE_LOCALE_TIME
USE_PERLIO USE_PERL_ATOF
Locally applied patches:
uncommitted-changes
Built under linux
Compiled at Jan 15 2017 18:59:20
%ENV:
PERL5LIB=""
PERL5OPT=""
PERL5_CPANPLUS_IS_RUNNING="12073"
PERL5_CPAN_IS_RUNNING="12073"
PERL_CANARY_STABILITY_NOPROMPT="1"
PERL_MM_USE_DEFAULT="1"
@INC:
/home/sand/src/perl/repoperls/installed-perls/host/k93msid/v5.22.3/89ad/lib/site_perl/5.22.3/x86_64-linux
/home/sand/src/perl/repoperls/installed-perls/host/k93msid/v5.22.3/89ad/lib/site_perl/5.22.3
/home/sand/src/perl/repoperls/installed-perls/host/k93msid/v5.22.3/89ad/lib/5.22.3/x86_64-linux
/home/sand/src/perl/repoperls/installed-perls/host/k93msid/v5.22.3/89ad/lib/5.22.3
.