OData-QueryParams-DBIC v0.06 Perl 5 v5.28.0 x86_64-linux-thread-multi-ld
- Status
- Pass
- From
- Andreas J. König (ANDK)
- Dist
-
OData-QueryParams-DBIC v0.06
- Platform
- Perl 5 v5.28.0 x86_64-linux-thread-multi-ld
- Date
- 2018-12-05 15:45:27
- ID
- c96b442c-f8a4-11e8-998d-94fa3b0409dd
This distribution has been tested as part of the CPAN Testers
project, supporting the Perl programming language. See
http://wiki.cpantesters.org/ for more information or email
questions to cpan-testers-discuss@perl.org
--
Dear Renee Baecker,
This is a computer-generated report for OData-QueryParams-DBIC-0.06
on perl 5.28.0, created by CPAN-Reporter-1.2018.
Thank you for uploading your work to CPAN. Congratulations!
All tests were successful.
Sections of this report:
* Tester comments
* Program output
* Prerequisites
* Environment and other context
------------------------------
TESTER COMMENTS
------------------------------
Additional comments from tester:
this report is from an automated smoke testing program
and was not reviewed by a human for accuracy
------------------------------
PROGRAM OUTPUT
------------------------------
Output from '/usr/bin/make test':
PERL_DL_NONLAZY=1 "/home/sand/src/perl/repoperls/installed-perls/host/k93stretch/v5.28.0/cb59/bin/perl" "-MExtUtils::Command::MM" "-MTest::Harness" "-e" "undef *Test::Harness::Switches; test_harness(0, 'blib/lib', 'blib/arch')" t/*.t
t/author-pod-coverage.t .. skipped: these tests are for testing by the author
t/author-pod-syntax.t .... skipped: these tests are for testing by the author
t/fails.t ................ ok
t/filter.t ............... ok
t/filter_strict.t ........ ok
t/filter_utils.t ......... ok
t/mix.t .................. ok
t/mix_strict.t ........... ok
t/orderby.t .............. ok
t/select.t ............... ok
t/skip.t ................. ok
t/top.t .................. ok
t/unknown_op.t ........... ok
t/unsupported_op.t ....... ok
t/url_obj.t .............. ok
t/utils_predicate.t ...... ok
All tests successful.
Files=16, Tests=185, 3 wallclock secs ( 0.05 usr 0.07 sys + 1.70 cusr 0.51 csys = 2.33 CPU)
Result: PASS
------------------------------
PREREQUISITES
------------------------------
Prerequisite modules loaded:
requires:
Module Need Have
----------------------- ----- --------
Carp 0 1.50
Data::Dumper 0 2.173
List::Util 0 1.50
Mojo::Parameters 0 0
Mojo::URL 0 0
perl 5.020 5.028000
build_requires:
Module Need Have
----------------------- ----- --------
ExtUtils::MakeMaker 0 7.34
Pod::Coverage::TrustPod 0 0.100005
Test::Exception 0 0.43
Test::More 0 1.302140
configure_requires:
Module Need Have
----------------------- ----- --------
ExtUtils::MakeMaker 0 7.34
------------------------------
ENVIRONMENT AND OTHER CONTEXT
------------------------------
Environment variables:
AUTOMATED_TESTING = 1
LANG = C
PATH = /home/sand/bin:/usr/local/bin:/usr/bin:/bin:/usr/games:/usr/local/perl/bin:/usr/X11/bin:/sbin:/usr/sbin
PERL5LIB = /tmp/loop_over_bdir-29104-rFa3e4/Pod-Coverage-TrustPod-0.100005-0/blib/arch:/tmp/loop_over_bdir-29104-rFa3e4/Pod-Coverage-TrustPod-0.100005-0/blib/lib:/tmp/loop_over_bdir-29104-rFa3e4/Pod-Eventual-0.094001-0/blib/arch:/tmp/loop_over_bdir-29104-rFa3e4/Pod-Eventual-0.094001-0/blib/lib:/tmp/loop_over_bdir-29104-rFa3e4/Mixin-Linewise-0.108-0/blib/arch:/tmp/loop_over_bdir-29104-rFa3e4/Mixin-Linewise-0.108-0/blib/lib:/tmp/loop_over_bdir-29104-rFa3e4/PerlIO-utf8_strict-0.007-0/blib/arch:/tmp/loop_over_bdir-29104-rFa3e4/PerlIO-utf8_strict-0.007-0/blib/lib:/tmp/loop_over_bdir-29104-rFa3e4/Pod-Coverage-0.23-0/blib/arch:/tmp/loop_over_bdir-29104-rFa3e4/Pod-Coverage-0.23-0/blib/lib:/tmp/loop_over_bdir-29104-rFa3e4/Devel-Symdump-2.18-0/blib/arch:/tmp/loop_over_bdir-29104-rFa3e4/Devel-Symdump-2.18-0/blib/lib:/tmp/loop_over_bdir-29104-rFa3e4/Mojolicious-8.09-0/blib/arch:/tmp/loop_over_bdir-29104-rFa3e4/Mojolicious-8.09-0/blib/lib
PERL5OPT =
PERL5_CPANPLUS_IS_RUNNING = 29106
PERL5_CPAN_IS_RUNNING = 29106
PERL_CANARY_STABILITY_NOPROMPT = 1
PERL_MM_USE_DEFAULT = 1
PERL_USE_UNSAFE_INC = 1
SHELL = /usr/bin/zsh
TERM = screen
Perl special variables (and OS-specific diagnostics, for MSWin32):
$^X = /home/sand/src/perl/repoperls/installed-perls/host/k93stretch/v5.28.0/cb59/bin/perl
$UID/$EUID = 1005 / 1005
$GID = 1005 1005
$EGID = 1005 1005
Perl module toolchain versions installed:
Module Have
------------------- --------
CPAN 2.21
CPAN::Meta 2.150010
Cwd 3.75
ExtUtils::CBuilder 0.280230
ExtUtils::Command 7.34
ExtUtils::Install 2.14
ExtUtils::MakeMaker 7.34
ExtUtils::Manifest 1.70
ExtUtils::ParseXS 3.39
File::Spec 3.75
JSON 2.97001
JSON::PP 2.97001
Module::Build 0.4224
Module::Signature 0.83
Parse::CPAN::Meta 2.150010
Test::Harness 3.42
Test::More 1.302140
YAML 1.27
YAML::Syck 1.31
version 0.9923
--
Summary of my perl5 (revision 5 version 28 subversion 0) configuration:
Commit id: 6cb72a3d7fbefb477b95588e2fd81e33073da8b3
Platform:
osname=linux
osvers=4.9.0-8-amd64
archname=x86_64-linux-thread-multi-ld
uname='linux k93stretch 4.9.0-8-amd64 #1 smp debian 4.9.130-2 (2018-10-27) x86_64 gnulinux '
config_args='-Dprefix=/home/sand/src/perl/repoperls/installed-perls/host/k93stretch/v5.28.0/cb59 -Dmyhostname=k93stretch -Dinstallusrbinperl=n -Uversiononly -Dusedevel -des -Ui_db -Dlibswanted=cl pthread socket inet nsl gdbm dbm malloc dl ld sun m crypt sec util c cposix posix ucb BSD gdbm_compat -Duseithreads -Duselongdouble -DEBUGGING=-g'
hint=recommended
useposix=true
d_sigaction=define
useithreads=define
usemultiplicity=define
use64bitint=define
use64bitall=define
uselongdouble=define
usemymalloc=n
default_inc_excludes_dot=define
bincompat5005=undef
Compiler:
cc='cc'
ccflags ='-D_REENTRANT -D_GNU_SOURCE -fwrapv -fno-strict-aliasing -pipe -fstack-protector-strong -I/usr/local/include -D_LARGEFILE_SOURCE -D_FILE_OFFSET_BITS=64 -D_FORTIFY_SOURCE=2'
optimize='-O2 -g'
cppflags='-D_REENTRANT -D_GNU_SOURCE -fwrapv -fno-strict-aliasing -pipe -fstack-protector-strong -I/usr/local/include'
ccversion=''
gccversion='6.3.0 20170516'
gccosandvers=''
intsize=4
longsize=8
ptrsize=8
doublesize=8
byteorder=12345678
doublekind=3
d_longlong=define
longlongsize=8
d_longdbl=define
longdblsize=16
longdblkind=3
ivtype='long'
ivsize=8
nvtype='long double'
nvsize=16
Off_t='off_t'
lseeksize=8
alignbytes=16
prototype=define
Linker and Libraries:
ld='cc'
ldflags =' -fstack-protector-strong -L/usr/local/lib'
libpth=/usr/local/lib /usr/lib/gcc/x86_64-linux-gnu/6/include-fixed /usr/include/x86_64-linux-gnu /usr/lib /lib/x86_64-linux-gnu /lib/../lib /usr/lib/x86_64-linux-gnu /usr/lib/../lib /lib
libs=-lpthread -lnsl -ldl -lm -lcrypt -lutil -lc
perllibs=-lpthread -lnsl -ldl -lm -lcrypt -lutil -lc
libc=libc-2.24.so
so=so
useshrplib=false
libperl=libperl.a
gnulibc_version='2.24'
Dynamic Linking:
dlsrc=dl_dlopen.xs
dlext=so
d_dlsymun=undef
ccdlflags='-Wl,-E'
cccdlflags='-fPIC'
lddlflags='-shared -O2 -g -L/usr/local/lib -fstack-protector-strong'
Characteristics of this binary (from libperl):
Compile-time options:
HAS_TIMES
MULTIPLICITY
PERLIO_LAYERS
PERL_COPY_ON_WRITE
PERL_DONT_CREATE_GVSV
PERL_IMPLICIT_CONTEXT
PERL_MALLOC_WRAP
PERL_OP_PARENT
PERL_PRESERVE_IVUV
PERL_USE_DEVEL
USE_64_BIT_ALL
USE_64_BIT_INT
USE_ITHREADS
USE_LARGE_FILES
USE_LOCALE
USE_LOCALE_COLLATE
USE_LOCALE_CTYPE
USE_LOCALE_NUMERIC
USE_LOCALE_TIME
USE_LONG_DOUBLE
USE_PERLIO
USE_PERL_ATOF
USE_REENTRANT_API
Built under linux
Compiled at Nov 14 2018 02:39:07
%ENV:
PERL5LIB="/tmp/loop_over_bdir-29104-rFa3e4/Pod-Coverage-TrustPod-0.100005-0/blib/arch:/tmp/loop_over_bdir-29104-rFa3e4/Pod-Coverage-TrustPod-0.100005-0/blib/lib:/tmp/loop_over_bdir-29104-rFa3e4/Pod-Eventual-0.094001-0/blib/arch:/tmp/loop_over_bdir-29104-rFa3e4/Pod-Eventual-0.094001-0/blib/lib:/tmp/loop_over_bdir-29104-rFa3e4/Mixin-Linewise-0.108-0/blib/arch:/tmp/loop_over_bdir-29104-rFa3e4/Mixin-Linewise-0.108-0/blib/lib:/tmp/loop_over_bdir-29104-rFa3e4/PerlIO-utf8_strict-0.007-0/blib/arch:/tmp/loop_over_bdir-29104-rFa3e4/PerlIO-utf8_strict-0.007-0/blib/lib:/tmp/loop_over_bdir-29104-rFa3e4/Pod-Coverage-0.23-0/blib/arch:/tmp/loop_over_bdir-29104-rFa3e4/Pod-Coverage-0.23-0/blib/lib:/tmp/loop_over_bdir-29104-rFa3e4/Devel-Symdump-2.18-0/blib/arch:/tmp/loop_over_bdir-29104-rFa3e4/Devel-Symdump-2.18-0/blib/lib:/tmp/loop_over_bdir-29104-rFa3e4/Mojolicious-8.09-0/blib/arch:/tmp/loop_over_bdir-29104-rFa3e4/Mojolicious-8.09-0/blib/lib"
PERL5OPT=""
PERL5_CPANPLUS_IS_RUNNING="29106"
PERL5_CPAN_IS_RUNNING="29106"
PERL_CANARY_STABILITY_NOPROMPT="1"
PERL_MM_USE_DEFAULT="1"
PERL_USE_UNSAFE_INC="1"
@INC:
/tmp/loop_over_bdir-29104-rFa3e4/Pod-Coverage-TrustPod-0.100005-0/blib/arch
/tmp/loop_over_bdir-29104-rFa3e4/Pod-Coverage-TrustPod-0.100005-0/blib/lib
/tmp/loop_over_bdir-29104-rFa3e4/Pod-Eventual-0.094001-0/blib/arch
/tmp/loop_over_bdir-29104-rFa3e4/Pod-Eventual-0.094001-0/blib/lib
/tmp/loop_over_bdir-29104-rFa3e4/Mixin-Linewise-0.108-0/blib/arch
/tmp/loop_over_bdir-29104-rFa3e4/Mixin-Linewise-0.108-0/blib/lib
/tmp/loop_over_bdir-29104-rFa3e4/PerlIO-utf8_strict-0.007-0/blib/arch
/tmp/loop_over_bdir-29104-rFa3e4/PerlIO-utf8_strict-0.007-0/blib/lib
/tmp/loop_over_bdir-29104-rFa3e4/Pod-Coverage-0.23-0/blib/arch
/tmp/loop_over_bdir-29104-rFa3e4/Pod-Coverage-0.23-0/blib/lib
/tmp/loop_over_bdir-29104-rFa3e4/Devel-Symdump-2.18-0/blib/arch
/tmp/loop_over_bdir-29104-rFa3e4/Devel-Symdump-2.18-0/blib/lib
/tmp/loop_over_bdir-29104-rFa3e4/Mojolicious-8.09-0/blib/arch
/tmp/loop_over_bdir-29104-rFa3e4/Mojolicious-8.09-0/blib/lib
/home/sand/src/perl/repoperls/installed-perls/host/k93stretch/v5.28.0/cb59/lib/site_perl/5.28.0/x86_64-linux-thread-multi-ld
/home/sand/src/perl/repoperls/installed-perls/host/k93stretch/v5.28.0/cb59/lib/site_perl/5.28.0
/home/sand/src/perl/repoperls/installed-perls/host/k93stretch/v5.28.0/cb59/lib/5.28.0/x86_64-linux-thread-multi-ld
/home/sand/src/perl/repoperls/installed-perls/host/k93stretch/v5.28.0/cb59/lib/5.28.0
.