Report for XML-RSS-Feed-2.4

Back
From: metabase:user:314402c4-2aae-11df-837a-5e0a49663a4f
Subject: PASS XML-RSS-Feed-2.4 v5.24.1 GNU/Linux
Date: 2017-01-29T12:09:29Z

This distribution has been tested as part of the CPAN Testers
project, supporting the Perl programming language.  See
http://wiki.cpantesters.org/ for more information or email
questions to cpan-testers-discuss@perl.org


--
Dear Jeff Bisbee,

This is a computer-generated report for XML-RSS-Feed-2.4
on perl 5.24.1, created by CPAN-Reporter-1.2018.

Thank you for uploading your work to CPAN.  Congratulations!
All tests were successful.

Sections of this report:

    * Tester comments
    * Program output
    * Prerequisites
    * Environment and other context

------------------------------
TESTER COMMENTS
------------------------------

Additional comments from tester:

none provided

------------------------------
PROGRAM OUTPUT
------------------------------

Output from '/usr/bin/make test':

PERL_DL_NONLAZY=1 "/opt/perl-5.24.1/bin/perl5.24.1" "-MExtUtils::Command::MM" "-MTest::Harness" "-e" "undef *Test::Harness::Switches; test_harness(0, 'blib/lib', 'blib/arch')" t/*.t
t/001_load.t .................... ok
t/002_parse.t ................... ok
Argument "This is a test 1" isn't numeric in preincrement (++) at t/003_process.t line 28, <DATA> line 1.
Argument "http://www.jbisbee.com/test/url/1" isn't numeric in preincrement (++) at t/003_process.t line 28, <DATA> line 1.
Argument "Description number 1" isn't numeric in preincrement (++) at t/003_process.t line 28, <DATA> line 1.
t/003_process.t ................. ok
Argument "This is a test 1" isn't numeric in preincrement (++) at t/004_process_items.t line 27, <DATA> line 1.
Argument "http://www.jbisbee.com/test/url/1" isn't numeric in preincrement (++) at t/004_process_items.t line 27, <DATA> line 1.
Argument "Description number 1" isn't numeric in preincrement (++) at t/004_process_items.t line 27, <DATA> line 1.
t/004_process_items.t ........... ok
Argument "This is a test 1" isn't numeric in preincrement (++) at t/005_create_headline.t line 57, <DATA> line 1.
Argument "http://www.jbisbee.com/test/url/1" isn't numeric in preincrement (++) at t/005_create_headline.t line 57, <DATA> line 1.
t/005_create_headline.t ......... ok
Argument "This is a test 1" isn't numeric in preincrement (++) at t/006_first_seen.t line 18, <DATA> line 1.
Argument "http://www.jbisbee.com/test/url/1" isn't numeric in preincrement (++) at t/006_first_seen.t line 18, <DATA> line 1.
t/006_first_seen.t .............. ok
t/007_fetch_feed.t .............. ok
t/008_store_retrieve.t .......... ok
Argument "This is a test 1" isn't numeric in preincrement (++) at t/009_max_headlines.t line 26, <DATA> line 1.
Argument "http://www.jbisbee.com/test/url/1" isn't numeric in preincrement (++) at t/009_max_headlines.t line 26, <DATA> line 1.
t/009_max_headlines.t ........... ok
t/010_deprecated_methods.t ...... ok
t/011_pod.t ..................... ok
t/012_pod_coverage.t ............ ok
t/013_legacy.t .................. ok
t/014_last_updated.t ............ ok
t/015_feed_exceptions.t ......... ok
t/016_title_from_description.t .. ok
t/017_perljobs.t ................ ok
t/018_debug.t ................... ok
t/019_fark.t .................... ok
t/020_useperljournals.t ......... ok
All tests successful.
Files=20, Tests=566, 14 wallclock secs ( 0.15 usr  0.05 sys +  9.46 cusr  1.09 csys = 10.75 CPU)
Result: PASS

------------------------------
PREREQUISITES
------------------------------

Prerequisite modules loaded:

requires:

    Module              Need Have    
    ------------------- ---- --------
    Carp                0    1.38    
    Clone               0    0.38    
    Digest::MD5         0    2.55    
    Encode              0    2.88    
    HTML::Entities      0    3.69    
    Storable            0    2.56_01 
    Test::More          0    1.302075
    Time::HiRes         0    1.9733  
    URI                 0    1.71    
    URI::Escape         0    3.31    
    XML::RSS            0    1.59    

build_requires:

    Module              Need Have    
    ------------------- ---- --------
    ExtUtils::MakeMaker 0    7.24    

configure_requires:

    Module              Need Have    
    ------------------- ---- --------
    ExtUtils::MakeMaker 0    7.24    


------------------------------
ENVIRONMENT AND OTHER CONTEXT
------------------------------

Environment variables:

    LANG = de_DE.utf8
    LANGUAGE = de_DE.utf8
    LC_ALL = de_DE.utf8
    PATH = /usr/local/bin:/usr/bin:/bin:/usr/local/sbin:/usr/sbin:/sbin:/home/cpansand/bin/linux-gnu:/home/cpansand/bin/sh:/home/cpansand/bin:/usr/games:/home/cpansand/devel:/home/eserte/src/srezic-misc/scripts
    PERL5LIB = 
    PERL5OPT = 
    PERL5_CPANPLUS_IS_RUNNING = 28956
    PERL5_CPAN_IS_RUNNING = 28956
    PERL5_CPAN_IS_RUNNING_IN_RECURSION = 22407,28956
    PERLDOC = -MPod::Perldoc::ToTextOverstrike
    PERL_BATCH = yes
    PERL_CANARY_STABILITY_NOPROMPT = 1
    PERL_CPAN_REPORTER_CONFIG = /var/tmp/cpansmoker-1001/2017012906/cpanreporter_000_config.ini
    PERL_EXTUTILS_AUTOINSTALL = --defaultdeps
    SHELL = /bin/zsh
    TERM = screen
    TMPDIR = /var/tmp/cpansmoker-1001/2017012906

Perl special variables (and OS-specific diagnostics, for MSWin32):

    $^X = /opt/perl-5.24.1/bin/perl5.24.1
    $UID/$EUID = 1001 / 1001
    $GID = 1001 1001
    $EGID = 1001 1001

Perl module toolchain versions installed:

    Module              Have    
    ------------------- --------
    CPAN                2.14    
    CPAN::Meta          2.150010
    Cwd                 3.62    
    ExtUtils::CBuilder  0.280224
    ExtUtils::Command   7.24    
    ExtUtils::Install   2.04    
    ExtUtils::MakeMaker 7.24    
    ExtUtils::Manifest  1.70    
    ExtUtils::ParseXS   3.30    
    File::Spec          3.62    
    JSON                2.90    
    JSON::PP            2.27400 
    Module::Build       0.4220  
    Module::Signature   0.81    
    Parse::CPAN::Meta   2.150010
    Test::Harness       3.36    
    Test::More          1.302075
    YAML                1.21    
    YAML::Syck          1.29    
    version             0.9917  


--

Summary of my perl5 (revision 5 version 24 subversion 1) configuration:
   
  Platform:
    osname=linux, osvers=3.10.0-042stab120.6, archname=x86_64-linux
    uname='linux h1980015.stratoserver.net 3.10.0-042stab120.6 #1 smp thu oct 27 16:59:03 msk 2016 x86_64 x86_64 x86_64 gnulinux '
    config_args='-ds -e -Dprefix=/opt/perl-5.24.1 -Dcf_email=srezic@cpan.org'
    hint=previous, useposix=true, d_sigaction=define
    useithreads=undef, usemultiplicity=undef
    use64bitint=define, use64bitall=define, uselongdouble=undef
    usemymalloc=n, bincompat5005=undef
  Compiler:
    cc='cc', ccflags ='-fwrapv -fno-strict-aliasing -pipe -fstack-protector-strong -I/usr/local/include -D_LARGEFILE_SOURCE -D_FILE_OFFSET_BITS=64 -D_FORTIFY_SOURCE=2',
    optimize='-O2',
    cppflags='-fwrapv -fno-strict-aliasing -pipe -fstack-protector-strong -I/usr/local/include'
    ccversion='', gccversion='4.8.5 20150623 (Red Hat 4.8.5-11)', gccosandvers=''
    intsize=4, longsize=8, ptrsize=8, doublesize=8, byteorder=12345678, doublekind=3
    d_longlong=define, longlongsize=8, d_longdbl=define, longdblsize=16, longdblkind=3
    ivtype='long', ivsize=8, nvtype='double', nvsize=8, Off_t='off_t', lseeksize=8
    alignbytes=8, prototype=define
  Linker and Libraries:
    ld='cc', ldflags =' -fstack-protector-strong -L/usr/local/lib'
    libpth=/usr/local/lib /usr/lib /lib/../lib64 /usr/lib/../lib64 /lib /lib64 /usr/lib64 /usr/local/lib64 /usr/local/lib /usr/lib
    libs=-lpthread -lnsl -lgdbm -ldb -ldl -lm -lcrypt -lutil -lc -lgdbm_compat
    perllibs=-lpthread -lnsl -ldl -lm -lcrypt -lutil -lc
    libc=libc-2.17.so, so=so, useshrplib=false, libperl=libperl.a
    gnulibc_version='2.17'
  Dynamic Linking:
    dlsrc=dl_dlopen.xs, dlext=so, d_dlsymun=undef, ccdlflags='-Wl,-E'
    cccdlflags='-fPIC', lddlflags='-shared -O2 -L/usr/local/lib -fstack-protector-strong'


Characteristics of this binary (from libperl): 
  Compile-time options: HAS_TIMES PERLIO_LAYERS PERL_COPY_ON_WRITE
                        PERL_DONT_CREATE_GVSV
                        PERL_HASH_FUNC_ONE_AT_A_TIME_HARD PERL_MALLOC_WRAP
                        PERL_PRESERVE_IVUV USE_64_BIT_ALL USE_64_BIT_INT
                        USE_LARGE_FILES USE_LOCALE USE_LOCALE_COLLATE
                        USE_LOCALE_CTYPE USE_LOCALE_NUMERIC USE_LOCALE_TIME
                        USE_PERLIO USE_PERL_ATOF
  Built under linux
  Compiled at Jan 21 2017 20:32:30
  %ENV:
    PERL5LIB=""
    PERL5OPT=""
    PERL5_CPANPLUS_IS_RUNNING="28956"
    PERL5_CPAN_IS_RUNNING="28956"
    PERL5_CPAN_IS_RUNNING_IN_RECURSION="22407,28956"
    PERLDOC="-MPod::Perldoc::ToTextOverstrike"
    PERL_BATCH="yes"
    PERL_CANARY_STABILITY_NOPROMPT="1"
    PERL_CPAN_REPORTER_CONFIG="/var/tmp/cpansmoker-1001/2017012906/cpanreporter_000_config.ini"
    PERL_EXTUTILS_AUTOINSTALL="--defaultdeps"
  @INC:
    /opt/perl-5.24.1/lib/site_perl/5.24.1/x86_64-linux
    /opt/perl-5.24.1/lib/site_perl/5.24.1
    /opt/perl-5.24.1/lib/5.24.1/x86_64-linux
    /opt/perl-5.24.1/lib/5.24.1
    .