Mojolicious-Plugin-Vparam v3.06 Perl 5 v5.28.2 x86_64-linux
- Status
- Pass
- From
- Oleg Pronin (SYBER)
- Dist
-
Mojolicious-Plugin-Vparam v3.06
- Platform
- Perl 5 v5.28.2 x86_64-linux
- Date
- 2019-08-06 23:49:10
- ID
- c94328d2-b8a4-11e9-970b-61b92958ff60
This distribution has been tested as part of the CPAN Testers
project, supporting the Perl programming language. See
http://wiki.cpantesters.org/ for more information or email
questions to cpan-testers-discuss@perl.org
--
Dear Roman V. Nikolaev,
This is a computer-generated report for Mojolicious-Plugin-Vparam-3.06
on perl 5.28.2, created by CPAN-Reporter-1.2018.
Thank you for uploading your work to CPAN. Congratulations!
All tests were successful.
Sections of this report:
* Tester comments
* Program output
* Prerequisites
* Environment and other context
------------------------------
TESTER COMMENTS
------------------------------
Additional comments from tester:
this report is from an automated smoke testing program
and was not reviewed by a human for accuracy
------------------------------
PROGRAM OUTPUT
------------------------------
Output from '/usr/bin/make test':
PERL_DL_NONLAZY=1 "/home/syber/perl5/perlbrew/perls/5.28.2/bin/perl" "-MExtUtils::Command::MM" "-MTest::Harness" "-e" "undef *Test::Harness::Switches; test_harness(0, 'blib/lib', 'blib/arch')" t/*.t
t/001_use_ok.t .............. ok
t/005_compile.t ............. ok
Mojo::Transaction::success is DEPRECATED in favor of Mojo::Transaction::result and Mojo::Transaction::error at t/007_vtype.t line 57.
t/007_vtype.t ............... ok
Mojo::Transaction::success is DEPRECATED in favor of Mojo::Transaction::result and Mojo::Transaction::error at t/008_vconf.t line 45.
t/008_vconf.t ............... ok
Mojo::Transaction::success is DEPRECATED in favor of Mojo::Transaction::result and Mojo::Transaction::error at t/009_vfilter.t line 61.
t/009_vfilter.t ............. ok
Mojo::Transaction::success is DEPRECATED in favor of Mojo::Transaction::result and Mojo::Transaction::error at t/010_vparam.t line 55.
t/010_vparam.t .............. ok
Mojo::Transaction::success is DEPRECATED in favor of Mojo::Transaction::result and Mojo::Transaction::error at t/011_vparam_attr.t line 54.
t/011_vparam_attr.t ......... ok
Mojo::Transaction::success is DEPRECATED in favor of Mojo::Transaction::result and Mojo::Transaction::error at t/020_simple.t line 71.
Mojo::Transaction::success is DEPRECATED in favor of Mojo::Transaction::result and Mojo::Transaction::error at t/020_simple.t line 99.
Mojo::Transaction::success is DEPRECATED in favor of Mojo::Transaction::result and Mojo::Transaction::error at t/020_simple.t line 125.
t/020_simple.t .............. ok
Mojo::Transaction::success is DEPRECATED in favor of Mojo::Transaction::result and Mojo::Transaction::error at t/022_vparams.t line 52.
Mojo::Transaction::success is DEPRECATED in favor of Mojo::Transaction::result and Mojo::Transaction::error at t/022_vparams.t line 74.
t/022_vparams.t ............. ok
Mojo::Transaction::success is DEPRECATED in favor of Mojo::Transaction::result and Mojo::Transaction::error at t/023_vsort.t line 50.
Mojo::Transaction::success is DEPRECATED in favor of Mojo::Transaction::result and Mojo::Transaction::error at t/023_vsort.t line 77.
Mojo::Transaction::success is DEPRECATED in favor of Mojo::Transaction::result and Mojo::Transaction::error at t/023_vsort.t line 96.
t/023_vsort.t ............... ok
Mojo::Transaction::success is DEPRECATED in favor of Mojo::Transaction::result and Mojo::Transaction::error at t/024_vsort_disable.t line 57.
t/024_vsort_disable.t ....... ok
Mojo::Transaction::success is DEPRECATED in favor of Mojo::Transaction::result and Mojo::Transaction::error at t/030_optional.t line 95.
Mojo::Transaction::success is DEPRECATED in favor of Mojo::Transaction::result and Mojo::Transaction::error at t/030_optional.t line 177.
Mojo::Transaction::success is DEPRECATED in favor of Mojo::Transaction::result and Mojo::Transaction::error at t/030_optional.t line 231.
t/030_optional.t ............ ok
Mojo::Transaction::success is DEPRECATED in favor of Mojo::Transaction::result and Mojo::Transaction::error at t/031_as.t line 60.
Mojo::Transaction::success is DEPRECATED in favor of Mojo::Transaction::result and Mojo::Transaction::error at t/031_as.t line 80.
Mojo::Transaction::success is DEPRECATED in favor of Mojo::Transaction::result and Mojo::Transaction::error at t/031_as.t line 108.
t/031_as.t .................. ok
Mojo::Transaction::success is DEPRECATED in favor of Mojo::Transaction::result and Mojo::Transaction::error at t/032_skip.t line 73.
t/032_skip.t ................ ok
Mojo::Transaction::success is DEPRECATED in favor of Mojo::Transaction::result and Mojo::Transaction::error at t/033_isa.t line 51.
t/033_isa.t ................. ok
Mojo::Transaction::success is DEPRECATED in favor of Mojo::Transaction::result and Mojo::Transaction::error at t/034_skipundef.t line 85.
t/034_skipundef.t ........... ok
Mojo::Transaction::success is DEPRECATED in favor of Mojo::Transaction::result and Mojo::Transaction::error at t/035_blessed.t line 58.
Mojo::Transaction::success is DEPRECATED in favor of Mojo::Transaction::result and Mojo::Transaction::error at t/035_blessed.t line 87.
t/035_blessed.t ............. ok
Mojo::Transaction::success is DEPRECATED in favor of Mojo::Transaction::result and Mojo::Transaction::error at t/036_unknown.t line 74.
t/036_unknown.t ............. ok
Mojo::Transaction::success is DEPRECATED in favor of Mojo::Transaction::result and Mojo::Transaction::error at t/040_array.t line 51.
Mojo::Transaction::success is DEPRECATED in favor of Mojo::Transaction::result and Mojo::Transaction::error at t/040_array.t line 74.
Mojo::Transaction::success is DEPRECATED in favor of Mojo::Transaction::result and Mojo::Transaction::error at t/040_array.t line 105.
Mojo::Transaction::success is DEPRECATED in favor of Mojo::Transaction::result and Mojo::Transaction::error at t/040_array.t line 128.
Mojo::Transaction::success is DEPRECATED in favor of Mojo::Transaction::result and Mojo::Transaction::error at t/040_array.t line 157.
t/040_array.t ............... ok
Mojo::Transaction::success is DEPRECATED in favor of Mojo::Transaction::result and Mojo::Transaction::error at t/041_multiline.t line 74.
Mojo::Transaction::success is DEPRECATED in favor of Mojo::Transaction::result and Mojo::Transaction::error at t/041_multiline.t line 94.
t/041_multiline.t ........... ok
Mojo::Transaction::success is DEPRECATED in favor of Mojo::Transaction::result and Mojo::Transaction::error at t/042_multijoin.t line 80.
Mojo::Transaction::success is DEPRECATED in favor of Mojo::Transaction::result and Mojo::Transaction::error at t/042_multijoin.t line 136.
t/042_multijoin.t ........... ok
Mojo::Transaction::success is DEPRECATED in favor of Mojo::Transaction::result and Mojo::Transaction::error at t/043_objects.t line 55.
t/043_objects.t ............. ok
Mojo::Transaction::success is DEPRECATED in favor of Mojo::Transaction::result and Mojo::Transaction::error at t/045_load.t line 54.
t/045_load.t ................ ok
Mojo::Transaction::success is DEPRECATED in favor of Mojo::Transaction::result and Mojo::Transaction::error at t/046_load-array.t line 66.
t/046_load-array.t .......... ok
Mojo::Transaction::success is DEPRECATED in favor of Mojo::Transaction::result and Mojo::Transaction::error at t/047_load-code.t line 57.
t/047_load-code.t ........... ok
Mojo::Transaction::success is DEPRECATED in favor of Mojo::Transaction::result and Mojo::Transaction::error at t/049_hash.t line 88.
Mojo::Transaction::success is DEPRECATED in favor of Mojo::Transaction::result and Mojo::Transaction::error at t/049_hash.t line 117.
Mojo::Transaction::success is DEPRECATED in favor of Mojo::Transaction::result and Mojo::Transaction::error at t/049_hash.t line 172.
t/049_hash.t ................ ok
Mojo::Transaction::success is DEPRECATED in favor of Mojo::Transaction::result and Mojo::Transaction::error at t/050_vclass.t line 59.
t/050_vclass.t .............. ok
Mojo::Transaction::success is DEPRECATED in favor of Mojo::Transaction::result and Mojo::Transaction::error at t/060_vvalue.t line 71.
t/060_vvalue.t .............. ok
Mojo::Transaction::success is DEPRECATED in favor of Mojo::Transaction::result and Mojo::Transaction::error at t/080_mojo_validator.t line 69.
t/080_mojo_validator.t ...... ok
Mojo::Transaction::success is DEPRECATED in favor of Mojo::Transaction::result and Mojo::Transaction::error at t/090_errors.t line 47.
Mojo::Transaction::success is DEPRECATED in favor of Mojo::Transaction::result and Mojo::Transaction::error at t/090_errors.t line 77.
Mojo::Transaction::success is DEPRECATED in favor of Mojo::Transaction::result and Mojo::Transaction::error at t/090_errors.t line 137.
Mojo::Transaction::success is DEPRECATED in favor of Mojo::Transaction::result and Mojo::Transaction::error at t/090_errors.t line 176.
t/090_errors.t .............. ok
Mojo::Transaction::success is DEPRECATED in favor of Mojo::Transaction::result and Mojo::Transaction::error at t/091_verror_manual.t line 46.
t/091_verror_manual.t ....... ok
Mojo::Transaction::success is DEPRECATED in favor of Mojo::Transaction::result and Mojo::Transaction::error at t/100_int.t line 90.
t/100_int.t ................. ok
Mojo::Transaction::success is DEPRECATED in favor of Mojo::Transaction::result and Mojo::Transaction::error at t/110_numeric.t line 85.
t/110_numeric.t ............. ok
Mojo::Transaction::success is DEPRECATED in favor of Mojo::Transaction::result and Mojo::Transaction::error at t/120_money.t line 82.
t/120_money.t ............... ok
Mojo::Transaction::success is DEPRECATED in favor of Mojo::Transaction::result and Mojo::Transaction::error at t/130_percent.t line 67.
t/130_percent.t ............. ok
Mojo::Transaction::success is DEPRECATED in favor of Mojo::Transaction::result and Mojo::Transaction::error at t/140_lon_lat.t line 63.
Mojo::Transaction::success is DEPRECATED in favor of Mojo::Transaction::result and Mojo::Transaction::error at t/140_lon_lat.t line 98.
t/140_lon_lat.t ............. ok
Mojo::Transaction::success is DEPRECATED in favor of Mojo::Transaction::result and Mojo::Transaction::error at t/200_str.t line 65.
t/200_str.t ................. ok
Mojo::Transaction::success is DEPRECATED in favor of Mojo::Transaction::result and Mojo::Transaction::error at t/210_text.t line 64.
t/210_text.t ................ ok
Mojo::Transaction::success is DEPRECATED in favor of Mojo::Transaction::result and Mojo::Transaction::error at t/220_password.t line 88.
t/220_password.t ............ ok
Mojo::Transaction::success is DEPRECATED in favor of Mojo::Transaction::result and Mojo::Transaction::error at t/230_uuid.t line 84.
t/230_uuid.t ................ ok
Mojo::Transaction::success is DEPRECATED in favor of Mojo::Transaction::result and Mojo::Transaction::error at t/300_datetime.t line 205.
t/300_datetime.t ............ ok
Mojo::Transaction::success is DEPRECATED in favor of Mojo::Transaction::result and Mojo::Transaction::error at t/303_datetime_timestamp.t line 53.
t/303_datetime_timestamp.t .. ok
Mojo::Transaction::success is DEPRECATED in favor of Mojo::Transaction::result and Mojo::Transaction::error at t/306_datetime_relative.t line 90.
Mojo::Transaction::success is DEPRECATED in favor of Mojo::Transaction::result and Mojo::Transaction::error at t/306_datetime_relative.t line 164.
Mojo::Transaction::success is DEPRECATED in favor of Mojo::Transaction::result and Mojo::Transaction::error at t/306_datetime_relative.t line 193.
Mojo::Transaction::success is DEPRECATED in favor of Mojo::Transaction::result and Mojo::Transaction::error at t/306_datetime_relative.t line 222.
t/306_datetime_relative.t ... ok
Mojo::Transaction::success is DEPRECATED in favor of Mojo::Transaction::result and Mojo::Transaction::error at t/310_time.t line 79.
t/310_time.t ................ ok
Mojo::Transaction::success is DEPRECATED in favor of Mojo::Transaction::result and Mojo::Transaction::error at t/320_date.t line 88.
t/320_date.t ................ ok
Mojo::Transaction::success is DEPRECATED in favor of Mojo::Transaction::result and Mojo::Transaction::error at t/325_date_dt.t line 58.
t/325_date_dt.t ............. ok
Mojo::Transaction::success is DEPRECATED in favor of Mojo::Transaction::result and Mojo::Transaction::error at t/400_bool.t line 90.
Mojo::Transaction::success is DEPRECATED in favor of Mojo::Transaction::result and Mojo::Transaction::error at t/400_bool.t line 129.
t/400_bool.t ................ ok
Mojo::Transaction::success is DEPRECATED in favor of Mojo::Transaction::result and Mojo::Transaction::error at t/410_logic.t line 98.
Mojo::Transaction::success is DEPRECATED in favor of Mojo::Transaction::result and Mojo::Transaction::error at t/410_logic.t line 141.
t/410_logic.t ............... ok
Mojo::Transaction::success is DEPRECATED in favor of Mojo::Transaction::result and Mojo::Transaction::error at t/500_email.t line 60.
t/500_email.t ............... ok
Mojo::Transaction::success is DEPRECATED in favor of Mojo::Transaction::result and Mojo::Transaction::error at t/510_url.t line 83.
t/510_url.t ................. ok
Mojo::Transaction::success is DEPRECATED in favor of Mojo::Transaction::result and Mojo::Transaction::error at t/600_phone.t line 95.
t/600_phone.t ............... ok
Mojo::Transaction::success is DEPRECATED in favor of Mojo::Transaction::result and Mojo::Transaction::error at t/605_phone_defaults.t line 52.
t/605_phone_defaults.t ...... ok
Mojo::Transaction::success is DEPRECATED in favor of Mojo::Transaction::result and Mojo::Transaction::error at t/607_phone_fix.t line 59.
t/607_phone_fix.t ........... ok
Mojo::Transaction::success is DEPRECATED in favor of Mojo::Transaction::result and Mojo::Transaction::error at t/700_json.t line 72.
t/700_json.t ................ ok
Mojo::Transaction::success is DEPRECATED in favor of Mojo::Transaction::result and Mojo::Transaction::error at t/710_address.t line 91.
t/710_address.t ............. ok
Mojo::Transaction::success is DEPRECATED in favor of Mojo::Transaction::result and Mojo::Transaction::error at t/714_address_signing.t line 86.
Mojo::Transaction::success is DEPRECATED in favor of Mojo::Transaction::result and Mojo::Transaction::error at t/714_address_signing.t line 148.
Mojo::Transaction::success is DEPRECATED in favor of Mojo::Transaction::result and Mojo::Transaction::error at t/714_address_signing.t line 195.
Mojo::Transaction::success is DEPRECATED in favor of Mojo::Transaction::result and Mojo::Transaction::error at t/714_address_signing.t line 254.
t/714_address_signing.t ..... ok
Mojo::Transaction::success is DEPRECATED in favor of Mojo::Transaction::result and Mojo::Transaction::error at t/715_address-optional.t line 65.
t/715_address-optional.t .... ok
Mojo::Transaction::success is DEPRECATED in favor of Mojo::Transaction::result and Mojo::Transaction::error at t/716_address_json.t line 156.
Mojo::Transaction::success is DEPRECATED in favor of Mojo::Transaction::result and Mojo::Transaction::error at t/716_address_json.t line 187.
Mojo::Transaction::success is DEPRECATED in favor of Mojo::Transaction::result and Mojo::Transaction::error at t/716_address_json.t line 247.
t/716_address_json.t ........ ok
Mojo::Transaction::success is DEPRECATED in favor of Mojo::Transaction::result and Mojo::Transaction::error at t/720_jpath.t line 44.
Mojo::Transaction::success is DEPRECATED in favor of Mojo::Transaction::result and Mojo::Transaction::error at t/720_jpath.t line 48.
Mojo::Transaction::success is DEPRECATED in favor of Mojo::Transaction::result and Mojo::Transaction::error at t/720_jpath.t line 65.
Mojo::Transaction::success is DEPRECATED in favor of Mojo::Transaction::result and Mojo::Transaction::error at t/720_jpath.t line 82.
Mojo::Transaction::success is DEPRECATED in favor of Mojo::Transaction::result and Mojo::Transaction::error at t/720_jpath.t line 117.
Mojo::Transaction::success is DEPRECATED in favor of Mojo::Transaction::result and Mojo::Transaction::error at t/720_jpath.t line 138.
t/720_jpath.t ............... ok
Mojo::Transaction::success is DEPRECATED in favor of Mojo::Transaction::result and Mojo::Transaction::error at t/721_jpath_array.t line 81.
Mojo::Transaction::success is DEPRECATED in favor of Mojo::Transaction::result and Mojo::Transaction::error at t/721_jpath_array.t line 134.
t/721_jpath_array.t ......... ok
Mojo::Transaction::success is DEPRECATED in favor of Mojo::Transaction::result and Mojo::Transaction::error at t/722_jpath_maybe.t line 45.
Mojo::Transaction::success is DEPRECATED in favor of Mojo::Transaction::result and Mojo::Transaction::error at t/722_jpath_maybe.t line 62.
Mojo::Transaction::success is DEPRECATED in favor of Mojo::Transaction::result and Mojo::Transaction::error at t/722_jpath_maybe.t line 79.
Mojo::Transaction::success is DEPRECATED in favor of Mojo::Transaction::result and Mojo::Transaction::error at t/722_jpath_maybe.t line 82.
Mojo::Transaction::success is DEPRECATED in favor of Mojo::Transaction::result and Mojo::Transaction::error at t/722_jpath_maybe.t line 117.
Mojo::Transaction::success is DEPRECATED in favor of Mojo::Transaction::result and Mojo::Transaction::error at t/722_jpath_maybe.t line 120.
Mojo::Transaction::success is DEPRECATED in favor of Mojo::Transaction::result and Mojo::Transaction::error at t/722_jpath_maybe.t line 140.
Mojo::Transaction::success is DEPRECATED in favor of Mojo::Transaction::result and Mojo::Transaction::error at t/722_jpath_maybe.t line 144.
t/722_jpath_maybe.t ......... ok
Mojo::Transaction::success is DEPRECATED in favor of Mojo::Transaction::result and Mojo::Transaction::error at t/730_cpath.t line 45.
Mojo::Transaction::success is DEPRECATED in favor of Mojo::Transaction::result and Mojo::Transaction::error at t/730_cpath.t line 70.
Mojo::Transaction::success is DEPRECATED in favor of Mojo::Transaction::result and Mojo::Transaction::error at t/730_cpath.t line 115.
Mojo::Transaction::success is DEPRECATED in favor of Mojo::Transaction::result and Mojo::Transaction::error at t/730_cpath.t line 146.
t/730_cpath.t ............... ok
Mojo::Transaction::success is DEPRECATED in favor of Mojo::Transaction::result and Mojo::Transaction::error at t/740_xpath.t line 45.
Mojo::Transaction::success is DEPRECATED in favor of Mojo::Transaction::result and Mojo::Transaction::error at t/740_xpath.t line 70.
Mojo::Transaction::success is DEPRECATED in favor of Mojo::Transaction::result and Mojo::Transaction::error at t/740_xpath.t line 119.
Mojo::Transaction::success is DEPRECATED in favor of Mojo::Transaction::result and Mojo::Transaction::error at t/740_xpath.t line 150.
t/740_xpath.t ............... ok
Mojo::Transaction::success is DEPRECATED in favor of Mojo::Transaction::result and Mojo::Transaction::error at t/750_opath.t line 59.
Mojo::Transaction::success is DEPRECATED in favor of Mojo::Transaction::result and Mojo::Transaction::error at t/750_opath.t line 109.
t/750_opath.t ............... ok
Mojo::Transaction::success is DEPRECATED in favor of Mojo::Transaction::result and Mojo::Transaction::error at t/800_inn.t line 84.
t/800_inn.t ................. ok
Mojo::Transaction::success is DEPRECATED in favor of Mojo::Transaction::result and Mojo::Transaction::error at t/805_kpp.t line 66.
t/805_kpp.t ................. ok
Mojo::Transaction::success is DEPRECATED in favor of Mojo::Transaction::result and Mojo::Transaction::error at t/840_isin.t line 98.
t/840_isin.t ................ ok
Mojo::Transaction::success is DEPRECATED in favor of Mojo::Transaction::result and Mojo::Transaction::error at t/841_maestro.t line 60.
t/841_maestro.t ............. ok
Mojo::Transaction::success is DEPRECATED in favor of Mojo::Transaction::result and Mojo::Transaction::error at t/842_creditcard.t line 77.
t/842_creditcard.t .......... ok
Mojo::Transaction::success is DEPRECATED in favor of Mojo::Transaction::result and Mojo::Transaction::error at t/850_barcode.t line 96.
t/850_barcode.t ............. ok
Mojo::Transaction::success is DEPRECATED in favor of Mojo::Transaction::result and Mojo::Transaction::error at t/900_regexp.t line 63.
Mojo::Transaction::success is DEPRECATED in favor of Mojo::Transaction::result and Mojo::Transaction::error at t/900_regexp.t line 101.
t/900_regexp.t .............. ok
Mojo::Transaction::success is DEPRECATED in favor of Mojo::Transaction::result and Mojo::Transaction::error at t/905_in.t line 84.
t/905_in.t .................. ok
Mojo::Transaction::success is DEPRECATED in favor of Mojo::Transaction::result and Mojo::Transaction::error at t/910_numbers.t line 72.
Mojo::Transaction::success is DEPRECATED in favor of Mojo::Transaction::result and Mojo::Transaction::error at t/910_numbers.t line 116.
Mojo::Transaction::success is DEPRECATED in favor of Mojo::Transaction::result and Mojo::Transaction::error at t/910_numbers.t line 146.
Mojo::Transaction::success is DEPRECATED in favor of Mojo::Transaction::result and Mojo::Transaction::error at t/910_numbers.t line 175.
t/910_numbers.t ............. ok
Mojo::Transaction::success is DEPRECATED in favor of Mojo::Transaction::result and Mojo::Transaction::error at t/915_strings.t line 70.
t/915_strings.t ............. ok
Mojo::Transaction::success is DEPRECATED in favor of Mojo::Transaction::result and Mojo::Transaction::error at t/920_range.t line 70.
t/920_range.t ............... ok
Mojo::Transaction::success is DEPRECATED in favor of Mojo::Transaction::result and Mojo::Transaction::error at t/925_size.t line 75.
t/925_size.t ................ ok
t/990_manifest.t ............ ok
t/995_pod.t ................. ok
All tests successful.
Files=78, Tests=1552, 25 wallclock secs ( 0.26 usr 0.07 sys + 22.04 cusr 2.46 csys = 24.83 CPU)
Result: PASS
------------------------------
PREREQUISITES
------------------------------
Prerequisite modules loaded:
requires:
Module Need Have
--------------------------- -------- --------
DateTime 0 1.51
DateTime::Format::DateParse 0 0.05
List::MoreUtils 0 0.428
Mail::RFC822::Address 0 0.3
Mojolicious 0 8.22
perl 5.010000 5.028002
Test::Compile 0 v2.2.2
Test::More 0 1.302164
XML::LibXML 0 2.0201
build_requires:
Module Need Have
--------------------------- -------- --------
ExtUtils::MakeMaker 0 7.37_03
configure_requires:
Module Need Have
--------------------------- -------- --------
ExtUtils::MakeMaker 0 7.37_03
------------------------------
ENVIRONMENT AND OTHER CONTEXT
------------------------------
Environment variables:
AUTOMATED_TESTING = 1
LC_COLLATE = ru_RU.utf8
LC_CTYPE = ru_RU.utf8
PATH = /home/syber/perl5/perlbrew/bin:/home/syber/perl5/perlbrew/perls/5.28.2/bin:/usr/local/bin:/usr/bin:/bin:/usr/local/games:/usr/games
PERL5LIB =
PERL5OPT =
PERL5_CPANPLUS_IS_RUNNING = 24517
PERL5_CPAN_IS_RUNNING = 24517
PERL5_CPAN_IS_RUNNING_IN_RECURSION = 23191,24517
PERLBREW_HOME = /home/syber/.perlbrew
PERLBREW_MANPATH = /home/syber/perl5/perlbrew/perls/5.28.2/man
PERLBREW_PATH = /home/syber/perl5/perlbrew/bin:/home/syber/perl5/perlbrew/perls/5.28.2/bin
PERLBREW_PERL = 5.28.2
PERLBREW_ROOT = /home/syber/perl5/perlbrew
PERLBREW_SHELLRC_VERSION = 0.86
PERLBREW_VERSION = 0.86
PERL_CR_SMOKER_CURRENT = Mojolicious-Plugin-Vparam-3.06
PERL_EXTUTILS_AUTOINSTALL = --defaultdeps
PERL_MM_USE_DEFAULT = 1
PERL_USE_UNSAFE_INC = 1
SHELL = /bin/bash
TERM = screen
Perl special variables (and OS-specific diagnostics, for MSWin32):
$^X = /home/syber/perl5/perlbrew/perls/5.28.2/bin/perl
$UID/$EUID = 1003 / 1003
$GID = 1003 11 1003
$EGID = 1003 11 1003
Perl module toolchain versions installed:
Module Have
------------------- ---------
CPAN 2.27
CPAN::Meta 2.150010
Cwd 3.75
ExtUtils::CBuilder 0.280231
ExtUtils::Command 7.37_03
ExtUtils::Install 2.14
ExtUtils::MakeMaker 7.37_03
ExtUtils::Manifest 1.72
ExtUtils::ParseXS 3.39
File::Spec 3.75
JSON 4.02
JSON::PP 4.04
Module::Build 0.42_30
Module::Signature 0.83
Parse::CPAN::Meta 2.150010
Test::Harness 3.42
Test::More 1.302164
YAML 1.29
YAML::Syck 1.31
version 0.9924_02
--
Summary of my perl5 (revision 5 version 28 subversion 2) configuration:
Platform:
osname=linux
osvers=4.9.0-8-amd64
archname=x86_64-linux
uname='linux dexter.crazypanda.ru 4.9.0-8-amd64 #1 smp debian 4.9.110-3+deb9u6 (2018-10-08) x86_64 gnulinux '
config_args='-de -Dprefix=/home/syber/perl5/perlbrew/perls/5.28.2 -Aeval:scriptdir=/home/syber/perl5/perlbrew/perls/5.28.2/bin'
hint=recommended
useposix=true
d_sigaction=define
useithreads=undef
usemultiplicity=undef
use64bitint=define
use64bitall=define
uselongdouble=undef
usemymalloc=n
default_inc_excludes_dot=define
bincompat5005=undef
Compiler:
cc='cc'
ccflags ='-fwrapv -fno-strict-aliasing -pipe -fstack-protector-strong -I/usr/local/include -D_LARGEFILE_SOURCE -D_FILE_OFFSET_BITS=64 -D_FORTIFY_SOURCE=2'
optimize='-O2'
cppflags='-fwrapv -fno-strict-aliasing -pipe -fstack-protector-strong -I/usr/local/include'
ccversion=''
gccversion='6.3.0 20170516'
gccosandvers=''
intsize=4
longsize=8
ptrsize=8
doublesize=8
byteorder=12345678
doublekind=3
d_longlong=define
longlongsize=8
d_longdbl=define
longdblsize=16
longdblkind=3
ivtype='long'
ivsize=8
nvtype='double'
nvsize=8
Off_t='off_t'
lseeksize=8
alignbytes=8
prototype=define
Linker and Libraries:
ld='cc'
ldflags =' -fstack-protector-strong -L/usr/local/lib'
libpth=/usr/local/lib /usr/lib/gcc/x86_64-linux-gnu/6/include-fixed /usr/include/x86_64-linux-gnu /usr/lib /lib/x86_64-linux-gnu /lib/../lib /usr/lib/x86_64-linux-gnu /usr/lib/../lib /lib
libs=-lpthread -lnsl -ldl -lm -lcrypt -lutil -lc
perllibs=-lpthread -lnsl -ldl -lm -lcrypt -lutil -lc
libc=libc-2.24.so
so=so
useshrplib=false
libperl=libperl.a
gnulibc_version='2.24'
Dynamic Linking:
dlsrc=dl_dlopen.xs
dlext=so
d_dlsymun=undef
ccdlflags='-Wl,-E'
cccdlflags='-fPIC'
lddlflags='-shared -O2 -L/usr/local/lib -fstack-protector-strong'
Characteristics of this binary (from libperl):
Compile-time options:
HAS_TIMES
PERLIO_LAYERS
PERL_COPY_ON_WRITE
PERL_DONT_CREATE_GVSV
PERL_MALLOC_WRAP
PERL_OP_PARENT
PERL_PRESERVE_IVUV
USE_64_BIT_ALL
USE_64_BIT_INT
USE_LARGE_FILES
USE_LOCALE
USE_LOCALE_COLLATE
USE_LOCALE_CTYPE
USE_LOCALE_NUMERIC
USE_LOCALE_TIME
USE_PERLIO
USE_PERL_ATOF
Locally applied patches:
Devel::PatchPerl 1.64
Built under linux
Compiled at Aug 5 2019 13:32:33
%ENV:
PERL5LIB=""
PERL5OPT=""
PERL5_CPANPLUS_IS_RUNNING="24517"
PERL5_CPAN_IS_RUNNING="24517"
PERL5_CPAN_IS_RUNNING_IN_RECURSION="23191,24517"
PERLBREW_HOME="/home/syber/.perlbrew"
PERLBREW_MANPATH="/home/syber/perl5/perlbrew/perls/5.28.2/man"
PERLBREW_PATH="/home/syber/perl5/perlbrew/bin:/home/syber/perl5/perlbrew/perls/5.28.2/bin"
PERLBREW_PERL="5.28.2"
PERLBREW_ROOT="/home/syber/perl5/perlbrew"
PERLBREW_SHELLRC_VERSION="0.86"
PERLBREW_VERSION="0.86"
PERL_CR_SMOKER_CURRENT="Mojolicious-Plugin-Vparam-3.06"
PERL_EXTUTILS_AUTOINSTALL="--defaultdeps"
PERL_MM_USE_DEFAULT="1"
PERL_USE_UNSAFE_INC="1"
@INC:
/home/syber/perl5/perlbrew/perls/5.28.2/lib/site_perl/5.28.2/x86_64-linux
/home/syber/perl5/perlbrew/perls/5.28.2/lib/site_perl/5.28.2
/home/syber/perl5/perlbrew/perls/5.28.2/lib/5.28.2/x86_64-linux
/home/syber/perl5/perlbrew/perls/5.28.2/lib/5.28.2
.