Alien-automake v0.18 Perl 5 v5.37.10 x86_64-linux-thread-multi
- Status
- Pass
- From
- Andreas J. König (ANDK)
- Dist
-
Alien-automake v0.18
- Platform
- Perl 5 v5.37.10 x86_64-linux-thread-multi
- Date
- 2023-04-10 02:38:33
- ID
- c93b69a0-d748-11ed-b3e1-a80b4b08b013
This distribution has been tested as part of the CPAN Testers
project, supporting the Perl programming language. See
http://wiki.cpantesters.org/ for more information or email
questions to cpan-testers-discuss@perl.org
--
Dear Graham Ollis,
This is a computer-generated report for Alien-automake-0.18
on perl 5.37.10, created by CPAN-Reporter-1.2018.
Thank you for uploading your work to CPAN. Congratulations!
All tests were successful.
Sections of this report:
* Tester comments
* Program output
* Prerequisites
* Environment and other context
------------------------------
TESTER COMMENTS
------------------------------
Additional comments from tester:
this report is from an automated smoke testing program
and was not reviewed by a human for accuracy
------------------------------
PROGRAM OUTPUT
------------------------------
Output from '/usr/bin/make test':
"/tmp/basesmoker-reloperl-Uy9p/bin/perl" -MAlien::Build::MM=cmd -e test
PERL_DL_NONLAZY=1 "/tmp/basesmoker-reloperl-Uy9p/bin/perl" "-MExtUtils::Command::MM" "-MTest::Harness" "-e" "undef *Test::Harness::Switches; test_harness(0, 'blib/lib', 'blib/arch')" t/*.t
#
#
#
# HARNESS_ACTIVE=1
# HARNESS_VERSION=3.44
# LANG=en_US.UTF-8
# PERL="/tmp/basesmoker-reloperl-Uy9p/bin/perl"
# PERL5LIB=/tmp/loop_over_bdir-2055-3oOvGP/Alien-automake-0.18-0/blib/lib:/tmp/loop_over_bdir-2055-3oOvGP/Alien-automake-0.18-0/blib/arch:/tmp/loop_over_bdir-2055-3oOvGP/shishi-0.0.1-0/blib/arch:/tmp/loop_over_bdir-2055-3oOvGP/shishi-0.0.1-0/blib/lib:/tmp/loop_over_bdir-2055-3oOvGP/CGI-Application-NetNewsIface-0.0204-0/blib/arch:/tmp/loop_over_bdir-2055-3oOvGP/CGI-Application-NetNewsIface-0.0204-0/blib/lib:/tmp/loop_over_bdir-2055-3oOvGP/Dpkg-1.21.19-0/blib/arch:/tmp/loop_over_bdir-2055-3oOvGP/Dpkg-1.21.19-0/blib/lib:/tmp/loop_over_bdir-2055-3oOvGP/dta-tokwrap-0.98-0/blib/arch:/tmp/loop_over_bdir-2055-3oOvGP/dta-tokwrap-0.98-0/blib/lib:/tmp/loop_over_bdir-2055-3oOvGP/RackMan-1.19-0/blib/arch:/tmp/loop_over_bdir-2055-3oOvGP/RackMan-1.19-0/blib/lib:/tmp/loop_over_bdir-2055-3oOvGP/shishi-0.0.1-0/blib/arch:/tmp/loop_over_bdir-2055-3oOvGP/shishi-0.0.1-0/blib/lib:/tmp/loop_over_bdir-2055-3oOvGP/CGI-Application-NetNewsIface-0.0204-0/blib/arch:/tmp/loop_over_bdir-2055-3oOvGP/CGI-Application-NetNewsIface-0.0204-0/blib/lib:/tmp/loop_over_bdir-2055-3oOvGP/Dpkg-1.21.19-0/blib/arch:/tmp/loop_over_bdir-2055-3oOvGP/Dpkg-1.21.19-0/blib/lib:/tmp/loop_over_bdir-2055-3oOvGP/dta-tokwrap-0.98-0/blib/arch:/tmp/loop_over_bdir-2055-3oOvGP/dta-tokwrap-0.98-0/blib/lib:/tmp/loop_over_bdir-2055-3oOvGP/RackMan-1.19-0/blib/arch:/tmp/loop_over_bdir-2055-3oOvGP/RackMan-1.19-0/blib/lib
# PERL5OPT=
# PERL5_CPANPLUS_IS_RUNNING=2063
# PERL5_CPAN_IS_RUNNING=2063
# PERL_CANARY_STABILITY_NOPROMPT=1
# PERL_DL_NONLAZY=1
# PERL_MM_USE_DEFAULT=1
# PERL_USE_UNSAFE_INC=1
# SHELL=/usr/bin/zsh
#
#
#
# PERL5LIB path
# /tmp/loop_over_bdir-2055-3oOvGP/Alien-automake-0.18-0/blib/lib
# /tmp/loop_over_bdir-2055-3oOvGP/Alien-automake-0.18-0/blib/arch
# /tmp/loop_over_bdir-2055-3oOvGP/shishi-0.0.1-0/blib/arch
# /tmp/loop_over_bdir-2055-3oOvGP/shishi-0.0.1-0/blib/lib
# /tmp/loop_over_bdir-2055-3oOvGP/CGI-Application-NetNewsIface-0.0204-0/blib/arch
# /tmp/loop_over_bdir-2055-3oOvGP/CGI-Application-NetNewsIface-0.0204-0/blib/lib
# /tmp/loop_over_bdir-2055-3oOvGP/Dpkg-1.21.19-0/blib/arch
# /tmp/loop_over_bdir-2055-3oOvGP/Dpkg-1.21.19-0/blib/lib
# /tmp/loop_over_bdir-2055-3oOvGP/dta-tokwrap-0.98-0/blib/arch
# /tmp/loop_over_bdir-2055-3oOvGP/dta-tokwrap-0.98-0/blib/lib
# /tmp/loop_over_bdir-2055-3oOvGP/RackMan-1.19-0/blib/arch
# /tmp/loop_over_bdir-2055-3oOvGP/RackMan-1.19-0/blib/lib
# /tmp/loop_over_bdir-2055-3oOvGP/shishi-0.0.1-0/blib/arch
# /tmp/loop_over_bdir-2055-3oOvGP/shishi-0.0.1-0/blib/lib
# /tmp/loop_over_bdir-2055-3oOvGP/CGI-Application-NetNewsIface-0.0204-0/blib/arch
# /tmp/loop_over_bdir-2055-3oOvGP/CGI-Application-NetNewsIface-0.0204-0/blib/lib
# /tmp/loop_over_bdir-2055-3oOvGP/Dpkg-1.21.19-0/blib/arch
# /tmp/loop_over_bdir-2055-3oOvGP/Dpkg-1.21.19-0/blib/lib
# /tmp/loop_over_bdir-2055-3oOvGP/dta-tokwrap-0.98-0/blib/arch
# /tmp/loop_over_bdir-2055-3oOvGP/dta-tokwrap-0.98-0/blib/lib
# /tmp/loop_over_bdir-2055-3oOvGP/RackMan-1.19-0/blib/arch
# /tmp/loop_over_bdir-2055-3oOvGP/RackMan-1.19-0/blib/lib
#
#
#
# perl 5.037010 linux x86_64-linux-thread-multi
# Alien::Base 2.78
# Alien::Build 2.78
# Alien::Build::MM 2.78
# Alien::Build::Plugin::Build::Autoconf 2.78
# Alien::Build::Plugin::Build::MSYS 2.78
# Alien::autoconf 0.19
# Env 1.06
# ExtUtils::MakeMaker 7.70
# Test2::V0 0.000150
# Test::Alien 2.78
# Test::More 1.302194
#
#
#
t/00_diag.t ......... ok
t/01_use.t .......... ok
t/alien_automake.t .. ok
All tests successful.
Files=3, Tests=7, 1 wallclock secs ( 0.04 usr 0.03 sys + 0.77 cusr 0.13 csys = 0.97 CPU)
Result: PASS
------------------------------
PREREQUISITES
------------------------------
Prerequisite modules loaded:
requires:
Module Need Have
------------------------------------- -------- --------
Alien::Base 0.038 2.78
Alien::Build 0.25 2.78
perl 5.008001 5.037010
build_requires:
Module Need Have
------------------------------------- -------- --------
Alien::autoconf 0.05 0.19
Alien::Build 0.49 2.78
Alien::Build::MM 0.32 2.78
Alien::Build::Plugin::Build::Autoconf 0.47 2.78
Alien::m4 0.11 0.21
Archive::Tar 0 3.00
Config 0 5.037010
Env 0 1.06
ExtUtils::MakeMaker 6.52 7.70
HTTP::Tiny 0.044 0.082
IO::Socket::SSL 1.56 2.081
IO::Zlib 0 1.14
Mojo::DOM58 1.00 3.001
Mozilla::CA 0 20221114
Net::SSLeay 1.49 1.92
Path::Tiny 0.077 0.144
Sort::Versions 0 1.62
Test2::V0 0.000121 0.000150
Test::Alien 2.52 2.78
Test::More 0.98 1.302194
URI 0 5.17
URI::Escape 0 5.17
configure_requires:
Module Need Have
------------------------------------- -------- --------
Alien::Build 0.32 2.78
Alien::Build::MM 0.32 2.78
Alien::Build::Plugin::Build::MSYS 0.84 2.78
ExtUtils::MakeMaker 6.52 7.70
perl 5.008001 5.037010
------------------------------
ENVIRONMENT AND OTHER CONTEXT
------------------------------
Environment variables:
AUTOMATED_TESTING = 1
LANG = en_US.UTF-8
PATH = /home/sand/bin:/usr/local/bin:/usr/local/sbin:/usr/sbin:/usr/bin:/sbin:/bin:/usr/games:/usr/local/games:/snap/bin:/usr/local/perl/bin:/usr/X11/bin
PERL = /tmp/basesmoker-reloperl-Uy9p/bin/perl
PERL5LIB = /tmp/loop_over_bdir-2055-3oOvGP/shishi-0.0.1-0/blib/arch:/tmp/loop_over_bdir-2055-3oOvGP/shishi-0.0.1-0/blib/lib:/tmp/loop_over_bdir-2055-3oOvGP/CGI-Application-NetNewsIface-0.0204-0/blib/arch:/tmp/loop_over_bdir-2055-3oOvGP/CGI-Application-NetNewsIface-0.0204-0/blib/lib:/tmp/loop_over_bdir-2055-3oOvGP/Dpkg-1.21.19-0/blib/arch:/tmp/loop_over_bdir-2055-3oOvGP/Dpkg-1.21.19-0/blib/lib:/tmp/loop_over_bdir-2055-3oOvGP/dta-tokwrap-0.98-0/blib/arch:/tmp/loop_over_bdir-2055-3oOvGP/dta-tokwrap-0.98-0/blib/lib:/tmp/loop_over_bdir-2055-3oOvGP/RackMan-1.19-0/blib/arch:/tmp/loop_over_bdir-2055-3oOvGP/RackMan-1.19-0/blib/lib
PERL5OPT =
PERL5_CPANPLUS_IS_RUNNING = 2063
PERL5_CPAN_IS_RUNNING = 2063
PERL_CANARY_STABILITY_NOPROMPT = 1
PERL_MM_USE_DEFAULT = 1
PERL_USE_UNSAFE_INC = 1
SHELL = /usr/bin/zsh
TERM = screen
Perl special variables (and OS-specific diagnostics, for MSWin32):
$^X = /tmp/basesmoker-reloperl-Uy9p/bin/perl
$UID/$EUID = 1005 / 1005
$GID = 1005 1005
$EGID = 1005 1005
Perl module toolchain versions installed:
Module Have
------------------- --------
CPAN 2.34
CPAN::Meta 2.150010
Cwd 3.89
ExtUtils::CBuilder 0.280238
ExtUtils::Command 7.70
ExtUtils::Install 2.22
ExtUtils::MakeMaker 7.70
ExtUtils::Manifest 1.73
ExtUtils::ParseXS 3.49
File::Spec 3.88
JSON 4.10
JSON::PP 4.16
Module::Build 0.4232
Module::Signature 0.88
Parse::CPAN::Meta 2.150010
Test::Harness 3.44
Test::More 1.302194
YAML 1.30
YAML::Syck 1.34
version 0.9929
--
Summary of my perl5 (revision 5 version 37 subversion 10) configuration:
Commit id: d62f5d9eddd273f5a82c0dbad932a8f4d18f9488
Platform:
osname=linux
osvers=5.4.0-146-generic
archname=x86_64-linux-thread-multi
uname='linux k93focal 5.4.0-146-generic #163-ubuntu smp fri mar 17 18:26:02 utc 2023 x86_64 x86_64 x86_64 gnulinux '
config_args='-Dprefix=/home/sand/src/perl/repoperls/installed-perls/host/k93focal/v5.37.10/d119 -Dmyhostname=k93focal -Dinstallusrbinperl=n -Uversiononly -Dusedevel -des -Ui_db -Dlibswanted=cl pthread socket inet nsl gdbm dbm malloc dl ld sun m crypt sec util c cposix posix ucb BSD gdbm_compat -Duseithreads -Uuselongdouble -DEBUGGING=both'
hint=recommended
useposix=true
d_sigaction=define
useithreads=define
usemultiplicity=define
use64bitint=define
use64bitall=define
uselongdouble=undef
usemymalloc=n
default_inc_excludes_dot=define
Compiler:
cc='cc'
ccflags ='-D_REENTRANT -D_GNU_SOURCE -fwrapv -DDEBUGGING -fno-strict-aliasing -pipe -fstack-protector-strong -I/usr/local/include -D_LARGEFILE_SOURCE -D_FILE_OFFSET_BITS=64'
optimize='-O2 -g'
cppflags='-D_REENTRANT -D_GNU_SOURCE -fwrapv -DDEBUGGING -fno-strict-aliasing -pipe -fstack-protector-strong -I/usr/local/include'
ccversion=''
gccversion='9.4.0'
gccosandvers=''
intsize=4
longsize=8
ptrsize=8
doublesize=8
byteorder=12345678
doublekind=3
d_longlong=define
longlongsize=8
d_longdbl=define
longdblsize=16
longdblkind=3
ivtype='long'
ivsize=8
nvtype='double'
nvsize=8
Off_t='off_t'
lseeksize=8
alignbytes=8
prototype=define
Linker and Libraries:
ld='cc'
ldflags =' -fstack-protector-strong -L/usr/local/lib'
libpth=/usr/local/lib /usr/lib/x86_64-linux-gnu /usr/lib /usr/lib64
libs=-lpthread -lnsl -ldl -lm -lcrypt -lutil -lc
perllibs=-lpthread -lnsl -ldl -lm -lcrypt -lutil -lc
libc=libc-2.31.so
so=so
useshrplib=false
libperl=libperl.a
gnulibc_version='2.31'
Dynamic Linking:
dlsrc=dl_dlopen.xs
dlext=so
d_dlsymun=undef
ccdlflags='-Wl,-E'
cccdlflags='-fPIC'
lddlflags='-shared -O2 -g -L/usr/local/lib -fstack-protector-strong'
Characteristics of this binary (from libperl):
Compile-time options:
DEBUGGING
HAS_TIMES
MULTIPLICITY
PERLIO_LAYERS
PERL_COPY_ON_WRITE
PERL_DONT_CREATE_GVSV
PERL_HASH_FUNC_SIPHASH13
PERL_HASH_USE_SBOX32
PERL_MALLOC_WRAP
PERL_OP_PARENT
PERL_PRESERVE_IVUV
PERL_TRACK_MEMPOOL
PERL_USE_DEVEL
PERL_USE_SAFE_PUTENV
USE_64_BIT_ALL
USE_64_BIT_INT
USE_ITHREADS
USE_LARGE_FILES
USE_LOCALE
USE_LOCALE_COLLATE
USE_LOCALE_CTYPE
USE_LOCALE_NUMERIC
USE_LOCALE_TIME
USE_PERLIO
USE_PERL_ATOF
USE_REENTRANT_API
USE_THREAD_SAFE_LOCALE
Built under linux
Compiled at Apr 7 2023 17:53:35
%ENV:
PERL="/tmp/basesmoker-reloperl-Uy9p/bin/perl"
PERL5LIB="/tmp/loop_over_bdir-2055-3oOvGP/shishi-0.0.1-0/blib/arch:/tmp/loop_over_bdir-2055-3oOvGP/shishi-0.0.1-0/blib/lib:/tmp/loop_over_bdir-2055-3oOvGP/CGI-Application-NetNewsIface-0.0204-0/blib/arch:/tmp/loop_over_bdir-2055-3oOvGP/CGI-Application-NetNewsIface-0.0204-0/blib/lib:/tmp/loop_over_bdir-2055-3oOvGP/Dpkg-1.21.19-0/blib/arch:/tmp/loop_over_bdir-2055-3oOvGP/Dpkg-1.21.19-0/blib/lib:/tmp/loop_over_bdir-2055-3oOvGP/dta-tokwrap-0.98-0/blib/arch:/tmp/loop_over_bdir-2055-3oOvGP/dta-tokwrap-0.98-0/blib/lib:/tmp/loop_over_bdir-2055-3oOvGP/RackMan-1.19-0/blib/arch:/tmp/loop_over_bdir-2055-3oOvGP/RackMan-1.19-0/blib/lib"
PERL5OPT=""
PERL5_CPANPLUS_IS_RUNNING="2063"
PERL5_CPAN_IS_RUNNING="2063"
PERL_CANARY_STABILITY_NOPROMPT="1"
PERL_MM_USE_DEFAULT="1"
PERL_USE_UNSAFE_INC="1"
@INC:
/tmp/loop_over_bdir-2055-3oOvGP/shishi-0.0.1-0/blib/arch
/tmp/loop_over_bdir-2055-3oOvGP/shishi-0.0.1-0/blib/lib
/tmp/loop_over_bdir-2055-3oOvGP/CGI-Application-NetNewsIface-0.0204-0/blib/arch
/tmp/loop_over_bdir-2055-3oOvGP/CGI-Application-NetNewsIface-0.0204-0/blib/lib
/tmp/loop_over_bdir-2055-3oOvGP/Dpkg-1.21.19-0/blib/arch
/tmp/loop_over_bdir-2055-3oOvGP/Dpkg-1.21.19-0/blib/lib
/tmp/loop_over_bdir-2055-3oOvGP/dta-tokwrap-0.98-0/blib/arch
/tmp/loop_over_bdir-2055-3oOvGP/dta-tokwrap-0.98-0/blib/lib
/tmp/loop_over_bdir-2055-3oOvGP/RackMan-1.19-0/blib/arch
/tmp/loop_over_bdir-2055-3oOvGP/RackMan-1.19-0/blib/lib
/home/sand/src/perl/repoperls/installed-perls/host/k93focal/v5.37.10/d119/lib/site_perl/5.37.10/x86_64-linux-thread-multi
/home/sand/src/perl/repoperls/installed-perls/host/k93focal/v5.37.10/d119/lib/site_perl/5.37.10
/home/sand/src/perl/repoperls/installed-perls/host/k93focal/v5.37.10/d119/lib/5.37.10/x86_64-linux-thread-multi
/home/sand/src/perl/repoperls/installed-perls/host/k93focal/v5.37.10/d119/lib/5.37.10
.