UR-Object-Command-Crud v0.01 Perl 5 v5.22.0 amd64-freebsd

Status
Pass
From
Slaven Rezić (SREZIC)
Dist
UR-Object-Command-Crud v0.01
Platform
Perl 5 v5.22.0 amd64-freebsd
Date
2017-09-23 07:35:34
ID
c93863f8-a031-11e7-b9de-ecfb9b916697
This distribution has been tested as part of the CPAN Testers
project, supporting the Perl programming language.  See
http://wiki.cpantesters.org/ for more information or email
questions to cpan-testers-discuss@perl.org


--
Dear Edward Belter,

This is a computer-generated report for UR-Object-Command-Crud-0.01
on perl 5.22.0, created by CPAN-Reporter-1.2017.

Thank you for uploading your work to CPAN.  Congratulations!
All tests were successful.

Sections of this report:

    * Tester comments
    * Program output
    * Prerequisites
    * Environment and other context

------------------------------
TESTER COMMENTS
------------------------------

Additional comments from tester:

none provided

------------------------------
PROGRAM OUTPUT
------------------------------

Output from './Build test':

t/TestCrudClasses.t ..................................... ok
ERROR: Invalid data for save!
ERROR: Test::Muppet identified by ernie jr (2C832F409FF811E7824DE23C8C821584) has problems on
INVALID: property 'title': The value invalid is not in the list of valid values for title.  Valid values are: mr, sir, mrs, ms, miss, dr
    Current state:
$VAR1 = bless( {
                 '_change_count' => 3,
                 'job_id' => '2C7E60329FF811E78A0EACD7E43AFCDC',
                 'title' => 'invalid',
                 '__get_serial' => 1956,
                 'name' => 'ernie jr',
                 'id' => '2C832F409FF811E7824DE23C8C821584'
               }, 'Test::Muppet' );
ERROR: Test::Muppet identified by ernie jr (2C832F409FF811E7824DE23C8C821584) has problems on
INVALID: property 'title': The value invalid is not in the list of valid values for title.  Valid values are: mr, sir, mrs, ms, miss, dr
    Current state:
$VAR1 = bless( {
                 '_change_count' => 3,
                 'job_id' => '2C7E60329FF811E78A0EACD7E43AFCDC',
                 'title' => 'invalid',
                 '__get_serial' => 1956,
                 'name' => 'ernie jr',
                 'id' => '2C832F409FF811E7824DE23C8C821584'
               }, 'Test::Muppet' );
ERROR: Test::Muppet identified by ernie jr (2C832F409FF811E7824DE23C8C821584) has problems on
INVALID: property 'title': The value invalid is not in the list of valid values for title.  Valid values are: mr, sir, mrs, ms, miss, dr
    Current state:
$VAR1 = bless( {
                 '_change_count' => 3,
                 'job_id' => '2C7E60329FF811E78A0EACD7E43AFCDC',
                 'title' => 'invalid',
                 '__get_serial' => 1956,
                 'name' => 'ernie jr',
                 'id' => '2C832F409FF811E7824DE23C8C821584'
               }, 'Test::Muppet' );
NEW	Test::Muppet	ernie sr (2C84B3D89FF811E78EBEA9B8EE56FCAD)
t/UR-Object-Command-Copy.t .............................. ok
ERROR: Property 'name': No value specified for required property
ERROR: Please see 'test muppet create --help' for more information.
Params:
---
best_friend: 2CEC0D949FF811E79E9FA06F6C3C3E45
friends:
  - 2CEC2C2A9FF811E791DAA38FD83D03CC
job: 2CEC4B249FF811E7A405C92B6F39AFB9
name: ernie
title: mr
New	Test::Muppet	ernie (2CF259249FF811E785BEC798B83BC165)
t/UR-Object-Command-Create.t ............................ ok
t/UR-Object-Command-Create_exclude.t .................... ok
t/UR-Object-Command-Crud.t .............................. ok
t/UR-Object-Command-CrudUtil.t .......................... ok
t/UR-Object-Command-Crud_uniq_names_and_sub_commands.t .. ok
t/UR-Object-Command-Delete.t ............................ ok
t/UR-Object-Command-List.t .............................. ok
t/UR-Object-Command-Update.t ............................ ok
t/UR-Object-Command-UpdateIsMany.t ...................... ok
t/UR-Object-Command-UpdateTree.t ........................ ok
t/UR-Object-Command-Update_exclude.t .................... ok
All tests successful.
Files=13, Tests=35,  9 wallclock secs ( 0.00 usr  0.20 sys +  4.01 cusr  4.34 csys =  8.54 CPU)
Result: PASS

------------------------------
PREREQUISITES
------------------------------

Prerequisite modules loaded:

requires:

    Module              Need Have    
    ------------------- ---- --------
    Lingua::EN::Inflect 0    1.900   
    List::MoreUtils     0    0.419   
    Sub::Install        0    0.928   
    UR                  0    0.46    
    YAML                0    1.23    

build_requires:

    Module              Need Have    
    ------------------- ---- --------
    Module::Build       0    0.4224  
    Path::Class         0    0.37    
    Scope::Guard        0    0.21    
    Test::More          0    1.302096

configure_requires:

    Module              Need Have    
    ------------------- ---- --------
    Module::Build       0.42 0.4224  


------------------------------
ENVIRONMENT AND OTHER CONTEXT
------------------------------

Environment variables:

    LC_ALL = de_DE.ISO8859-1
    PATH = /usr/local/bin:/usr/bin:/bin:/usr/local/sbin:/usr/sbin:/sbin:/home/cpansand/bin/freebsd10.3:/home/cpansand/bin/sh:/home/cpansand/bin:/usr/games:/home/cpansand/devel:/home/eserte/src/srezic-misc/scripts
    PERL5LIB = 
    PERL5OPT = 
    PERL5_CPANPLUS_IS_RUNNING = 16039
    PERL5_CPAN_IS_RUNNING = 16039
    PERL5_CPAN_IS_RUNNING_IN_RECURSION = 16000,16039
    PERLDOC = -MPod::Perldoc::ToTextOverstrike
    PERL_BATCH = yes
    PERL_CANARY_STABILITY_NOPROMPT = 1
    PERL_CPAN_REPORTER_CONFIG = /var/tmp/cpansmoker-1023/2017092300/cpanreporter_000_config.ini
    PERL_EXTUTILS_AUTOINSTALL = --defaultdeps
    SHELL = /usr/local/bin/zsh
    TERM = screen
    TMPDIR = /var/tmp/cpansmoker-1023/2017092300

Perl special variables (and OS-specific diagnostics, for MSWin32):

    $^X = /usr/perl5.22.0p/bin/perl5.22.0
    $UID/$EUID = 1023 / 1023
    $GID = 1023 1023
    $EGID = 1023 1023

Perl module toolchain versions installed:

    Module              Have    
    ------------------- --------
    CPAN                2.16    
    CPAN::Meta          2.150010
    Cwd                 3.62    
    ExtUtils::CBuilder  0.280226
    ExtUtils::Command   7.24    
    ExtUtils::Install   2.12    
    ExtUtils::MakeMaker 7.24    
    ExtUtils::Manifest  1.70    
    ExtUtils::ParseXS   3.35    
    File::Spec          3.62    
    JSON                2.94    
    JSON::PP            2.27400 
    Module::Build       0.4224  
    Module::Signature   0.79    
    Parse::CPAN::Meta   2.150010
    Test::Harness       3.38    
    Test::More          1.302096
    YAML                1.23    
    YAML::Syck          1.29    
    version             0.9917  


--

Summary of my perl5 (revision 5 version 22 subversion 0) configuration:
   
  Platform:
    osname=freebsd, osvers=10.1-release, archname=amd64-freebsd
    uname='freebsd cvrsnica-freebsd-101.herceg.de 10.1-release freebsd 10.1-release #0 r274401: tue nov 11 21:02:49 utc 2014 root@releng1.nyi.freebsd.org:usrobjusrsrcsysgeneric amd64 '
    config_args='-ds -e -Dprefix=/usr/perl5.22.0p -Dcf_email=srezic@cpan.org'
    hint=recommended, useposix=true, d_sigaction=define
    useithreads=undef, usemultiplicity=undef
    use64bitint=define, use64bitall=define, uselongdouble=undef
    usemymalloc=n, bincompat5005=undef
  Compiler:
    cc='cc', ccflags ='-DHAS_FPSETMASK -DHAS_FLOATINGPOINT_H -fno-strict-aliasing -pipe -fstack-protector -I/usr/local/include -D_FORTIFY_SOURCE=2',
    optimize='-O',
    cppflags='-DHAS_FPSETMASK -DHAS_FLOATINGPOINT_H -fno-strict-aliasing -pipe -fstack-protector -I/usr/local/include'
    ccversion='', gccversion='4.2.1 Compatible FreeBSD Clang 3.4.1 (tags/RELEASE_34/dot1-final 208032)', gccosandvers=''
    intsize=4, longsize=8, ptrsize=8, doublesize=8, byteorder=12345678, doublekind=3
    d_longlong=define, longlongsize=8, d_longdbl=define, longdblsize=16, longdblkind=3
    ivtype='long', ivsize=8, nvtype='double', nvsize=8, Off_t='off_t', lseeksize=8
    alignbytes=8, prototype=define
  Linker and Libraries:
    ld='cc', ldflags ='-pthread -Wl,-E  -fstack-protector -L/usr/local/lib'
    libpth=/usr/lib /usr/local/lib /usr/include/clang/3.4.1 /usr/lib
    libs=-lpthread -lgdbm -lm -lcrypt -lutil -lc
    perllibs=-lpthread -lm -lcrypt -lutil -lc
    libc=, so=so, useshrplib=false, libperl=libperl.a
    gnulibc_version=''
  Dynamic Linking:
    dlsrc=dl_dlopen.xs, dlext=so, d_dlsymun=undef, ccdlflags=' '
    cccdlflags='-DPIC -fPIC', lddlflags='-shared  -L/usr/local/lib -fstack-protector'


Characteristics of this binary (from libperl): 
  Compile-time options: HAS_TIMES PERLIO_LAYERS PERL_DONT_CREATE_GVSV
                        PERL_HASH_FUNC_ONE_AT_A_TIME_HARD PERL_MALLOC_WRAP
                        PERL_NEW_COPY_ON_WRITE PERL_PRESERVE_IVUV
                        USE_64_BIT_ALL USE_64_BIT_INT USE_LARGE_FILES
                        USE_LOCALE USE_LOCALE_COLLATE USE_LOCALE_CTYPE
                        USE_LOCALE_NUMERIC USE_LOCALE_TIME USE_PERLIO
                        USE_PERL_ATOF
  Built under freebsd
  Compiled at Jun  1 2015 20:19:01
  %ENV:
    PERL5LIB=""
    PERL5OPT=""
    PERL5_CPANPLUS_IS_RUNNING="16039"
    PERL5_CPAN_IS_RUNNING="16039"
    PERL5_CPAN_IS_RUNNING_IN_RECURSION="16000,16039"
    PERLDOC="-MPod::Perldoc::ToTextOverstrike"
    PERL_BATCH="yes"
    PERL_CANARY_STABILITY_NOPROMPT="1"
    PERL_CPAN_REPORTER_CONFIG="/var/tmp/cpansmoker-1023/2017092300/cpanreporter_000_config.ini"
    PERL_EXTUTILS_AUTOINSTALL="--defaultdeps"
  @INC:
    /usr/perl5.22.0p/lib/site_perl/5.22.0/amd64-freebsd
    /usr/perl5.22.0p/lib/site_perl/5.22.0
    /usr/perl5.22.0p/lib/5.22.0/amd64-freebsd
    /usr/perl5.22.0p/lib/5.22.0
    .