Data-ObjectDriver v0.16 Perl 5 v5.29.8 x86_64-linux

Status
Pass
From
Slaven Rezić (SREZIC)
Dist
Data-ObjectDriver v0.16
Platform
Perl 5 v5.29.8 x86_64-linux
Date
2019-03-07 06:46:50
ID
c932aa34-40a4-11e9-be3c-562a1f24ea8f
This distribution has been tested as part of the CPAN Testers
project, supporting the Perl programming language.  See
http://wiki.cpantesters.org/ for more information or email
questions to cpan-testers-discuss@perl.org


--
Dear Six Apart,

This is a computer-generated report for Data-ObjectDriver-0.16
on perl 5.29.8, created by CPAN-Reporter-1.2018.

Thank you for uploading your work to CPAN.  Congratulations!
All tests were successful.

Sections of this report:

    * Tester comments
    * Program output
    * Prerequisites
    * Environment and other context

------------------------------
TESTER COMMENTS
------------------------------

Additional comments from tester:

none provided

------------------------------
PROGRAM OUTPUT
------------------------------

Output from './Build test':

t/00-compile.t ............. ok
t/01-col-inheritance.t ..... ok
t/02-basic.t ............... ok
t/03-primary-keys.t ........ ok
t/04-clone.t ............... ok
t/05-deflate.t ............. ok
t/06-errors.t .............. ok
t/07-has-a-cached.t ........ ok
t/07-has-a.t ............... ok
t/08-iterator.t ............ ok
# calling next() after add_term() with 'op'
t/09-resultset.t ........... ok
t/10-resultset-peek.t ...... ok
t/11-sql.t ................. ok
t/12-windows.t ............. ok
t/20-driver-sqlite.t ....... ok
t/31-cached.t .............. ok
t/32-partitioned.t ......... ok
t/33-views.t ............... ok
t/34-both.t ................ ok
t/35-multiplexed.t ......... ok
t/41-callbacks.t ........... ok
t/42-callbacks-multi-pk.t .. ok
t/50-profiling.t ........... ok
All tests successful.
Files=23, Tests=818,  3 wallclock secs ( 0.06 usr  0.25 sys +  1.75 cusr  0.70 csys =  2.76 CPU)
Result: PASS

------------------------------
PREREQUISITES
------------------------------

Prerequisite modules loaded:

requires:

    Module                   Need     Have    
    ------------------------ -------- --------
    Class::Accessor::Fast    0        0.51    
    Class::Data::Inheritable 0        0.08    
    Class::Trigger           0        0.14    
    DBI                      0        1.642   
    List::Util               0        1.50    
    perl                     5.006001 5.029008

build_requires:

    Module                   Need     Have    
    ------------------------ -------- --------
    ExtUtils::MakeMaker      6.59     7.34    
    Test::Exception          0        0.43    
    version                  0        0.9924  

configure_requires:

    Module                   Need     Have    
    ------------------------ -------- --------
    Module::Build::Tiny      0.035    0.039   


------------------------------
ENVIRONMENT AND OTHER CONTEXT
------------------------------

Environment variables:

    LANG = C
    PATH = /usr/local/bin:/usr/bin:/bin:/usr/local/sbin:/usr/sbin:/sbin:/home/cpansand/bin/linux-gnu:/home/cpansand/bin/sh:/home/cpansand/bin:/usr/games:/home/cpansand/devel:/home/eserte/src/srezic-misc/scripts
    PERL5LIB = /home/cpansand/.cpan/build/2019030706/Class-Trigger-0.14-1/blib/arch:/home/cpansand/.cpan/build/2019030706/Class-Trigger-0.14-1/blib/lib
    PERL5OPT = 
    PERL5_CPANPLUS_IS_RUNNING = 7160
    PERL5_CPAN_IS_RUNNING = 7160
    PERL5_CPAN_IS_RUNNING_IN_RECURSION = 5098,7160
    PERLDOC = -MPod::Perldoc::ToTextOverstrike
    PERL_BATCH = yes
    PERL_CANARY_STABILITY_NOPROMPT = 1
    PERL_CPAN_REPORTER_CONFIG = /var/tmp/cpansmoker-1023/2019030706/cpanreporter_000_config.ini
    PERL_EXTUTILS_AUTOINSTALL = --defaultdeps
    PERL_USE_UNSAFE_INC = 1
    SHELL = /usr/bin/zsh
    TERM = screen
    TMPDIR = /var/tmp/cpansmoker-1023/2019030706

Perl special variables (and OS-specific diagnostics, for MSWin32):

    $^X = /opt/perl-5.29.8/bin/perl5.29.8
    $UID/$EUID = 1023 / 1023
    $GID = 1023 1023
    $EGID = 1023 1023

Perl module toolchain versions installed:

    Module              Have    
    ------------------- --------
    CPAN                2.22    
    CPAN::Meta          2.150010
    Cwd                 3.77    
    ExtUtils::CBuilder  0.280230
    ExtUtils::Command   7.34    
    ExtUtils::Install   2.14    
    ExtUtils::MakeMaker 7.34    
    ExtUtils::Manifest  1.71    
    ExtUtils::ParseXS   3.40    
    File::Spec          3.77    
    JSON                4.01    
    JSON::PP            4.01    
    Module::Build       0.4224  
    Module::Signature   n/a     
    Parse::CPAN::Meta   2.150010
    Test::Harness       3.42    
    Test::More          1.302162
    YAML                1.27    
    YAML::Syck          1.31    
    version             0.9924  


--

Summary of my perl5 (revision 5 version 29 subversion 8) configuration:
   
  Platform:
    osname=linux
    osvers=4.9.0-8-amd64
    archname=x86_64-linux
    uname='linux eserte 4.9.0-8-amd64 #1 smp debian 4.9.130-2 (2018-10-27) x86_64 gnulinux '
    config_args='-ds -e -Dprefix=/opt/perl-5.29.8 -Dusedevel -Dusemallocwrap=no -Dcf_email=srezic@cpan.org'
    hint=recommended
    useposix=true
    d_sigaction=define
    useithreads=undef
    usemultiplicity=undef
    use64bitint=define
    use64bitall=define
    uselongdouble=undef
    usemymalloc=n
    default_inc_excludes_dot=define
    bincompat5005=undef
  Compiler:
    cc='cc'
    ccflags ='-fwrapv -fno-strict-aliasing -pipe -fstack-protector-strong -I/usr/local/include -D_LARGEFILE_SOURCE -D_FILE_OFFSET_BITS=64 -D_FORTIFY_SOURCE=2'
    optimize='-O2'
    cppflags='-fwrapv -fno-strict-aliasing -pipe -fstack-protector-strong -I/usr/local/include'
    ccversion=''
    gccversion='6.3.0 20170516'
    gccosandvers=''
    intsize=4
    longsize=8
    ptrsize=8
    doublesize=8
    byteorder=12345678
    doublekind=3
    d_longlong=define
    longlongsize=8
    d_longdbl=define
    longdblsize=16
    longdblkind=3
    ivtype='long'
    ivsize=8
    nvtype='double'
    nvsize=8
    Off_t='off_t'
    lseeksize=8
    alignbytes=8
    prototype=define
  Linker and Libraries:
    ld='cc'
    ldflags =' -fstack-protector-strong -L/usr/local/lib'
    libpth=/usr/local/lib /usr/lib/gcc/x86_64-linux-gnu/6/include-fixed /usr/include/x86_64-linux-gnu /usr/lib /lib/x86_64-linux-gnu /lib/../lib /usr/lib/x86_64-linux-gnu /usr/lib/../lib /lib
    libs=-lpthread -lnsl -lgdbm -ldb -ldl -lm -lcrypt -lutil -lc -lgdbm_compat
    perllibs=-lpthread -lnsl -ldl -lm -lcrypt -lutil -lc
    libc=libc-2.24.so
    so=so
    useshrplib=false
    libperl=libperl.a
    gnulibc_version='2.24'
  Dynamic Linking:
    dlsrc=dl_dlopen.xs
    dlext=so
    d_dlsymun=undef
    ccdlflags='-Wl,-E'
    cccdlflags='-fPIC'
    lddlflags='-shared -O2 -L/usr/local/lib -fstack-protector-strong'


Characteristics of this binary (from libperl): 
  Compile-time options:
    HAS_TIMES
    PERLIO_LAYERS
    PERL_COPY_ON_WRITE
    PERL_DONT_CREATE_GVSV
    PERL_OP_PARENT
    PERL_PRESERVE_IVUV
    PERL_USE_DEVEL
    USE_64_BIT_ALL
    USE_64_BIT_INT
    USE_LARGE_FILES
    USE_LOCALE
    USE_LOCALE_COLLATE
    USE_LOCALE_CTYPE
    USE_LOCALE_NUMERIC
    USE_LOCALE_TIME
    USE_PERLIO
    USE_PERL_ATOF
  Locally applied patches:
    Devel::PatchPerl 1.46
  Built under linux
  Compiled at Feb 21 2019 06:52:41
  %ENV:
    PERL5LIB="/home/cpansand/.cpan/build/2019030706/Class-Trigger-0.14-1/blib/arch:/home/cpansand/.cpan/build/2019030706/Class-Trigger-0.14-1/blib/lib"
    PERL5OPT=""
    PERL5_CPANPLUS_IS_RUNNING="7160"
    PERL5_CPAN_IS_RUNNING="7160"
    PERL5_CPAN_IS_RUNNING_IN_RECURSION="5098,7160"
    PERLDOC="-MPod::Perldoc::ToTextOverstrike"
    PERL_BATCH="yes"
    PERL_CANARY_STABILITY_NOPROMPT="1"
    PERL_CPAN_REPORTER_CONFIG="/var/tmp/cpansmoker-1023/2019030706/cpanreporter_000_config.ini"
    PERL_EXTUTILS_AUTOINSTALL="--defaultdeps"
    PERL_USE_UNSAFE_INC="1"
  @INC:
    /home/cpansand/.cpan/build/2019030706/Class-Trigger-0.14-1/blib/arch
    /home/cpansand/.cpan/build/2019030706/Class-Trigger-0.14-1/blib/lib
    /opt/perl-5.29.8/lib/site_perl/5.29.8/x86_64-linux
    /opt/perl-5.29.8/lib/site_perl/5.29.8
    /opt/perl-5.29.8/lib/5.29.8/x86_64-linux
    /opt/perl-5.29.8/lib/5.29.8
    .