classes v0.944 Perl 5 v5.26.0 x86_64-linux-thread-multi
- Status
- Pass
- From
- Slaven Rezić (SREZIC)
- Dist
-
classes v0.944
- Platform
- Perl 5 v5.26.0 x86_64-linux-thread-multi
- Date
- 2018-01-28 22:08:35
- ID
- c92d6340-0477-11e8-bba7-a0cccbd01c07
This distribution has been tested as part of the CPAN Testers
project, supporting the Perl programming language. See
http://wiki.cpantesters.org/ for more information or email
questions to cpan-testers-discuss@perl.org
--
Dear Robert S. Muhlestein,
This is a computer-generated report for classes-0.944
on perl 5.26.0, created by CPAN-Reporter-1.2018.
Thank you for uploading your work to CPAN. Congratulations!
All tests were successful.
Sections of this report:
* Tester comments
* Program output
* Prerequisites
* Environment and other context
------------------------------
TESTER COMMENTS
------------------------------
Additional comments from tester:
none provided
------------------------------
PROGRAM OUTPUT
------------------------------
Output from '/usr/bin/make test':
PERL_DL_NONLAZY=1 "/opt/perl-5.26.0t/bin/perl" "-MExtUtils::Command::MM" "-MTest::Harness" "-e" "undef *Test::Harness::Switches; test_harness(0, 'blib/lib', 'blib/arch')" t/00-load.t t/classes.t t/dump.t t/init_args.t t/load.t t/ok.t t/pod-coverage.t t/pod.t t/sprintf.t t/SUPER.t t/throwable.t t/xclasses.t t/tags/attrs.t t/tags/attrs_pr.t t/tags/attrs_ro.t t/tags/base_exception.t t/tags/caller.t t/tags/class_attrs.t t/tags/class_attrs_pr.t t/tags/class_attrs_ro.t t/tags/def_base_exception.t t/tags/exceptions.t t/tags/extends.t t/tags/inherits.t t/tags/justahash.t t/tags/mixes.t t/tags/name.t t/tags/needs.t t/tags/noaccessors.t t/tags/unqualified.t
# Testing classes 0.944, Perl 5.026000, /opt/perl-5.26.0t/bin/perl
t/00-load.t .................. ok
t/classes.t .................. ok
t/dump.t ..................... ok
t/init_args.t ................ ok
t/load.t ..................... ok
t/ok.t ....................... ok
t/pod-coverage.t ............. ok
t/pod.t ...................... ok
t/sprintf.t .................. ok
t/SUPER.t .................... ok
t/tags/attrs.t ............... ok
t/tags/attrs_pr.t ............ ok
t/tags/attrs_ro.t ............ ok
t/tags/base_exception.t ...... ok
t/tags/caller.t .............. ok
t/tags/class_attrs.t ......... ok
t/tags/class_attrs_pr.t ...... ok
t/tags/class_attrs_ro.t ...... ok
t/tags/def_base_exception.t .. ok
t/tags/exceptions.t .......... ok
t/tags/extends.t ............. ok
t/tags/inherits.t ............ ok
t/tags/justahash.t ........... ok
t/tags/mixes.t ............... ok
t/tags/name.t ................ ok
t/tags/needs.t ............... ok
t/tags/noaccessors.t ......... ok
t/tags/unqualified.t ......... ok
t/throwable.t ................ ok
t/xclasses.t ................. ok
All tests successful.
Files=30, Tests=612, 2 wallclock secs ( 0.09 usr 0.12 sys + 1.17 cusr 0.21 csys = 1.59 CPU)
Result: PASS
------------------------------
PREREQUISITES
------------------------------
Prerequisite modules loaded:
requires:
Module Need Have
------------------- ---- --------
Data::Dumper 0 2.167
Scalar::Util 0 1.46_02
Test::More 0 1.302073
build_requires:
Module Need Have
------------------- ---- --------
ExtUtils::MakeMaker 0 7.24
------------------------------
ENVIRONMENT AND OTHER CONTEXT
------------------------------
Environment variables:
LANG = en_US.UTF-8
PATH = /usr/local/bin:/usr/bin:/bin:/usr/local/sbin:/usr/sbin:/sbin:/home/cpansand/bin/linux-gnu:/home/cpansand/bin/sh:/home/cpansand/bin:/usr/games:/home/cpansand/devel:/home/eserte/src/srezic-misc/scripts
PERL5LIB =
PERL5OPT =
PERL5_CPANPLUS_IS_RUNNING = 1308
PERL5_CPAN_IS_RUNNING = 1308
PERL5_CPAN_IS_RUNNING_IN_RECURSION = 691,1308
PERLDOC = -MPod::Perldoc::ToTextOverstrike
PERL_BATCH = yes
PERL_CANARY_STABILITY_NOPROMPT = 1
PERL_CPAN_REPORTER_CONFIG = /var/tmp/cpansmoker-1023/2018012821/cpanreporter_000_config.ini
PERL_EXTUTILS_AUTOINSTALL = --defaultdeps
PERL_USE_UNSAFE_INC = 1
SHELL = /usr/bin/zsh
TERM = screen
TMPDIR = /var/tmp/cpansmoker-1023/2018012821
Perl special variables (and OS-specific diagnostics, for MSWin32):
$^X = /opt/perl-5.26.0t/bin/perl
$UID/$EUID = 1023 / 1023
$GID = 1023 1023
$EGID = 1023 1023
Perl module toolchain versions installed:
Module Have
------------------- ----------
CPAN 2.18
CPAN::Meta 2.150010
Cwd 3.67
ExtUtils::CBuilder 0.280225
ExtUtils::Command 7.24
ExtUtils::Install 2.04
ExtUtils::MakeMaker 7.24
ExtUtils::Manifest 1.70
ExtUtils::ParseXS 3.34
File::Spec 3.67
JSON 2.94
JSON::PP 2.27400_02
Module::Build 0.4224
Module::Signature n/a
Parse::CPAN::Meta 2.150010
Test::Harness 3.38
Test::More 1.302073
YAML 1.23
YAML::Syck 1.30
version 0.9917
--
Summary of my perl5 (revision 5 version 26 subversion 0) configuration:
Platform:
osname=linux
osvers=4.4.0-83-generic
archname=x86_64-linux-thread-multi
uname='linux ubuntu16 4.4.0-83-generic #106-ubuntu smp mon jun 26 17:54:43 utc 2017 x86_64 x86_64 x86_64 gnulinux '
config_args='-ds -e -Dprefix=/opt/perl-5.26.0t -Dusethreads -Dcf_email=srezic@cpan.org'
hint=recommended
useposix=true
d_sigaction=define
useithreads=define
usemultiplicity=define
use64bitint=define
use64bitall=define
uselongdouble=undef
usemymalloc=n
default_inc_excludes_dot=define
bincompat5005=undef
Compiler:
cc='cc'
ccflags ='-D_REENTRANT -D_GNU_SOURCE -fwrapv -fno-strict-aliasing -pipe -fstack-protector-strong -I/usr/local/include -D_LARGEFILE_SOURCE -D_FILE_OFFSET_BITS=64'
optimize='-O2'
cppflags='-D_REENTRANT -D_GNU_SOURCE -fwrapv -fno-strict-aliasing -pipe -fstack-protector-strong -I/usr/local/include'
ccversion=''
gccversion='5.4.0 20160609'
gccosandvers=''
intsize=4
longsize=8
ptrsize=8
doublesize=8
byteorder=12345678
doublekind=3
d_longlong=define
longlongsize=8
d_longdbl=define
longdblsize=16
longdblkind=3
ivtype='long'
ivsize=8
nvtype='double'
nvsize=8
Off_t='off_t'
lseeksize=8
alignbytes=8
prototype=define
Linker and Libraries:
ld='cc'
ldflags =' -fstack-protector-strong -L/usr/local/lib'
libpth=/usr/local/lib /usr/lib/gcc/x86_64-linux-gnu/5/include-fixed /usr/include/x86_64-linux-gnu /usr/lib /lib/x86_64-linux-gnu /lib/../lib /usr/lib/x86_64-linux-gnu /usr/lib/../lib /lib
libs=-lpthread -lnsl -lgdbm -ldb -ldl -lm -lcrypt -lutil -lc -lgdbm_compat
perllibs=-lpthread -lnsl -ldl -lm -lcrypt -lutil -lc
libc=libc-2.23.so
so=so
useshrplib=false
libperl=libperl.a
gnulibc_version='2.23'
Dynamic Linking:
dlsrc=dl_dlopen.xs
dlext=so
d_dlsymun=undef
ccdlflags='-Wl,-E'
cccdlflags='-fPIC'
lddlflags='-shared -O2 -L/usr/local/lib -fstack-protector-strong'
Characteristics of this binary (from libperl):
Compile-time options:
HAS_TIMES
MULTIPLICITY
PERLIO_LAYERS
PERL_COPY_ON_WRITE
PERL_DONT_CREATE_GVSV
PERL_IMPLICIT_CONTEXT
PERL_MALLOC_WRAP
PERL_OP_PARENT
PERL_PRESERVE_IVUV
USE_64_BIT_ALL
USE_64_BIT_INT
USE_ITHREADS
USE_LARGE_FILES
USE_LOCALE
USE_LOCALE_COLLATE
USE_LOCALE_CTYPE
USE_LOCALE_NUMERIC
USE_LOCALE_TIME
USE_PERLIO
USE_PERL_ATOF
USE_REENTRANT_API
Built under linux
Compiled at Jul 27 2017 20:58:14
%ENV:
PERL5LIB=""
PERL5OPT=""
PERL5_CPANPLUS_IS_RUNNING="1308"
PERL5_CPAN_IS_RUNNING="1308"
PERL5_CPAN_IS_RUNNING_IN_RECURSION="691,1308"
PERLDOC="-MPod::Perldoc::ToTextOverstrike"
PERL_BATCH="yes"
PERL_CANARY_STABILITY_NOPROMPT="1"
PERL_CPAN_REPORTER_CONFIG="/var/tmp/cpansmoker-1023/2018012821/cpanreporter_000_config.ini"
PERL_EXTUTILS_AUTOINSTALL="--defaultdeps"
PERL_USE_UNSAFE_INC="1"
@INC:
/opt/perl-5.26.0t/lib/site_perl/5.26.0/x86_64-linux-thread-multi
/opt/perl-5.26.0t/lib/site_perl/5.26.0
/opt/perl-5.26.0t/lib/5.26.0/x86_64-linux-thread-multi
/opt/perl-5.26.0t/lib/5.26.0
.