AnyEvent-HTTP-Message v0.302 Perl 5 v5.20.1 x86_64-dragonfly-ld

Status
Pass
From
Nigel Horne
Dist
AnyEvent-HTTP-Message v0.302
Platform
Perl 5 v5.20.1 x86_64-dragonfly-ld
Date
2018-03-09 10:29:45
ID
c91e31e6-2384-11e8-ac72-d78a67fdcd96
This distribution has been tested as part of the CPAN Testers
project, supporting the Perl programming language.  See
http://wiki.cpantesters.org/ for more information or email
questions to cpan-testers-discuss@perl.org


--
Dear Randy Stauner,

This is a computer-generated report for AnyEvent-HTTP-Message-0.302
on perl 5.20.1, created by CPAN-Reporter-1.2018.

Thank you for uploading your work to CPAN.  Congratulations!
All tests were successful.

Sections of this report:

    * Tester comments
    * Program output
    * Prerequisites
    * Environment and other context

------------------------------
TESTER COMMENTS
------------------------------

Additional comments from tester:

this report is from an automated smoke testing program
and was not reviewed by a human for accuracy

------------------------------
PROGRAM OUTPUT
------------------------------

Output from '/usr/bin/make test':

PERL_DL_NONLAZY=1 "/home/njh/perl5/perlbrew/perls/perl-5.20.1-ld/bin/perl5.20.1" "-MExtUtils::Command::MM" "-MTest::Harness" "-e" "undef *Test::Harness::Switches; test_harness(0, 'blib/lib', 'blib/arch')" t/*.t
t/00-compile.t ......... ok
# Prerequisite Report:
#    Version Module               
#   -------- ---------------------
#       2.23 AnyEvent::HTTP       
#     1.3301 Carp                 
#       5.71 Exporter             
#       7.30 ExtUtils::MakeMaker  
#       1.27 File::Find           
#       3.48 File::Spec::Functions
#     0.2304 File::Temp           
#       6.14 HTTP::Message        
#       1.38 List::Util           
#       1.38 Scalar::Util         
#   1.302120 Test::More           
#      0.228 parent               
#       1.08 strict               
#       1.23 warnings             
t/00-report-prereqs.t .. ok
t/message.t ............ ok
t/request.t ............ ok
t/response.t ........... ok
All tests successful.
Files=5, Tests=99,  2 wallclock secs ( 0.08 usr  0.04 sys +  1.05 cusr  0.36 csys =  1.53 CPU)
Result: PASS

------------------------------
PREREQUISITES
------------------------------

Prerequisite modules loaded:

requires:

    Module                Need Have    
    --------------------- ---- --------
    AnyEvent::HTTP        2    2.23    
    Carp                  0    1.3301  
    parent                0    0.228   
    Scalar::Util          0    1.38    
    strict                0    1.08    
    warnings              0    1.23    

build_requires:

    Module                Need Have    
    --------------------- ---- --------
    Exporter              0    5.71    
    ExtUtils::MakeMaker   0    7.30    
    File::Find            0    1.27    
    File::Spec::Functions 0    3.48    
    File::Temp            0    0.2304  
    List::Util            0    1.38    
    Test::More            0.88 1.302120

configure_requires:

    Module                Need Have    
    --------------------- ---- --------
    ExtUtils::MakeMaker   6.30 7.30    


------------------------------
ENVIRONMENT AND OTHER CONTEXT
------------------------------

Environment variables:

    AUTOMATED_TESTING = 1
    PATH = /home/njh/perl5/perlbrew/bin:/home/njh/perl5/perlbrew/perls/perl-5.20.1-ld/bin:/bin:/sbin:/usr/bin:/usr/sbin:/usr/local/bin:/usr/local/sbin:/usr/pkg/bin:/usr/pkg/sbin:src/njh/smoker/bin
    PERL5LIB = /home/njh/.cpan/build/AnyEvent-HTTP-2.23-1/blib/arch:/home/njh/.cpan/build/AnyEvent-HTTP-2.23-1/blib/lib:/home/njh/.cpan/build/common-sense-3.74-1/blib/arch:/home/njh/.cpan/build/common-sense-3.74-1/blib/lib:/home/njh/.cpan/build/AnyEvent-7.14-1/blib/arch:/home/njh/.cpan/build/AnyEvent-7.14-1/blib/lib:/home/njh/.cpan/build/Canary-Stability-2012-1/blib/arch:/home/njh/.cpan/build/Canary-Stability-2012-1/blib/lib
    PERL5OPT = 
    PERL5_CPANPLUS_IS_RUNNING = 527453
    PERL5_CPAN_IS_RUNNING = 527453
    PERLBREW_HOME = /home/njh/.perlbrew
    PERLBREW_MANPATH = /home/njh/perl5/perlbrew/perls/perl-5.20.1-ld/man
    PERLBREW_PATH = /home/njh/perl5/perlbrew/bin:/home/njh/perl5/perlbrew/perls/perl-5.20.1-ld/bin
    PERLBREW_PERL = perl-5.20.1-ld
    PERLBREW_ROOT = /home/njh/perl5/perlbrew
    PERLBREW_SHELLRC_VERSION = 0.82
    PERLBREW_VERSION = 0.82
    SHELL = /bin/sh

Perl special variables (and OS-specific diagnostics, for MSWin32):

    $^X = /home/njh/perl5/perlbrew/perls/perl-5.20.1-ld/bin/perl5.20.1
    $UID/$EUID = 1001 / 1001
    $GID = 1001 1001 0
    $EGID = 1001 1001 0

Perl module toolchain versions installed:

    Module              Have    
    ------------------- --------
    CPAN                2.16    
    CPAN::Meta          2.143240
    Cwd                 3.48    
    ExtUtils::CBuilder  0.280217
    ExtUtils::Command   7.30    
    ExtUtils::Install   2.06    
    ExtUtils::MakeMaker 7.30    
    ExtUtils::Manifest  1.70    
    ExtUtils::ParseXS   3.24    
    File::Spec          3.48    
    JSON                n/a     
    JSON::PP            2.27203 
    Module::Build       0.4224  
    Module::Signature   n/a     
    Parse::CPAN::Meta   1.4414  
    Test::Harness       3.39    
    Test::More          1.302120
    YAML                1.24    
    YAML::Syck          1.30    
    version             0.9909  


--

Summary of my perl5 (revision 5 version 20 subversion 1) configuration:
   
  Platform:
    osname=dragonfly, osvers=5.0-release, archname=x86_64-dragonfly-ld
    uname='dragonfly david.bandsman.co.uk 5.0-release dragonfly v5.0.2-release #4: sun dec 3 17:42:25 est 2017 root@www.shiningsilence.com:usrobjhomejustinrelease5_0sysx86_64_generic x86_64 '
    config_args='-de -Dprefix=/home/njh/perl5/perlbrew/perls/perl-5.20.1-ld -Dusedevel -Duselongdouble -Accflags= -Aeval:scriptdir=/home/njh/perl5/perlbrew/perls/perl-5.20.1-ld/bin'
    hint=recommended, useposix=true, d_sigaction=define
    useithreads=undef, usemultiplicity=undef
    use64bitint=define, use64bitall=define, uselongdouble=define
    usemymalloc=n, bincompat5005=undef
  Compiler:
    cc='cc', ccflags ='-DHAS_FPSETMASK -DHAS_FLOATINGPOINT_H -fwrapv -fno-strict-aliasing -pipe -fstack-protector -I/usr/local/include',
    optimize='-O',
    cppflags='-DHAS_FPSETMASK -DHAS_FLOATINGPOINT_H -fwrapv -fno-strict-aliasing -pipe -fstack-protector -I/usr/local/include'
    ccversion='', gccversion='5.4.1 [DragonFly] Release/2016-08-27', gccosandvers=''
    intsize=4, longsize=8, ptrsize=8, doublesize=8, byteorder=12345678
    d_longlong=define, longlongsize=8, d_longdbl=define, longdblsize=16
    ivtype='long', ivsize=8, nvtype='long double', nvsize=16, Off_t='off_t', lseeksize=8
    alignbytes=16, prototype=define
  Linker and Libraries:
    ld='cc', ldflags ='-Wl,-E  -fstack-protector -L/usr/local/lib'
    libpth=/usr/lib /usr/local/lib /usr/lib
    libs=-ldl -lm -lcrypt -lutil -lc
    perllibs=-ldl -lm -lcrypt -lutil -lc
    libc=, so=so, useshrplib=false, libperl=libperl.a
    gnulibc_version=''
  Dynamic Linking:
    dlsrc=dl_dlopen.xs, dlext=so, d_dlsymun=undef, ccdlflags=' '
    cccdlflags='-DPIC -fPIC', lddlflags='-shared  -L/usr/local/lib -fstack-protector'


Characteristics of this binary (from libperl): 
  Compile-time options: HAS_TIMES PERLIO_LAYERS PERL_DONT_CREATE_GVSV
                        PERL_HASH_FUNC_ONE_AT_A_TIME_HARD PERL_MALLOC_WRAP
                        PERL_NEW_COPY_ON_WRITE PERL_PRESERVE_IVUV
                        PERL_USE_DEVEL USE_64_BIT_ALL USE_64_BIT_INT
                        USE_LARGE_FILES USE_LOCALE USE_LOCALE_COLLATE
                        USE_LOCALE_CTYPE USE_LOCALE_NUMERIC USE_LONG_DOUBLE
                        USE_PERLIO USE_PERL_ATOF
  Locally applied patches:
	Devel::PatchPerl 1.48
  Built under dragonfly
  Compiled at Jan 27 2018 23:02:34
  %ENV:
    PERL5LIB="/home/njh/.cpan/build/AnyEvent-HTTP-2.23-1/blib/arch:/home/njh/.cpan/build/AnyEvent-HTTP-2.23-1/blib/lib:/home/njh/.cpan/build/common-sense-3.74-1/blib/arch:/home/njh/.cpan/build/common-sense-3.74-1/blib/lib:/home/njh/.cpan/build/AnyEvent-7.14-1/blib/arch:/home/njh/.cpan/build/AnyEvent-7.14-1/blib/lib:/home/njh/.cpan/build/Canary-Stability-2012-1/blib/arch:/home/njh/.cpan/build/Canary-Stability-2012-1/blib/lib"
    PERL5OPT=""
    PERL5_CPANPLUS_IS_RUNNING="527453"
    PERL5_CPAN_IS_RUNNING="527453"
    PERLBREW_HOME="/home/njh/.perlbrew"
    PERLBREW_MANPATH="/home/njh/perl5/perlbrew/perls/perl-5.20.1-ld/man"
    PERLBREW_PATH="/home/njh/perl5/perlbrew/bin:/home/njh/perl5/perlbrew/perls/perl-5.20.1-ld/bin"
    PERLBREW_PERL="perl-5.20.1-ld"
    PERLBREW_ROOT="/home/njh/perl5/perlbrew"
    PERLBREW_SHELLRC_VERSION="0.82"
    PERLBREW_VERSION="0.82"
  @INC:
    /home/njh/.cpan/build/AnyEvent-HTTP-2.23-1/blib/arch
    /home/njh/.cpan/build/AnyEvent-HTTP-2.23-1/blib/lib
    /home/njh/.cpan/build/common-sense-3.74-1/blib/arch
    /home/njh/.cpan/build/common-sense-3.74-1/blib/lib
    /home/njh/.cpan/build/AnyEvent-7.14-1/blib/arch
    /home/njh/.cpan/build/AnyEvent-7.14-1/blib/lib
    /home/njh/.cpan/build/Canary-Stability-2012-1/blib/arch
    /home/njh/.cpan/build/Canary-Stability-2012-1/blib/lib
    /home/njh/perl5/perlbrew/perls/perl-5.20.1-ld/lib/site_perl/5.20.1/x86_64-dragonfly-ld
    /home/njh/perl5/perlbrew/perls/perl-5.20.1-ld/lib/site_perl/5.20.1
    /home/njh/perl5/perlbrew/perls/perl-5.20.1-ld/lib/5.20.1/x86_64-dragonfly-ld
    /home/njh/perl5/perlbrew/perls/perl-5.20.1-ld/lib/5.20.1
    .