Catalyst-Authentication-Store-DBIx-Class v0.1506 Perl 5 v5.31.5 x86_64-linux-thread-multi

Status
Pass
From
Carlos Guevara
Dist
Catalyst-Authentication-Store-DBIx-Class v0.1506
Platform
Perl 5 v5.31.5 x86_64-linux-thread-multi
Date
2019-09-23 16:11:21
ID
c8a20400-de1c-11e9-abd8-db8f1925c570
This distribution has been tested as part of the CPAN Testers
project, supporting the Perl programming language.  See
http://wiki.cpantesters.org/ for more information or email
questions to cpan-testers-discuss@perl.org


--
Dear Dagfinn Ilmari Mannsaker,

This is a computer-generated report for Catalyst-Authentication-Store-DBIx-Class-0.1506
on perl 5.31.5, created by CPAN-Reporter-1.2018.

Thank you for uploading your work to CPAN.  Congratulations!
All tests were successful.

Sections of this report:

    * Tester comments
    * Program output
    * Prerequisites
    * Environment and other context

------------------------------
TESTER COMMENTS
------------------------------

Additional comments from tester:

none provided

------------------------------
PROGRAM OUTPUT
------------------------------

Output from '/usr/bin/make test':

PERL_DL_NONLAZY=1 "/home/cpan/bin/perl-blead/bin/perl5.31.5" "-MExtUtils::Command::MM" "-MTest::Harness" "-e" "undef *Test::Harness::Switches; test_harness(0, 'inc', 'blib/lib', 'blib/arch')" t/00-load.t t/01-pod.t t/02-pod-coverage.t t/03-authtest.t t/04-authsessions.t t/05-auth-roles-relationship.t t/06-auth-roles-column.t t/07-authsessions-cached.t t/08-simpledb-auth-roles-relationship.t t/09-simpledb-auth-roles-column.t t/10-user-autoload.t t/11-authsessions-load-app-context.t
# Testing Catalyst::Authentication::Store::DBIx::Class 0.1506, Perl 5.031005, /home/cpan/bin/perl-blead/bin/perl5.31.5
t/00-load.t .............................. ok
t/01-pod.t ............................... skipped: Set TEST_POD to enable pod tests
t/02-pod-coverage.t ...................... skipped: Set TEST_POD to enable pod tests
t/03-authtest.t .......................... ok
t/04-authsessions.t ...................... skipped: Test::WWW::Mechanize::Catalyst is required for this test
t/05-auth-roles-relationship.t ........... skipped: Catalyst::Plugin::Authorization::Roles is required for this test
t/06-auth-roles-column.t ................. skipped: Catalyst::Plugin::Authorization::Roles is required for this test
t/07-authsessions-cached.t ............... skipped: Test::WWW::Mechanize::Catalyst is required for this test
t/08-simpledb-auth-roles-relationship.t .. skipped: Catalyst::Plugin::Authorization::Roles is required for this test
t/09-simpledb-auth-roles-column.t ........ skipped: Catalyst::Plugin::Authorization::Roles is required for this test
t/10-user-autoload.t ..................... ok
t/11-authsessions-load-app-context.t ..... skipped: Test::WWW::Mechanize::Catalyst is required for this test
All tests successful.
Files=12, Tests=27,  9 wallclock secs ( 0.06 usr  0.03 sys +  7.90 cusr  0.71 csys =  8.70 CPU)
Result: PASS

------------------------------
PREREQUISITES
------------------------------

Prerequisite modules loaded:

requires:

    Module                           Need     Have    
    -------------------------------- -------- --------
    Catalyst::Model::DBIC::Schema    0.18     0.65    
    Catalyst::Plugin::Authentication 0.10008  0.10023 
    Catalyst::Runtime                5.8      5.90124 
    DBIx::Class                      0.08     0.082841
    List::MoreUtils                  0        0.428   
    Moose                            0        2.2011  
    namespace::autoclean             0        0.29    
    perl                             5.008001 5.031005
    Test::More                       0        1.302168
    Try::Tiny                        0        0.30    

build_requires:

    Module                           Need     Have    
    -------------------------------- -------- --------
    ExtUtils::MakeMaker              6.59     7.38    
    Test::More                       0        1.302168

configure_requires:

    Module                           Need     Have    
    -------------------------------- -------- --------
    ExtUtils::MakeMaker              6.59     7.38    


------------------------------
ENVIRONMENT AND OTHER CONTEXT
------------------------------

Environment variables:

    LANG = en_US.UTF-8
    LC_ALL = C
    NONINTERACTIVE_TESTING = 1
    PATH = /home/cpan/bin/perl-blead/bin:/home/cpan/bin:/home/cpan/bin:/home/cpan/bin:/usr/local/sbin:/usr/local/bin:/usr/sbin:/usr/bin:/sbin:/bin:/usr/games:/usr/local/games:/snap/bin
    PERL5LIB = 
    PERL5OPT = 
    PERL5_CPANPLUS_IS_RUNNING = 15057
    PERL5_CPAN_IS_RUNNING = 15057
    PERL_MM_USE_DEFAULT = 1
    PERL_USE_UNSAFE_INC = 1
    PERL_VERSION = blead
    SHELL = /bin/bash
    TERM = screen
    TMPDIR = /home/cpan/tmp

Perl special variables (and OS-specific diagnostics, for MSWin32):

    $^X = /home/cpan/bin/perl-blead/bin/perl5.31.5
    $UID/$EUID = 1002 / 1002
    $GID = 1006 1006
    $EGID = 1006 1006

Perl module toolchain versions installed:

    Module              Have    
    ------------------- --------
    CPAN                2.27    
    CPAN::Meta          2.150010
    Cwd                 3.78    
    ExtUtils::CBuilder  0.280232
    ExtUtils::Command   7.38    
    ExtUtils::Install   2.14    
    ExtUtils::MakeMaker 7.38    
    ExtUtils::Manifest  1.72    
    ExtUtils::ParseXS   3.40    
    File::Spec          3.78    
    JSON                4.02    
    JSON::PP            4.04    
    Module::Build       0.4229  
    Module::Signature   n/a     
    Parse::CPAN::Meta   2.150010
    Test::Harness       3.42    
    Test::More          1.302168
    YAML                1.29    
    YAML::Syck          1.31    
    version             0.9924  


--

Summary of my perl5 (revision 5 version 31 subversion 5) configuration:
  Commit id: 75e935adf0585621c7dfb464674056f199c35824
  Platform:
    osname=linux
    osvers=4.15.0-64-generic
    archname=x86_64-linux-thread-multi
    uname='linux cjg-bionic 4.15.0-64-generic #73-ubuntu smp thu sep 12 13:16:13 utc 2019 x86_64 x86_64 x86_64 gnulinux '
    config_args='-des -Dprefix=~/bin/perl-blead -Dscriptdir=~/bin/perl-blead/bin -Dusedevel -Duse64bitall -Duseithreads'
    hint=recommended
    useposix=true
    d_sigaction=define
    useithreads=define
    usemultiplicity=define
    use64bitint=define
    use64bitall=define
    uselongdouble=undef
    usemymalloc=n
    default_inc_excludes_dot=define
    bincompat5005=undef
  Compiler:
    cc='cc'
    ccflags ='-D_REENTRANT -D_GNU_SOURCE -fwrapv -fno-strict-aliasing -pipe -fstack-protector-strong -I/usr/local/include -D_LARGEFILE_SOURCE -D_FILE_OFFSET_BITS=64'
    optimize='-O2'
    cppflags='-D_REENTRANT -D_GNU_SOURCE -fwrapv -fno-strict-aliasing -pipe -fstack-protector-strong -I/usr/local/include'
    ccversion=''
    gccversion='7.4.0'
    gccosandvers=''
    intsize=4
    longsize=8
    ptrsize=8
    doublesize=8
    byteorder=12345678
    doublekind=3
    d_longlong=define
    longlongsize=8
    d_longdbl=define
    longdblsize=16
    longdblkind=3
    ivtype='long'
    ivsize=8
    nvtype='double'
    nvsize=8
    Off_t='off_t'
    lseeksize=8
    alignbytes=8
    prototype=define
  Linker and Libraries:
    ld='cc'
    ldflags =' -fstack-protector-strong -L/usr/local/lib'
    libpth=/usr/local/lib /usr/lib/gcc/x86_64-linux-gnu/7/include-fixed /usr/include/x86_64-linux-gnu /usr/lib /lib/x86_64-linux-gnu /lib/../lib /usr/lib/x86_64-linux-gnu /usr/lib/../lib /lib
    libs=-lpthread -lnsl -ldl -lm -lcrypt -lutil -lc
    perllibs=-lpthread -lnsl -ldl -lm -lcrypt -lutil -lc
    libc=libc-2.27.so
    so=so
    useshrplib=false
    libperl=libperl.a
    gnulibc_version='2.27'
  Dynamic Linking:
    dlsrc=dl_dlopen.xs
    dlext=so
    d_dlsymun=undef
    ccdlflags='-Wl,-E'
    cccdlflags='-fPIC'
    lddlflags='-shared -O2 -L/usr/local/lib -fstack-protector-strong'


Characteristics of this binary (from libperl): 
  Compile-time options:
    HAS_TIMES
    MULTIPLICITY
    PERLIO_LAYERS
    PERL_COPY_ON_WRITE
    PERL_DONT_CREATE_GVSV
    PERL_IMPLICIT_CONTEXT
    PERL_MALLOC_WRAP
    PERL_OP_PARENT
    PERL_PRESERVE_IVUV
    PERL_USE_DEVEL
    USE_64_BIT_ALL
    USE_64_BIT_INT
    USE_ITHREADS
    USE_LARGE_FILES
    USE_LOCALE
    USE_LOCALE_COLLATE
    USE_LOCALE_CTYPE
    USE_LOCALE_NUMERIC
    USE_LOCALE_TIME
    USE_PERLIO
    USE_PERL_ATOF
    USE_REENTRANT_API
    USE_THREAD_SAFE_LOCALE
  Built under linux
  Compiled at Sep 23 2019 05:57:39
  %ENV:
    PERL5LIB=""
    PERL5OPT=""
    PERL5_CPANPLUS_IS_RUNNING="15057"
    PERL5_CPAN_IS_RUNNING="15057"
    PERL_MM_USE_DEFAULT="1"
    PERL_USE_UNSAFE_INC="1"
    PERL_VERSION="blead"
  @INC:
    /home/cpan/bin/perl-blead/lib/site_perl/5.31.5/x86_64-linux-thread-multi
    /home/cpan/bin/perl-blead/lib/site_perl/5.31.5
    /home/cpan/bin/perl-blead/lib/5.31.5/x86_64-linux-thread-multi
    /home/cpan/bin/perl-blead/lib/5.31.5
    .