Archive-Zip-SimpleZip v0.040 Perl 5 v5.26.0 amd64-freebsd

Status
Pass
From
Slaven Rezić
Dist
Archive-Zip-SimpleZip v0.040
Platform
Perl 5 v5.26.0 amd64-freebsd
Date
2021-07-13 12:13:50
ID
c8923b10-e3d3-11eb-ba4b-c53d1f24ea8f
This distribution has been tested as part of the CPAN Testers
project, supporting the Perl programming language.  See
http://wiki.cpantesters.org/ for more information or email
questions to cpan-testers-discuss@perl.org


--
Dear Paul Marquess,

This is a computer-generated report for Archive-Zip-SimpleZip-0.040
on perl 5.26.0, created by CPAN-Reporter-1.2018.

Thank you for uploading your work to CPAN.  Congratulations!
All tests were successful.

Sections of this report:

    * Tester comments
    * Program output
    * Prerequisites
    * Environment and other context

------------------------------
TESTER COMMENTS
------------------------------

Additional comments from tester:

none provided

------------------------------
PROGRAM OUTPUT
------------------------------

Output from '/usr/bin/make test':

PERL_DL_NONLAZY=1 "/usr/perl5.26.0p/bin/perl5.26.0" "-MExtUtils::Command::MM" "-MTest::Harness" "-e" "undef *Test::Harness::Switches; test_harness(0, 'blib/lib', 'blib/arch')" t/*.t
# 
# 
# perl                      5.026000
# Archive::Zip::SimpleZip   0.040
# Archive::Zip::SimpleUnzip 0.040
# IO::Compress::Base        2.100
# IO::Compress::Zip         2.100
# IO::Compress::Bzip2       2.100
# IO::Compress::Lzma        2.096
# IO::Compress::Xz          2.096
# IO::Compress::Zstd        2.096
# IO::Uncompress::Base      2.100
# IO::Uncompress::Unzip     2.100
# IO::Uncompress::Bunzip2   2.100
# IO::Uncompress::UnLzma    2.096
# IO::Uncompress::UnXz      2.096
# IO::Uncompress::UnZstd    2.096
# Compress::Raw::Zlib       2.1
# Compress::Raw::Bzip2      2.1
# Compress::Raw::Lzma       2.096
# Compress::Stream::Zstd    0.202
# zlib                      1.2.11
# bzip2                     1.0.8, 13-Jul-2019
# lzma                      5.2.2
# Zstandard                 1.4.3
# 
# 
t/000prereq.t ............. ok
t/001main.t ............... ok
t/010main-unzip.t ......... ok
t/020main-unzip-stream.t .. ok
t/111const-deflate.t ...... ok
t/999pod.t ................ ok
t/meta-json.t ............. ok
t/meta-yaml.t ............. ok
All tests successful.
Files=8, Tests=24354,  9 wallclock secs ( 0.25 usr  2.01 sys +  1.09 cusr  4.78 csys =  8.13 CPU)
Result: PASS

------------------------------
PREREQUISITES
------------------------------

Prerequisite modules loaded:

requires:

    Module                     Need  Have 
    -------------------------- ----- -----
    IO::Compress::Base         2.096 2.100
    IO::Compress::Bzip2        2.096 2.100
    IO::Compress::Lzma         2.096 2.096
    IO::Compress::RawDeflate   2.096 2.100
    IO::Compress::Xz           2.096 2.096
    IO::Compress::Zip          2.096 2.100
    IO::Compress::Zstd         2.096 2.096
    IO::Uncompress::Base       2.096 2.100
    IO::Uncompress::RawInflate 2.096 2.100
    IO::Uncompress::Unzip      2.096 2.100
    Perl::OSType               0     1.010

build_requires:

    Module                     Need  Have 
    -------------------------- ----- -----
    ExtUtils::MakeMaker        0     7.62 

configure_requires:

    Module                     Need  Have 
    -------------------------- ----- -----
    ExtUtils::MakeMaker        0     7.62 


------------------------------
ENVIRONMENT AND OTHER CONTEXT
------------------------------

Environment variables:

    LC_ALL = de_DE.ISO8859-1
    PATH = /usr/local/bin:/usr/bin:/bin:/usr/local/sbin:/usr/sbin:/sbin:/home/cpansand/bin/freebsd10.3:/home/cpansand/bin/sh:/home/cpansand/bin:/usr/games:/home/cpansand/devel:/home/eserte/src/srezic-misc/scripts
    PERL5LIB = /home/cpansand/.cpan/build/2021071312/Mail-SPF-v2.9.0-0/blib/arch:/home/cpansand/.cpan/build/2021071312/Mail-SPF-v2.9.0-0/blib/lib
    PERL5OPT = 
    PERL5_CPANPLUS_IS_RUNNING = 31508
    PERL5_CPAN_IS_RUNNING = 31508
    PERL5_CPAN_IS_RUNNING_IN_RECURSION = 5540,31508
    PERLDOC = -MPod::Perldoc::ToTextOverstrike
    PERL_BATCH = yes
    PERL_CANARY_STABILITY_NOPROMPT = 1
    PERL_CPAN_REPORTER_CONFIG = /var/tmp/cpansmoker-1023/2021071220/cpanreporter_000_config.ini
    PERL_EXTUTILS_AUTOINSTALL = --defaultdeps
    PERL_USE_UNSAFE_INC = 1
    SHELL = /usr/local/bin/zsh
    TERM = screen
    TMPDIR = /var/tmp/cpansmoker-1023/2021071220

Perl special variables (and OS-specific diagnostics, for MSWin32):

    $^X = /usr/perl5.26.0p/bin/perl5.26.0
    $UID/$EUID = 1023 / 1023
    $GID = 1023 1023
    $EGID = 1023 1023

Perl module toolchain versions installed:

    Module              Have    
    ------------------- --------
    CPAN                2.28    
    CPAN::Meta          2.150010
    Cwd                 3.75    
    ExtUtils::CBuilder  0.280235
    ExtUtils::Command   7.62    
    ExtUtils::Install   2.16    
    ExtUtils::MakeMaker 7.62    
    ExtUtils::Manifest  1.70    
    ExtUtils::ParseXS   3.35    
    File::Spec          3.75    
    JSON                4.03    
    JSON::PP            4.05    
    Module::Build       0.4229  
    Module::Signature   0.87    
    Parse::CPAN::Meta   2.150010
    Test::Harness       3.42    
    Test::More          1.302185
    YAML                1.30    
    YAML::Syck          1.34    
    version             0.9928  


--

Summary of my perl5 (revision 5 version 26 subversion 0) configuration:
   
  Platform:
    osname=freebsd
    osvers=10.3-release-p11
    archname=amd64-freebsd
    uname='freebsd cvrsnica-freebsd-101.herceg.de 10.3-release-p11 freebsd 10.3-release-p11 #0: mon oct 24 18:49:24 utc 2016 root@amd64-builder.daemonology.net:usrobjusrsrcsysgeneric amd64 '
    config_args='-ds -e -Dprefix=/usr/perl5.26.0p -Dcf_email=srezic@cpan.org -Doptimize=-O2 -pipe'
    hint=recommended
    useposix=true
    d_sigaction=define
    useithreads=undef
    usemultiplicity=undef
    use64bitint=define
    use64bitall=define
    uselongdouble=undef
    usemymalloc=n
    default_inc_excludes_dot=define
    bincompat5005=undef
  Compiler:
    cc='cc'
    ccflags ='-DHAS_FPSETMASK -DHAS_FLOATINGPOINT_H -fno-strict-aliasing -pipe -fstack-protector -I/usr/local/include -D_FORTIFY_SOURCE=2'
    optimize='-O2 -pipe'
    cppflags='-DHAS_FPSETMASK -DHAS_FLOATINGPOINT_H -fno-strict-aliasing -pipe -fstack-protector -I/usr/local/include'
    ccversion=''
    gccversion='4.2.1 Compatible FreeBSD Clang 3.4.1 (tags/RELEASE_34/dot1-final 208032)'
    gccosandvers=''
    intsize=4
    longsize=8
    ptrsize=8
    doublesize=8
    byteorder=12345678
    doublekind=3
    d_longlong=define
    longlongsize=8
    d_longdbl=define
    longdblsize=16
    longdblkind=3
    ivtype='long'
    ivsize=8
    nvtype='double'
    nvsize=8
    Off_t='off_t'
    lseeksize=8
    alignbytes=8
    prototype=define
  Linker and Libraries:
    ld='cc'
    ldflags ='-pthread -Wl,-E  -fstack-protector -L/usr/local/lib'
    libpth=/usr/lib /usr/local/lib /usr/include/clang/3.4.1 /usr/lib
    libs=-lpthread -lgdbm -lm -lcrypt -lutil -lc -lelf
    perllibs=-lpthread -lm -lcrypt -lutil -lc -lelf
    libc=
    so=so
    useshrplib=false
    libperl=libperl.a
    gnulibc_version=''
  Dynamic Linking:
    dlsrc=dl_dlopen.xs
    dlext=so
    d_dlsymun=undef
    ccdlflags=' '
    cccdlflags='-DPIC -fPIC'
    lddlflags='-shared  -L/usr/local/lib -fstack-protector'


Characteristics of this binary (from libperl): 
  Compile-time options:
    HAS_TIMES
    PERLIO_LAYERS
    PERL_COPY_ON_WRITE
    PERL_DONT_CREATE_GVSV
    PERL_MALLOC_WRAP
    PERL_OP_PARENT
    PERL_PRESERVE_IVUV
    USE_64_BIT_ALL
    USE_64_BIT_INT
    USE_LARGE_FILES
    USE_LOCALE
    USE_LOCALE_COLLATE
    USE_LOCALE_CTYPE
    USE_LOCALE_NUMERIC
    USE_LOCALE_TIME
    USE_PERLIO
    USE_PERL_ATOF
  Built under freebsd
  Compiled at Jun  3 2017 22:58:33
  %ENV:
    PERL5LIB="/home/cpansand/.cpan/build/2021071312/Mail-SPF-v2.9.0-0/blib/arch:/home/cpansand/.cpan/build/2021071312/Mail-SPF-v2.9.0-0/blib/lib"
    PERL5OPT=""
    PERL5_CPANPLUS_IS_RUNNING="31508"
    PERL5_CPAN_IS_RUNNING="31508"
    PERL5_CPAN_IS_RUNNING_IN_RECURSION="5540,31508"
    PERLDOC="-MPod::Perldoc::ToTextOverstrike"
    PERL_BATCH="yes"
    PERL_CANARY_STABILITY_NOPROMPT="1"
    PERL_CPAN_REPORTER_CONFIG="/var/tmp/cpansmoker-1023/2021071220/cpanreporter_000_config.ini"
    PERL_EXTUTILS_AUTOINSTALL="--defaultdeps"
    PERL_USE_UNSAFE_INC="1"
  @INC:
    /home/cpansand/.cpan/build/2021071312/Mail-SPF-v2.9.0-0/blib/arch
    /home/cpansand/.cpan/build/2021071312/Mail-SPF-v2.9.0-0/blib/lib
    /usr/perl5.26.0p/lib/site_perl/5.26.0/amd64-freebsd
    /usr/perl5.26.0p/lib/site_perl/5.26.0
    /usr/perl5.26.0p/lib/5.26.0/amd64-freebsd
    /usr/perl5.26.0p/lib/5.26.0
    .