HTML-Formatter v2.16 Perl 5 v5.32.0 amd64-freebsd

Status
Pass
From
Michele Beltrame
Dist
HTML-Formatter v2.16
Platform
Perl 5 v5.32.0 amd64-freebsd
Date
2020-07-22 14:36:52
ID
c890f19c-cc28-11ea-8529-d7fef563957c
This distribution has been tested as part of the CPAN Testers
project, supporting the Perl programming language.  See
http://wiki.cpantesters.org/ for more information or email
questions to cpan-testers-discuss@perl.org


--
Dear Nigel Metheringham,

This is a computer-generated report for HTML-Formatter-2.16
on perl 5.32.0, created by CPAN-Reporter-1.2018.

Thank you for uploading your work to CPAN.  Congratulations!
All tests were successful.

Sections of this report:

    * Tester comments
    * Program output
    * Prerequisites
    * Environment and other context

------------------------------
TESTER COMMENTS
------------------------------

Additional comments from tester:

none provided

------------------------------
PROGRAM OUTPUT
------------------------------

Output from '/usr/bin/make test':

PERL_DL_NONLAZY=1 "/usr/home/italpro/perl5/perlbrew/perls/perl-5.32.0/bin/perl" "-MExtUtils::Command::MM" "-MTest::Harness" "-e" "undef *Test::Harness::Switches; test_harness(0, 'blib/lib', 'blib/arch')" t/*.t
t/00-compile.t ............... ok
# 
# Versions for all modules listed in MYMETA.json (including optional ones):
# 
# === Configure Requires ===
# 
#     Module              Want Have
#     ------------------- ---- ----
#     ExtUtils::MakeMaker  any 7.44
# 
# === Build Requires ===
# 
#     Module              Want Have
#     ------------------- ---- ----
#     ExtUtils::MakeMaker  any 7.44
# 
# === Test Requires ===
# 
#     Module              Want     Have
#     ------------------- ---- --------
#     ExtUtils::MakeMaker  any     7.44
#     File::Slurper        any    0.012
#     File::Spec           any     3.78
#     FindBin              any     1.51
#     IO::Handle           any     1.42
#     IPC::Open3           any     1.21
#     Test::More          0.96 1.302175
#     Test::Warnings       any    0.030
#     blib                1.01     1.07
#     bytes                any     1.07
#     lib                  any     0.65
# 
# === Test Recommends ===
# 
#     Module         Want     Have
#     ---------- -------- --------
#     CPAN::Meta 2.120900 2.150010
# 
# === Runtime Requires ===
# 
#     Module                              Want  Have
#     ----------------------------------- ---- -----
#     Carp                                 any  1.50
#     Data::Dumper                         any 2.174
#     Encode                               any  3.06
#     Font::Metrics::Courier               any undef
#     Font::Metrics::CourierBold           any undef
#     Font::Metrics::CourierBoldOblique    any undef
#     Font::Metrics::CourierOblique        any undef
#     Font::Metrics::Helvetica             any undef
#     Font::Metrics::HelveticaBold         any undef
#     Font::Metrics::HelveticaBoldOblique  any undef
#     Font::Metrics::HelveticaOblique      any undef
#     Font::Metrics::TimesBold             any undef
#     Font::Metrics::TimesBoldItalic       any undef
#     Font::Metrics::TimesItalic           any undef
#     Font::Metrics::TimesRoman            any undef
#     HTML::Element                       3.15  5.07
#     HTML::TreeBuilder                    any  5.07
#     IO::File                             any  1.41
#     base                                 any  2.27
#     integer                              any  1.01
#     parent                               any 0.238
#     strict                               any  1.11
#     utf8                                 any  1.22
#     warnings                             any  1.47
# 
t/00-report-prereqs.t ........ ok
t/01_ps.t .................... ok
t/02_rtf.t ................... ok
t/03_text.t .................. ok
t/04_md.t .................... ok
t/author-critic.t ............ skipped: these tests are for testing by the author
t/author-eol.t ............... skipped: these tests are for testing by the author
t/author-no-tabs.t ........... skipped: these tests are for testing by the author
t/author-pod-spell.t ......... skipped: these tests are for testing by the author
t/author-pod-syntax.t ........ skipped: these tests are for testing by the author
t/author-portability.t ....... skipped: these tests are for testing by the author
t/author-synopsis.t .......... skipped: these tests are for testing by the author
t/release-dist-manifest.t .... skipped: these tests are for release candidate testing
t/release-distmeta.t ......... skipped: these tests are for release candidate testing
t/release-has-version.t ...... skipped: these tests are for release candidate testing
t/release-minimum-version.t .. skipped: these tests are for release candidate testing
t/release-unused-vars.t ...... skipped: these tests are for release candidate testing
t/rt111783.t ................. ok
t/rt69426.t .................. ok
All tests successful.
Files=20, Tests=94,  2 wallclock secs ( 0.05 usr  0.03 sys +  0.97 cusr  0.30 csys =  1.36 CPU)
Result: PASS

------------------------------
PREREQUISITES
------------------------------

Prerequisite modules loaded:

requires:

    Module                              Need     Have    
    ----------------------------------- -------- --------
    base                                0        2.27    
    Carp                                0        1.50    
    Data::Dumper                        0        2.174   
    Encode                              0        3.06    
    Font::Metrics::Courier              0        0       
    Font::Metrics::CourierBold          0        0       
    Font::Metrics::CourierBoldOblique   0        0       
    Font::Metrics::CourierOblique       0        0       
    Font::Metrics::Helvetica            0        0       
    Font::Metrics::HelveticaBold        0        0       
    Font::Metrics::HelveticaBoldOblique 0        0       
    Font::Metrics::HelveticaOblique     0        0       
    Font::Metrics::TimesBold            0        0       
    Font::Metrics::TimesBoldItalic      0        0       
    Font::Metrics::TimesItalic          0        0       
    Font::Metrics::TimesRoman           0        0       
    HTML::Element                       3.15     5.07    
    HTML::TreeBuilder                   0        5.07    
    integer                             0        1.01    
    IO::File                            0        1.41    
    parent                              0        0.238   
    perl                                5.008    5.032000
    strict                              0        1.11    
    utf8                                0        1.22    
    warnings                            0        1.47    

build_requires:

    Module                              Need     Have    
    ----------------------------------- -------- --------
    blib                                1.01     1.07    
    bytes                               0        1.07    
    ExtUtils::MakeMaker                 0        7.44    
    File::Slurper                       0        0.012   
    File::Spec                          0        3.78    
    FindBin                             0        1.51    
    IO::Handle                          0        1.42    
    IPC::Open3                          0        1.21    
    lib                                 0        0.65    
    Test::More                          0.96     1.302175
    Test::Warnings                      0        0.030   

configure_requires:

    Module                              Need     Have    
    ----------------------------------- -------- --------
    ExtUtils::MakeMaker                 0        7.44    

opt_build_requires:

    Module                              Need     Have    
    ----------------------------------- -------- --------
    CPAN::Meta                          2.120900 2.150010


------------------------------
ENVIRONMENT AND OTHER CONTEXT
------------------------------

Environment variables:

    LANG = en_US.UTF-8
    LC_ALL = en_US.UTF-8
    NONINTERACTIVE_TESTING = 1
    PATH = /usr/home/italpro/perl5/perlbrew/bin:/usr/home/italpro/perl5/perlbrew/perls/perl-5.32.0/bin:/home/italpro/bin:/usr/local/pgsql/bin:/sbin:/bin:/usr/sbin:/usr/bin:/usr/local/sbin:/usr/local/bin:/usr/home/italpro/bin
    PERL5LIB = 
    PERL5OPT = 
    PERL5_CPANPLUS_IS_RUNNING = 45591
    PERL5_CPAN_IS_RUNNING = 45591
    PERLBREW_HOME = /usr/home/italpro/.perlbrew
    PERLBREW_MANPATH = /usr/home/italpro/perl5/perlbrew/perls/perl-5.32.0/man
    PERLBREW_PATH = /usr/home/italpro/perl5/perlbrew/bin:/usr/home/italpro/perl5/perlbrew/perls/perl-5.32.0/bin
    PERLBREW_PERL = perl-5.32.0
    PERLBREW_ROOT = /usr/home/italpro/perl5/perlbrew
    PERLBREW_SHELLRC_VERSION = 0.84
    PERLBREW_VERSION = 0.84
    PERL_MM_USE_DEFAULT = 1
    PERL_USE_UNSAFE_INC = 1
    SHELL = /usr/local/bin/bash
    TERM = xterm-256color

Perl special variables (and OS-specific diagnostics, for MSWin32):

    $^X = /usr/home/italpro/perl5/perlbrew/perls/perl-5.32.0/bin/perl
    $UID/$EUID = 41869 / 41869
    $GID = 1000 1000 861
    $EGID = 1000 1000 861

Perl module toolchain versions installed:

    Module              Have    
    ------------------- --------
    CPAN                2.28    
    CPAN::Meta          2.150010
    Cwd                 3.78    
    ExtUtils::CBuilder  0.280234
    ExtUtils::Command   7.44    
    ExtUtils::Install   2.14    
    ExtUtils::MakeMaker 7.44    
    ExtUtils::Manifest  1.72    
    ExtUtils::ParseXS   3.40    
    File::Spec          3.78    
    JSON                4.02    
    JSON::PP            4.04    
    Module::Build       0.4231  
    Module::Signature   n/a     
    Parse::CPAN::Meta   2.150010
    Test::Harness       3.42    
    Test::More          1.302175
    YAML                n/a     
    YAML::Syck          n/a     
    version             0.9924  


--

Summary of my perl5 (revision 5 version 32 subversion 0) configuration:
   
  Platform:
    osname=freebsd
    osvers=12.1-release-p3
    archname=amd64-freebsd
    uname='freebsd qs4387.pair.com 12.1-release-p3 freebsd 12.1-release-p3 generic amd64 '
    config_args='-de -Dprefix=/usr/home/italpro/perl5/perlbrew/perls/perl-5.32.0 -Aeval:scriptdir=/usr/home/italpro/perl5/perlbrew/perls/perl-5.32.0/bin'
    hint=recommended
    useposix=true
    d_sigaction=define
    useithreads=undef
    usemultiplicity=undef
    use64bitint=define
    use64bitall=define
    uselongdouble=undef
    usemymalloc=n
    default_inc_excludes_dot=define
    bincompat5005=undef
  Compiler:
    cc='cc'
    ccflags ='-DHAS_FPSETMASK -DHAS_FLOATINGPOINT_H -fno-strict-aliasing -pipe -fstack-protector-strong -I/usr/local/include -D_FORTIFY_SOURCE=2'
    optimize='-O2'
    cppflags='-DHAS_FPSETMASK -DHAS_FLOATINGPOINT_H -fno-strict-aliasing -pipe -fstack-protector-strong -I/usr/local/include'
    ccversion=''
    gccversion='4.2.1 Compatible FreeBSD Clang 8.0.1 (tags/RELEASE_801/final 366581)'
    gccosandvers=''
    intsize=4
    longsize=8
    ptrsize=8
    doublesize=8
    byteorder=12345678
    doublekind=3
    d_longlong=define
    longlongsize=8
    d_longdbl=define
    longdblsize=16
    longdblkind=3
    ivtype='long'
    ivsize=8
    nvtype='double'
    nvsize=8
    Off_t='off_t'
    lseeksize=8
    alignbytes=8
    prototype=define
  Linker and Libraries:
    ld='cc'
    ldflags ='-Wl,-E  -fstack-protector-strong -L/usr/local/lib'
    libpth=/usr/lib /usr/local/lib /usr/lib/clang/8.0.1/lib /usr/lib
    libs=-lpthread -lgdbm -ldl -lm -lcrypt -lutil -lc
    perllibs=-lpthread -ldl -lm -lcrypt -lutil -lc
    libc=
    so=so
    useshrplib=false
    libperl=libperl.a
    gnulibc_version=''
  Dynamic Linking:
    dlsrc=dl_dlopen.xs
    dlext=so
    d_dlsymun=undef
    ccdlflags=' '
    cccdlflags='-DPIC -fPIC'
    lddlflags='-shared  -L/usr/local/lib -fstack-protector-strong'


Characteristics of this binary (from libperl): 
  Compile-time options:
    HAS_TIMES
    PERLIO_LAYERS
    PERL_COPY_ON_WRITE
    PERL_DONT_CREATE_GVSV
    PERL_MALLOC_WRAP
    PERL_OP_PARENT
    PERL_PRESERVE_IVUV
    USE_64_BIT_ALL
    USE_64_BIT_INT
    USE_LARGE_FILES
    USE_LOCALE
    USE_LOCALE_COLLATE
    USE_LOCALE_CTYPE
    USE_LOCALE_NUMERIC
    USE_LOCALE_TIME
    USE_PERLIO
    USE_PERL_ATOF
  Built under freebsd
  Compiled at Jul 21 2020 09:00:00
  %ENV:
    PERL5LIB=""
    PERL5OPT=""
    PERL5_CPANPLUS_IS_RUNNING="45591"
    PERL5_CPAN_IS_RUNNING="45591"
    PERLBREW_HOME="/usr/home/italpro/.perlbrew"
    PERLBREW_MANPATH="/usr/home/italpro/perl5/perlbrew/perls/perl-5.32.0/man"
    PERLBREW_PATH="/usr/home/italpro/perl5/perlbrew/bin:/usr/home/italpro/perl5/perlbrew/perls/perl-5.32.0/bin"
    PERLBREW_PERL="perl-5.32.0"
    PERLBREW_ROOT="/usr/home/italpro/perl5/perlbrew"
    PERLBREW_SHELLRC_VERSION="0.84"
    PERLBREW_VERSION="0.84"
    PERL_MM_USE_DEFAULT="1"
    PERL_USE_UNSAFE_INC="1"
  @INC:
    /usr/home/italpro/perl5/perlbrew/perls/perl-5.32.0/lib/site_perl/5.32.0/amd64-freebsd
    /usr/home/italpro/perl5/perlbrew/perls/perl-5.32.0/lib/site_perl/5.32.0
    /usr/home/italpro/perl5/perlbrew/perls/perl-5.32.0/lib/5.32.0/amd64-freebsd
    /usr/home/italpro/perl5/perlbrew/perls/perl-5.32.0/lib/5.32.0
    .