XML-Catalogs vv1.6.0 Perl 5 v5.41.5 OpenBSD.amd64-openbsd-thread-multi
- Status
- Pass
- From
- Carlos Guevara
- Dist
-
XML-Catalogs vv1.6.0
- Platform
- Perl 5 v5.41.5 OpenBSD.amd64-openbsd-thread-multi
- Date
- 2024-10-10 14:20:21
- ID
- c878b51a-8712-11ef-aa8f-8e10324a46dc
This distribution has been tested as part of the CPAN Testers
project, supporting the Perl programming language. See
http://wiki.cpantesters.org/ for more information or email
questions to cpan-testers-discuss@perl.org
--
Dear ikegami,
This is a computer-generated report for XML-Catalogs-v1.6.0
on perl 5.41.5, created by CPAN-Reporter-1.2020.
Thank you for uploading your work to CPAN. Congratulations!
All tests were successful.
Sections of this report:
* Tester comments
* Program output
* Prerequisites
* Environment and other context
------------------------------
TESTER COMMENTS
------------------------------
Additional comments from tester:
this report is from an automated smoke testing program
and was not reviewed by a human for accuracy
------------------------------
PROGRAM OUTPUT
------------------------------
Output from '/usr/bin/make test':
PERL_DL_NONLAZY=1 "/home/cpan/bin/perl/bin/perl5.41.5" "-MExtUtils::Command::MM" "-MTest::Harness" "-e" "undef *Test::Harness::Switches; test_harness(0, 'blib/lib', 'blib/arch')" t/*.t
# Testing XML::Catalogs v1.6.0
# Using Perl 5.041005
# Carp 1.54
# Class::Inspector 1.36
# Config 5.041005
# Cwd 3.92
# Exporter 5.78
# Exporter::Heavy 5.78
# Exporter::Tiny 1.006002
# Fcntl 1.19
# File::ShareDir 1.118
# File::Spec 3.93
# File::Spec::Unix 3.93
# Lexical::SealRequireHints 0.012
# Lexical::Sub 0.010
# Lexical::Var 0.010
# List::MoreUtils 0.430
# List::MoreUtils::PP 0.430
# List::MoreUtils::XS 0.430
# List::Util 1.66
# POSIX 2.22
# Params::Util 1.102
# Params::Util::PP 1.102
# PerlIO 1.12
# Scalar::Util 1.66
# Test::Builder 1.302204
# Test::Builder::Formatter 1.302204
# Test::Builder::Module 1.302204
# Test::Builder::TodoDiag 1.302204
# Test::More 1.302204
# Test2::API 1.302204
# Test2::API::Context 1.302204
# Test2::API::Instance 1.302204
# Test2::API::Stack 1.302204
# Test2::Event 1.302204
# Test2::Event::Bail 1.302204
# Test2::Event::Diag 1.302204
# Test2::Event::Exception 1.302204
# Test2::Event::Fail 1.302204
# Test2::Event::Note 1.302204
# Test2::Event::Ok 1.302204
# Test2::Event::Pass 1.302204
# Test2::Event::Plan 1.302204
# Test2::Event::Skip 1.302204
# Test2::Event::Subtest 1.302204
# Test2::Event::V2 1.302204
# Test2::Event::Waiting 1.302204
# Test2::EventFacet 1.302204
# Test2::EventFacet::About 1.302204
# Test2::EventFacet::Amnesty 1.302204
# Test2::EventFacet::Assert 1.302204
# Test2::EventFacet::Control 1.302204
# Test2::EventFacet::Error 1.302204
# Test2::EventFacet::Hub 1.302204
# Test2::EventFacet::Info 1.302204
# Test2::EventFacet::Meta 1.302204
# Test2::EventFacet::Parent 1.302204
# Test2::EventFacet::Plan 1.302204
# Test2::EventFacet::Trace 1.302204
# Test2::Formatter 1.302204
# Test2::Formatter::TAP 1.302204
# Test2::Hub 1.302204
# Test2::Hub::Interceptor 1.302204
# Test2::Hub::Interceptor::Terminator 1.302204
# Test2::Hub::Subtest 1.302204
# Test2::Util 1.302204
# Test2::Util::ExternalMeta 1.302204
# Test2::Util::Facets2Legacy 1.302204
# Test2::Util::HashBase 1.302204
# Test2::Util::Trace 1.302204
# Tie::Hash 1.06
# Time::HiRes 1.9777
# XML::Catalogs v1.6.0
# XSLoader 0.32
# base 2.27
# constant 1.33
# mro 1.29
# overload 1.39
# overloading 0.02
# parent 0.242
# strict 1.13
# utf8 1.27
# vars 1.05
# version 0.9933
# version::regex 0.9933
# warnings 1.70
# warnings::register 1.06
t/00_load.t ................. ok
t/01_devel_mark_check.t ..... skipped: Mark checks are only performed when DEVEL_TESTS=1
t/02_devel_version_check.t .. skipped: Version checks are only performed when DEVEL_TESTS=1
t/03_devel_whitespace.t ..... skipped: Whitespace checks are only performed when DEVEL_TESTS=1
t/04_devel_permissions.t .... skipped: Permission checks are only performed when DEVEL_TESTS=1
t/05_pod.t .................. ok
t/06_devel_pod_coverage.t ... skipped: Pod coverage is only tested when DEVEL_TESTS=1
All tests successful.
Files=7, Tests=2, 1 wallclock secs ( 0.03 usr 0.02 sys + 0.43 cusr 0.11 csys = 0.59 CPU)
Result: PASS
------------------------------
PREREQUISITES
------------------------------
Prerequisite modules loaded:
requires:
Module Need Have
------------------- ---- --------
Carp 0 1.54
File::ShareDir 0 1.118
strict 0 1.13
URI::file 0 5.30
version 0 0.9933
warnings 0 1.70
build_requires:
Module Need Have
------------------- ---- --------
Test::More 0 1.302204
configure_requires:
Module Need Have
------------------- ---- --------
ExtUtils::MakeMaker 6.52 7.70
------------------------------
ENVIRONMENT AND OTHER CONTEXT
------------------------------
Environment variables:
AUTOMATED_TESTING = 1
DATE_MANIP_TEST_DM5 = 1
LC_ALL = C
NONINTERACTIVE_TESTING = 1
NO_NETWORK_TESTING = 1
PATH = /home/cpan/bin/perl/bin:/home/cpan/bin:/home/cpan/bin:/bin:/sbin:/usr/bin:/usr/sbin:/usr/X11R6/bin:/usr/local/bin:/usr/local/sbin
PERL5LIB =
PERL5OPT =
PERL5_CPANPLUS_IS_RUNNING = 87763
PERL5_CPAN_IS_RUNNING = 87763
PERL_MM_USE_DEFAULT = 1
PERL_USE_UNSAFE_INC = 1
SHELL = /usr/local/bin/bash
TERM = screen
TMPDIR = /home/cpan/tmp
Perl special variables (and OS-specific diagnostics, for MSWin32):
$^X = /home/cpan/bin/perl/bin/perl5.41.5
$UID/$EUID = 1001 / 1001
$GID = 1001 1001
$EGID = 1001 1001
Perl module toolchain versions installed:
Module Have
------------------- --------
CPAN 2.37
CPAN::Meta 2.150010
Cwd 3.92
ExtUtils::CBuilder 0.280240
ExtUtils::Command 7.70
ExtUtils::Install 2.22
ExtUtils::MakeMaker 7.70
ExtUtils::Manifest 1.75
ExtUtils::ParseXS 3.54
File::Spec 3.93
JSON 4.10
JSON::PP 4.16
Module::Build 0.4234
Module::Signature 0.89
Parse::CPAN::Meta 2.150010
Test2 1.302204
Test::Harness 3.50
Test::More 1.302204
YAML 1.31
YAML::Syck 1.34
version 0.9933
--
Summary of my perl5 (revision 5 version 41 subversion 5) configuration:
Commit id: 82c49390396382408fdafe8b813efdc28eb1ccdc
Platform:
osname=openbsd
osvers=7.5
archname=OpenBSD.amd64-openbsd-thread-multi
uname='openbsd cjg-openbsd7 7.5 generic#2 amd64 '
config_args='-des -Dprefix=/home/cpan/bin/perl -Dscriptdir=/home/cpan/bin/perl/bin -Dusedevel -Duse64bitall -Duseithreads'
hint=recommended
useposix=true
d_sigaction=define
useithreads=define
usemultiplicity=define
use64bitint=define
use64bitall=define
uselongdouble=undef
usemymalloc=n
default_inc_excludes_dot=define
Compiler:
cc='cc'
ccflags ='-pthread -DNO_LOCALE_NUMERIC -DNO_LOCALE_COLLATE -DNO_LOCALE_MONETARY -DNO_LOCALE_TIME -DNO_LOCALE_MESSAGES -DLIBC_HANDLES_MISMATCHED_CTYPE -fno-strict-aliasing -pipe -fstack-protector-strong -I/usr/local/include'
optimize='-O2'
cppflags='-pthread -DNO_LOCALE_NUMERIC -DNO_LOCALE_COLLATE -DNO_LOCALE_MONETARY -DNO_LOCALE_TIME -DNO_LOCALE_MESSAGES -DLIBC_HANDLES_MISMATCHED_CTYPE -fno-strict-aliasing -pipe -fstack-protector-strong -I/usr/local/include'
ccversion=''
gccversion='OpenBSD Clang 16.0.6'
gccosandvers=''
intsize=4
longsize=8
ptrsize=8
doublesize=8
byteorder=12345678
doublekind=3
d_longlong=define
longlongsize=8
d_longdbl=define
longdblsize=16
longdblkind=3
ivtype='long'
ivsize=8
nvtype='double'
nvsize=8
Off_t='off_t'
lseeksize=8
alignbytes=8
prototype=define
Linker and Libraries:
ld='cc'
ldflags ='-pthread -Wl,-E -fstack-protector-strong -L/usr/local/lib'
libpth=/usr/lib/clang/16/lib /usr/lib /usr/local/lib
libs=-lpthread -lm -lutil -lc
perllibs=-lpthread -lm -lutil -lc
libc=/usr/lib/libc.so.99.0
so=so
useshrplib=false
libperl=libperl.a
gnulibc_version=''
Dynamic Linking:
dlsrc=dl_dlopen.xs
dlext=so
d_dlsymun=undef
ccdlflags=' '
cccdlflags='-DPIC -fPIC '
lddlflags='-shared -fPIC -L/usr/local/lib -fstack-protector-strong'
Characteristics of this binary (from libperl):
Compile-time options:
HAS_LONG_DOUBLE
HAS_STRTOLD
HAS_TIMES
MULTIPLICITY
PERLIO_LAYERS
PERL_COPY_ON_WRITE
PERL_DONT_CREATE_GVSV
PERL_HASH_FUNC_SIPHASH13
PERL_HASH_USE_SBOX32
PERL_MALLOC_WRAP
PERL_OP_PARENT
PERL_PRESERVE_IVUV
PERL_USE_DEVEL
PERL_USE_SAFE_PUTENV
USE_64_BIT_ALL
USE_64_BIT_INT
USE_ITHREADS
USE_LARGE_FILES
USE_LOCALE
USE_LOCALE_CTYPE
USE_PERLIO
USE_PERL_ATOF
USE_REENTRANT_API
USE_THREAD_SAFE_LOCALE
Built under openbsd
Compiled at Oct 9 2024 17:51:45
%ENV:
PERL5LIB=""
PERL5OPT=""
PERL5_CPANPLUS_IS_RUNNING="87763"
PERL5_CPAN_IS_RUNNING="87763"
PERL_MM_USE_DEFAULT="1"
PERL_USE_UNSAFE_INC="1"
@INC:
/home/cpan/bin/perl/lib/site_perl/5.41.5/OpenBSD.amd64-openbsd-thread-multi
/home/cpan/bin/perl/lib/site_perl/5.41.5
/home/cpan/bin/perl/lib/5.41.5/OpenBSD.amd64-openbsd-thread-multi
/home/cpan/bin/perl/lib/5.41.5
.