MooX-Role-JSON_LD v1.1.0 Perl 5 v5.30.2 MSWin32-x64-multi-thread

Status
Pass
From
twata
Dist
MooX-Role-JSON_LD v1.1.0
Platform
Perl 5 v5.30.2 MSWin32-x64-multi-thread
Date
2025-01-20 00:05:55
ID
c8751c8e-6d7b-1014-badc-42fabf5bcd4d
This distribution has been tested as part of the CPAN Testers
project, supporting the Perl programming language.  See
http://wiki.cpantesters.org/ for more information or email
questions to cpan-testers-discuss@perl.org


--
Dear Dave Cross,

This is a computer-generated report for MooX-Role-JSON_LD-1.1.0
on perl 5.30.2, created by CPAN-Reporter-1.2020.

Thank you for uploading your work to CPAN.  Congratulations!
All tests were successful.

Sections of this report:

    * Tester comments
    * Program output
    * Prerequisites
    * Environment and other context

------------------------------
TESTER COMMENTS
------------------------------

Additional comments from tester:

none provided

------------------------------
PROGRAM OUTPUT
------------------------------

Output from 'c:\Strawberry\c\bin\gmake.exe test':

"C:\Strawberry\perl\bin\perl.exe" "-MExtUtils::Command::MM" "-MTest::Harness" "-e" "undef *Test::Harness::Switches; test_harness(0, 'blib\lib', 'blib\arch')" t/*.t
t/01-load.t ................... ok
t/02-moo-basic.t .............. ok
t/02-moo-moox-json_ld.t ....... ok
t/03-moose-basic.t ............ ok
t/04-moox-json-subclass.t ..... ok
t/05-moo-nested.t ............. ok
# {
#    "@context" : "http://schema.org/",
#    "@type" : "Organization",
#    "employee" : [
#       {
#          "@context" : "http://schema.org/",
#          "@type" : "Person",
#          "name" : "Joe Soap"
#       },
#       {
#          "@context" : "http://schema.org/",
#          "@type" : "Person",
#          "name" : "John Brown"
#       }
#    ],
#    "name" : "Foo Inc"
# }
t/06-bugfix-multival-props.t .. ok
# $VAR1 = {
#           'parent' => {
#                         '@context' => 'http://schema.org/',
#                         '@type' => 'Person',
#                         'name' => 'A Parent'
#                       },
#           'name' => 'A Child',
#           '@type' => 'Person',
#           '@context' => 'http://schema.org/'
#         };
t/07-bugfix-nest-same-type.t .. ok
All tests successful.
Files=8, Tests=54, 15 wallclock secs ( 0.09 usr +  0.06 sys =  0.16 CPU)
Result: PASS

------------------------------
PREREQUISITES
------------------------------

Prerequisite modules loaded:

requires:

    Module               Need     Have     
    -------------------- -------- ---------
    JSON::MaybeXS        0        1.004008 
    List::Util           1.33     1.68     
    Moo                  0        2.005005 
    perl                 5.006000 5.030002 
    Sub::Quote           0        2.006008 
    Types::Standard      0        2.007_002

build_requires:

    Module               Need     Have     
    -------------------- -------- ---------
    Moose                0        2.2207   
    namespace::autoclean 0        0.31     
    Test::More           0        1.302207 

configure_requires:

    Module               Need     Have     
    -------------------- -------- ---------
    ExtUtils::MakeMaker  0        7.71_02  


------------------------------
ENVIRONMENT AND OTHER CONTEXT
------------------------------

Environment variables:

    COMSPEC = C:\WINDOWS\system32\cmd.exe
    NONINTERACTIVE_TESTING = 1
    NUMBER_OF_PROCESSORS = 4
    PATH = C:\home\sunlight2\perl5\bin;C:\WINDOWS\system32;C:\WINDOWS;C:\WINDOWS\System32\Wbem;C:\WINDOWS\System32\WindowsPowerShell\v1.0\;C:\Strawberry\c\bin;C:\Strawberry\perl\site\bin;C:\Strawberry\perl\bin
    PERL5LIB = C:\home\sunlight2\perl5\lib\perl5
    PERL5OPT = 
    PERL5_CPANPLUS_IS_RUNNING = 6388
    PERL5_CPAN_IS_RUNNING = 6388
    PERL_LOCAL_LIB_ROOT = C:\home\sunlight2\perl5
    PERL_MB_OPT = --install_base "C:\\home\\sunlight2\\perl5"
    PERL_MM_OPT = INSTALL_BASE=C:\\home\\sunlight2\\perl5
    PERL_MM_USE_DEFAULT = 1
    PERL_USE_UNSAFE_INC = 1
    PROCESSOR_IDENTIFIER = Intel64 Family 6 Model 58 Stepping 9, GenuineIntel
    TEMP = C:\Users\USER\AppData\Local\Temp
    TERM = dumb

Perl special variables (and OS-specific diagnostics, for MSWin32):

    $^X = C:\Strawberry\perl\bin\perl.exe
    $UID/$EUID = 0 / 0
    $GID = 0
    $EGID = 0
    Win32::GetOSName = Win8.1
    Win32::GetOSVersion = , 6, 3, 9600, 2, 0, 0, 256, 1
    Win32::FsType = NTFS
    Win32::IsAdminUser = 0

Perl module toolchain versions installed:

    Module              Have    
    ------------------- --------
    CPAN                2.34    
    CPAN::Meta          2.150010
    Cwd                 3.78    
    ExtUtils::CBuilder  0.280236
    ExtUtils::Command   7.71_02 
    ExtUtils::Install   2.22    
    ExtUtils::MakeMaker 7.71_02 
    ExtUtils::Manifest  1.75    
    ExtUtils::ParseXS   3.51    
    File::Spec          3.78    
    JSON                4.10    
    JSON::PP            4.17_01 
    Module::Build       0.42_35 
    Module::Signature   0.89    
    Parse::CPAN::Meta   2.150010
    Test2               1.302207
    Test::Harness       3.50    
    Test::More          1.302207
    YAML                1.31    
    YAML::Syck          1.34    
    version             0.9933  


--

Summary of my perl5 (revision 5 version 30 subversion 2) configuration:
   
  Platform:
    osname=MSWin32
    osvers=10.0.18363.720
    archname=MSWin32-x64-multi-thread
    uname='Win32 strawberry-perl 5.30.2.1 #1 Tue Mar 17 03:21:32 2020 x64'
    config_args='undef'
    hint=recommended
    useposix=true
    d_sigaction=undef
    useithreads=define
    usemultiplicity=define
    use64bitint=define
    use64bitall=undef
    uselongdouble=undef
    usemymalloc=n
    default_inc_excludes_dot=define
    bincompat5005=undef
  Compiler:
    cc='gcc'
    ccflags =' -s -O2 -DWIN32 -DWIN64 -DCONSERVATIVE -D__USE_MINGW_ANSI_STDIO -DPERL_TEXTMODE_SCRIPTS -DPERL_IMPLICIT_CONTEXT -DPERL_IMPLICIT_SYS -DUSE_PERLIO -fwrapv -fno-strict-aliasing -mms-bitfields'
    optimize='-s -O2'
    cppflags='-DWIN32'
    ccversion=''
    gccversion='8.3.0'
    gccosandvers=''
    intsize=4
    longsize=4
    ptrsize=8
    doublesize=8
    byteorder=12345678
    doublekind=3
    d_longlong=define
    longlongsize=8
    d_longdbl=define
    longdblsize=16
    longdblkind=3
    ivtype='long long'
    ivsize=8
    nvtype='double'
    nvsize=8
    Off_t='long long'
    lseeksize=8
    alignbytes=8
    prototype=define
  Linker and Libraries:
    ld='g++'
    ldflags ='-s -L"c:\Strawberry\perl\lib\CORE" -L"c:\Strawberry\c\lib"'
    libpth=c:\Strawberry\c\lib c:\Strawberry\c\x86_64-w64-mingw32\lib c:\Strawberry\c\lib\gcc\x86_64-w64-mingw32\8.3.0
    libs= -lmoldname -lkernel32 -luser32 -lgdi32 -lwinspool -lcomdlg32 -ladvapi32 -lshell32 -lole32 -loleaut32 -lnetapi32 -luuid -lws2_32 -lmpr -lwinmm -lversion -lodbc32 -lodbccp32 -lcomctl32
    perllibs= -lmoldname -lkernel32 -luser32 -lgdi32 -lwinspool -lcomdlg32 -ladvapi32 -lshell32 -lole32 -loleaut32 -lnetapi32 -luuid -lws2_32 -lmpr -lwinmm -lversion -lodbc32 -lodbccp32 -lcomctl32
    libc=
    so=dll
    useshrplib=true
    libperl=libperl530.a
    gnulibc_version=''
  Dynamic Linking:
    dlsrc=dl_win32.xs
    dlext=xs.dll
    d_dlsymun=undef
    ccdlflags=' '
    cccdlflags=' '
    lddlflags='-mdll -s -L"c:\Strawberry\perl\lib\CORE" -L"c:\Strawberry\c\lib"'


Characteristics of this binary (from libperl): 
  Compile-time options:
    HAS_TIMES
    HAVE_INTERP_INTERN
    MULTIPLICITY
    PERLIO_LAYERS
    PERL_COPY_ON_WRITE
    PERL_DONT_CREATE_GVSV
    PERL_IMPLICIT_CONTEXT
    PERL_IMPLICIT_SYS
    PERL_MALLOC_WRAP
    PERL_OP_PARENT
    PERL_PRESERVE_IVUV
    USE_64_BIT_INT
    USE_ITHREADS
    USE_LARGE_FILES
    USE_LOCALE
    USE_LOCALE_COLLATE
    USE_LOCALE_CTYPE
    USE_LOCALE_NUMERIC
    USE_LOCALE_TIME
    USE_PERLIO
    USE_PERL_ATOF
  Built under MSWin32
  Compiled at Mar 17 2020 03:27:53
  %ENV:
    PERL5LIB="C:\home\sunlight2\perl5\lib\perl5"
    PERL5_CPANPLUS_IS_RUNNING="6388"
    PERL5_CPAN_IS_RUNNING="6388"
    PERL_LOCAL_LIB_ROOT="C:\home\sunlight2\perl5"
    PERL_MB_OPT="--install_base "C:\\home\\sunlight2\\perl5""
    PERL_MM_OPT="INSTALL_BASE=C:\\home\\sunlight2\\perl5"
    PERL_MM_USE_DEFAULT="1"
    PERL_USE_UNSAFE_INC="1"
  @INC:
    C:\home\sunlight2\perl5\lib\perl5/MSWin32-x64-multi-thread
    C:\home\sunlight2\perl5\lib\perl5
    C:/Strawberry/perl/site/lib
    C:/Strawberry/perl/vendor/lib
    C:/Strawberry/perl/lib
    .