Back
From: metabase:user:30f4dfbe-2aae-11df-837a-5e0a49663a4f
Subject: PASS Test-Command-0.11 v5.14.4 GNU/Linux
Date: 2016-07-17T16:44:51Z
This distribution has been tested as part of the CPAN Testers
project, supporting the Perl programming language. See
http://wiki.cpantesters.org/ for more information or email
questions to cpan-testers-discuss@perl.org
--
Dear Daniel B. Boorstein,
This is a computer-generated report for Test-Command-0.11
on perl 5.14.4, created by CPAN-Reporter-1.2018.
Thank you for uploading your work to CPAN. Congratulations!
All tests were successful.
Sections of this report:
* Tester comments
* Program output
* Prerequisites
* Environment and other context
------------------------------
TESTER COMMENTS
------------------------------
Additional comments from tester:
this report is from an automated smoke testing program
and was not reviewed by a human for accuracy
------------------------------
PROGRAM OUTPUT
------------------------------
Output from './Build test':
t/01-funcs.t ...... ok
# Testing Test::Command 0.11, Perl 5.014004, /home/njh/perl5/perlbrew/perls/perl-5.14.4/bin/perl
t/00-load.t ....... ok
t/02-exit.t ....... ok
t/pod-coverage.t .. ok
t/04-stderr.t ..... ok
t/pod.t ........... ok
Argument "foo\nbar\n" isn't numeric in numeric eq (==) at (eval in cmp_ok) t/05-object.t line 40.
Argument "foo\nbar\n" isn't numeric in numeric ne (!=) at (eval in cmp_ok) t/05-object.t line 41.
Argument "bar\nfoo\n" isn't numeric in numeric eq (==) at (eval in cmp_ok) t/05-object.t line 54.
Argument "bar\nfoo\n" isn't numeric in numeric ne (!=) at (eval in cmp_ok) t/05-object.t line 55.
t/03-stdout.t ..... ok
t/05-object.t ..... ok
t/06-signal.t ..... ok
All tests successful.
Files=9, Tests=119, 0 wallclock secs ( 0.03 usr 0.00 sys + 0.51 cusr 0.08 csys = 0.62 CPU)
Result: PASS
------------------------------
PREREQUISITES
------------------------------
Prerequisite modules loaded:
build_requires:
Module Need Have
------------ ---- --------
Test::Simple 0.62 1.302035
------------------------------
ENVIRONMENT AND OTHER CONTEXT
------------------------------
Environment variables:
AUTOMATED_TESTING = 1
HARNESS_OPTIONS = j20
LANG = en_US.UTF-8
PATH = /home/njh/perl5/perlbrew/bin:/home/njh/perl5/perlbrew/perls/perl-5.14.4/bin:/home/njh/perl5/perlbrew/bin:/usr/bin:/bin
PERL5LIB = /home/njh/.cpan/build/Pod-Constants-0.19-ioCUXy/blib/arch:/home/njh/.cpan/build/Pod-Constants-0.19-ioCUXy/blib/lib:/home/njh/.cpan/build/Getopt-Long-Descriptive-0.100-UJ_UIy/blib/arch:/home/njh/.cpan/build/Getopt-Long-Descriptive-0.100-UJ_UIy/blib/lib:/home/njh/.cpan/build/Software-License-0.103012-jc9Xno/blib/arch:/home/njh/.cpan/build/Software-License-0.103012-jc9Xno/blib/lib:/home/njh/.cpan/build/Text-Template-1.46-5j2He_/blib/arch:/home/njh/.cpan/build/Text-Template-1.46-5j2He_/blib/lib:/home/njh/.cpan/build/Data-Section-0.200006-DaKLnb/blib/arch:/home/njh/.cpan/build/Data-Section-0.200006-DaKLnb/blib/lib
PERL5OPT =
PERL5_CPANPLUS_IS_RUNNING = 21888
PERL5_CPAN_IS_RUNNING = 21888
PERLBREW_BASHRC_VERSION = 0.76
PERLBREW_HOME = /home/njh/.perlbrew
PERLBREW_LIB =
PERLBREW_MANPATH = /home/njh/perl5/perlbrew/perls/perl-5.14.4/man
PERLBREW_PATH = /home/njh/perl5/perlbrew/bin:/home/njh/perl5/perlbrew/perls/perl-5.14.4/bin
PERLBREW_PERL = perl-5.14.4
PERLBREW_ROOT = /home/njh/perl5/perlbrew
PERLBREW_VERSION = 0.76
PERL_LOCAL_LIB_ROOT =
SHELL = /bin/sh
Perl special variables (and OS-specific diagnostics, for MSWin32):
$^X = /home/njh/perl5/perlbrew/perls/perl-5.14.4/bin/perl
$UID/$EUID = 1000 / 1000
$GID = 1000 4 24 25 29 30 44 46 107 112 118 1000
$EGID = 1000 4 24 25 29 30 44 46 107 112 118 1000
Perl module toolchain versions installed:
Module Have
------------------- --------
CPAN 2.10
CPAN::Meta 2.150005
Cwd 3.62
ExtUtils::CBuilder 0.280224
ExtUtils::Command 7.18
ExtUtils::Install 2.04
ExtUtils::MakeMaker 7.18
ExtUtils::Manifest 1.70
ExtUtils::ParseXS 3.30
File::Spec 3.62
JSON 2.90
JSON::PP 2.27400
Module::Build 0.4218
Module::Signature n/a
Parse::CPAN::Meta 1.4422
Test::Harness 3.36
Test::More 1.302035
YAML 1.16
YAML::Syck 1.29
version 0.9917
--
Summary of my perl5 (revision 5 version 14 subversion 4) configuration:
Platform:
osname=linux, osvers=3.16-2-amd64, archname=x86_64-linux-thread-multi
uname='linux cyberpower2 3.16-2-amd64 #1 smp debian 3.16.3-2 (2014-09-20) x86_64 gnulinux '
config_args='-de -Dprefix=/home/njh/perl5/perlbrew/perls/perl-5.14.4 -Duseithreads -Dusemultiplicity -Dusedevel -Accflags=-O2 -W -Wformat=2 -Wswitch -Wshadow -Wwrite-strings -Wuninitialized -Wall -pipe -mtune=native -march=native -fomit-frame-pointer -msse2 -msse -mmmx -mfpmath=sse -pedantic -D_FORTIFY_SOURCE=2 -Wpointer-arith -Wstrict-prototypes -fstack-protector -Wstack-protector -Wextra -Wbad-function-cast -Wcast-align -Wcast-qual -Wdisabled-optimization -Wendif-labels -Wfloat-equal -Wformat-nonliteral -Winline -Wmissing-declarations -Wmissing-prototypes -Wnested-externs -Wpointer-arith -Wundef -Wformat-security -ftree-vectorize -fdiagnostics-color=auto -Aeval:scriptdir=/home/njh/perl5/perlbrew/perls/perl-5.14.4/bin'
hint=recommended, useposix=true, d_sigaction=define
useithreads=define, usemultiplicity=define
useperlio=define, d_sfio=undef, uselargefiles=define, usesocks=undef
use64bitint=define, use64bitall=define, uselongdouble=undef
usemymalloc=n, bincompat5005=undef
Compiler:
cc='cc', ccflags ='-D_REENTRANT -D_GNU_SOURCE -O2 -W -Wformat=2 -Wswitch -Wshadow -Wwrite-strings -Wuninitialized -Wall -pipe -mtune=native -march=native -fomit-frame-pointer -msse2 -msse -mmmx -mfpmath=sse -pedantic -D_FORTIFY_SOURCE=2 -Wpointer-arith -Wstrict-prototypes -fstack-protector -Wstack-protector -Wextra -Wbad-function-cast -Wcast-align -Wcast-qual -Wdisabled-optimization -Wendif-labels -Wfloat-equal -Wformat-nonliteral -Winline -Wmissing-declarations -Wmissing-prototypes -Wnested-externs -Wpointer-arith -Wundef -Wformat-security -ftree-vectorize -fdiagnostics-color=auto -fno-strict-aliasing -I/usr/local/include -D_LARGEFILE_SOURCE -D_FILE_OFFSET_BITS=64',
optimize='-O2',
cppflags='-D_REENTRANT -D_GNU_SOURCE -O2 -W -Wformat=2 -Wswitch -Wshadow -Wwrite-strings -Wuninitialized -Wall -pipe -mtune=native -march=native -fomit-frame-pointer -msse2 -msse -mmmx -mfpmath=sse -pedantic -D_FORTIFY_SOURCE=2 -Wpointer-arith -Wstrict-prototypes -fstack-protector -Wstack-protector -Wextra -Wbad-function-cast -Wcast-align -Wcast-qual -Wdisabled-optimization -Wendif-labels -Wfloat-equal -Wformat-nonliteral -Winline -Wmissing-declarations -Wmissing-prototypes -Wnested-externs -Wpointer-arith -Wundef -Wformat-security -ftree-vectorize -fdiagnostics-color=auto -fno-strict-aliasing -I/usr/local/include'
ccversion='', gccversion='4.9.1', gccosandvers=''
intsize=4, longsize=8, ptrsize=8, doublesize=8, byteorder=12345678
d_longlong=define, longlongsize=8, d_longdbl=define, longdblsize=16
ivtype='long', ivsize=8, nvtype='double', nvsize=8, Off_t='off_t', lseeksize=8
alignbytes=8, prototype=define
Linker and Libraries:
ld='cc', ldflags =' -fstack-protector -L/usr/local/lib'
libpth=/usr/local/lib /lib/x86_64-linux-gnu /lib/../lib /usr/lib/x86_64-linux-gnu /usr/lib/../lib /lib /usr/lib
libs=-lnsl -lgdbm -ldb -ldl -lm -lcrypt -lutil -lpthread -lc -lgdbm_compat
perllibs=-lnsl -ldl -lm -lcrypt -lutil -lpthread -lc
libc=libc-2.19.so, so=so, useshrplib=false, libperl=libperl.a
gnulibc_version='2.19'
Dynamic Linking:
dlsrc=dl_dlopen.xs, dlext=so, d_dlsymun=undef, ccdlflags='-Wl,-E'
cccdlflags='-fPIC', lddlflags='-shared -O2 -L/usr/local/lib -fstack-protector'
Characteristics of this binary (from libperl):
Compile-time options: MULTIPLICITY PERL_DONT_CREATE_GVSV
PERL_IMPLICIT_CONTEXT PERL_MALLOC_WRAP
PERL_PRESERVE_IVUV PERL_USE_DEVEL USE_64_BIT_ALL
USE_64_BIT_INT USE_ITHREADS USE_LARGE_FILES
USE_PERLIO USE_PERL_ATOF USE_REENTRANT_API
Built under linux
Compiled at Oct 15 2014 08:55:15
%ENV:
PERL5LIB="/home/njh/.cpan/build/Pod-Constants-0.19-ioCUXy/blib/arch:/home/njh/.cpan/build/Pod-Constants-0.19-ioCUXy/blib/lib:/home/njh/.cpan/build/Getopt-Long-Descriptive-0.100-UJ_UIy/blib/arch:/home/njh/.cpan/build/Getopt-Long-Descriptive-0.100-UJ_UIy/blib/lib:/home/njh/.cpan/build/Software-License-0.103012-jc9Xno/blib/arch:/home/njh/.cpan/build/Software-License-0.103012-jc9Xno/blib/lib:/home/njh/.cpan/build/Text-Template-1.46-5j2He_/blib/arch:/home/njh/.cpan/build/Text-Template-1.46-5j2He_/blib/lib:/home/njh/.cpan/build/Data-Section-0.200006-DaKLnb/blib/arch:/home/njh/.cpan/build/Data-Section-0.200006-DaKLnb/blib/lib"
PERL5OPT=""
PERL5_CPANPLUS_IS_RUNNING="21888"
PERL5_CPAN_IS_RUNNING="21888"
PERLBREW_BASHRC_VERSION="0.76"
PERLBREW_HOME="/home/njh/.perlbrew"
PERLBREW_LIB=""
PERLBREW_MANPATH="/home/njh/perl5/perlbrew/perls/perl-5.14.4/man"
PERLBREW_PATH="/home/njh/perl5/perlbrew/bin:/home/njh/perl5/perlbrew/perls/perl-5.14.4/bin"
PERLBREW_PERL="perl-5.14.4"
PERLBREW_ROOT="/home/njh/perl5/perlbrew"
PERLBREW_VERSION="0.76"
PERL_LOCAL_LIB_ROOT=""
@INC:
/home/njh/.cpan/build/Pod-Constants-0.19-ioCUXy/blib/arch
/home/njh/.cpan/build/Pod-Constants-0.19-ioCUXy/blib/lib
/home/njh/.cpan/build/Getopt-Long-Descriptive-0.100-UJ_UIy/blib/arch
/home/njh/.cpan/build/Getopt-Long-Descriptive-0.100-UJ_UIy/blib/lib
/home/njh/.cpan/build/Software-License-0.103012-jc9Xno/blib/arch
/home/njh/.cpan/build/Software-License-0.103012-jc9Xno/blib/lib
/home/njh/.cpan/build/Text-Template-1.46-5j2He_/blib/arch
/home/njh/.cpan/build/Text-Template-1.46-5j2He_/blib/lib
/home/njh/.cpan/build/Data-Section-0.200006-DaKLnb/blib/arch
/home/njh/.cpan/build/Data-Section-0.200006-DaKLnb/blib/lib
/home/njh/perl5/perlbrew/perls/perl-5.14.4/lib/site_perl/5.14.4/x86_64-linux-thread-multi
/home/njh/perl5/perlbrew/perls/perl-5.14.4/lib/site_perl/5.14.4
/home/njh/perl5/perlbrew/perls/perl-5.14.4/lib/5.14.4/x86_64-linux-thread-multi
/home/njh/perl5/perlbrew/perls/perl-5.14.4/lib/5.14.4
.