Report for Strehler-1.6.8

Back
From: metabase:user:314402c4-2aae-11df-837a-5e0a49663a4f
Subject: PASS Strehler-1.6.8 v5.23.7 GNU/Linux
Date: 2016-01-30T13:17:15Z

This distribution has been tested as part of the CPAN Testers
project, supporting the Perl programming language.  See
http://wiki.cpantesters.org/ for more information or email
questions to cpan-testers-discuss@perl.org


--
Dear Simone Fare,

This is a computer-generated report for Strehler-1.6.8
on perl 5.23.7, created by CPAN-Reporter-1.2015.

Thank you for uploading your work to CPAN.  Congratulations!
All tests were successful.

Sections of this report:

    * Tester comments
    * Program output
    * Prerequisites
    * Environment and other context

------------------------------
TESTER COMMENTS
------------------------------

Additional comments from tester:

none provided

------------------------------
PROGRAM OUTPUT
------------------------------

Output from '/usr/bin/make test':

PERL_DL_NONLAZY=1 "/bbbike/perl-5.23.7/bin/perl5.23.7" "-MExtUtils::Command::MM" "-MTest::Harness" "-e" "undef *Test::Harness::Switches; test_harness(0, 'blib/lib', 'blib/arch')" t/*.t
t/001_login.t ........ ok
t/002_permissions.t .. ok
t/004_categories.t ... ok
t/005_articles.t ..... ok
t/006_frontend.t ..... ok
t/007_images.t ....... ok
t/008_tags.t ......... ok
t/009_extra.t ........ ok
t/010_api.t .......... ok
t/011_ex.t ........... ok
t/012_users.t ........ ok
t/013_dashboard.t .... ok
t/author-critic.t .... skipped: these tests are for testing by the author
All tests successful.
Files=13, Tests=140, 24 wallclock secs ( 0.05 usr  0.06 sys + 19.90 cusr  1.88 csys = 21.89 CPU)
Result: PASS

------------------------------
PREREQUISITES
------------------------------

Prerequisite modules loaded:

requires:

    Module                               Need     Have    
    ------------------------------------ -------- --------
    Authen::Passphrase::BlowfishCrypt    0        0.008   
    Carp                                 0        1.38    
    Cwd                                  0        3.62    
    Dancer2                              0.166001 0.166001
    Dancer2::Core::App                   0        0.166001
    Dancer2::Core::Runner                0        0.166001
    Dancer2::Plugin                      0        0.166001
    Dancer2::Plugin::Ajax                0        0.200001
    Dancer2::Plugin::DBIC                0        0.0011  
    Dancer2::Serializer::JSON            0        0.166001
    DateTime::Format::SQLite             0        0.11    
    DateTime::Format::Strptime           0        1.63    
    DBI                                  0        1.634   
    DBIx::Class::Core                    0        0       
    DBIx::Class::Schema                  0        0       
    DBIx::Class::Schema::Loader          0        0.07045 
    DBIx::Class::TimeStamp               0        0.14    
    File::Copy                           0        2.30    
    File::Copy::Recursive                0        0.38    
    File::Path                           0        2.12    
    HTML::FormFu                         1.00     2.01    
    HTML::FormFu::Element::Block         0        2.01    
    HTML::FormFu::Element::Fieldset      0        2.01    
    HTML::FormFu::Element::Label         0        2.01    
    HTML::FormFu::Element::Select        0        2.01    
    HTML::FormFu::Element::Text          0        2.01    
    HTML::FormFu::Validator              0        2.01    
    IO::Prompt                           0        0.997003
    Lingua::EN::Inflect                  0        1.899   
    Module::Load                         0        0.32    
    Moo                                  0        2.000002
    Moo::Role                            0        2.000002
    Moose                                0        2.1604  
    SQL::Translator                      0        0.11021 
    SQL::Translator::Parser::DBIx::Class 0        1.10    
    Term::ReadKey                        0        2.33    
    Text::Unidecode                      0        1.27    
    Time::localtime                      0        1.02    
    Try::Tiny                            0        0.24    
    Unicode::Normalize                   0        1.25    
    YAML::XS                             0        0.59    

build_requires:

    Module                               Need     Have    
    ------------------------------------ -------- --------
    ExtUtils::MakeMaker                  0        7.10    
    FindBin                              0        1.51    
    HTTP::Cookies                        0        6.01    
    HTTP::Request                        0        6.11    
    HTTP::Request::Common                0        6.11    
    JSON                                 0        2.90    
    Plack::Builder                       0        0       
    Plack::Test                          0        0       
    Test::More                           0        1.001014

configure_requires:

    Module                               Need     Have    
    ------------------------------------ -------- --------
    ExtUtils::MakeMaker                  0        7.10    


------------------------------
ENVIRONMENT AND OTHER CONTEXT
------------------------------

Environment variables:

    LANG = C
    LC_ALL = de_DE.UTF-8
    PATH = /usr/local/bin:/usr/bin:/bin:/usr/local/sbin:/usr/sbin:/sbin:/home/eserte/bin/linux-gnu:/home/eserte/bin/sh:/home/eserte/bin:/usr/games:/home/eserte/devel:/home/eserte/src/srezic-misc/scripts
    PERL5LIB = 
    PERL5OPT = 
    PERL5_CPANPLUS_IS_RUNNING = 23964
    PERL5_CPAN_IS_RUNNING = 23964
    PERL5_CPAN_IS_RUNNING_IN_RECURSION = 23764,23964
    PERLDOC = -MPod::Perldoc::ToTextOverstrike
    PERL_BATCH = yes
    PERL_CANARY_STABILITY_NOPROMPT = 1
    PERL_CPAN_REPORTER_CONFIG = /var/tmp/cpansmoker-1001/2016013012/cpanreporter_000_config.ini
    PERL_EXTUTILS_AUTOINSTALL = --defaultdeps
    PERL_PARALLEL_SMOKER = yes
    SHELL = /bin/zsh
    TERM = screen
    TMPDIR = /var/tmp/cpansmoker-1001/2016013012

Perl special variables (and OS-specific diagnostics, for MSWin32):

    $^X = /bbbike/perl-5.23.7/bin/perl5.23.7
    $UID/$EUID = 1001 / 1001
    $GID = 1001 109 1001
    $EGID = 1001 109 1001

Perl module toolchain versions installed:

    Module              Have    
    ------------------- --------
    CPAN                2.11    
    CPAN::Meta          2.150005
    Cwd                 3.62    
    ExtUtils::CBuilder  0.280224
    ExtUtils::Command   7.10    
    ExtUtils::Install   2.04    
    ExtUtils::MakeMaker 7.10    
    ExtUtils::Manifest  1.70    
    ExtUtils::ParseXS   3.30    
    File::Spec          3.62    
    JSON                2.90    
    JSON::PP            2.27300 
    Module::Build       0.4216  
    Module::Signature   0.79    
    Parse::CPAN::Meta   1.4417  
    Test::Harness       3.36    
    Test::More          1.001014
    YAML                1.15    
    YAML::Syck          1.29    
    version             0.9912  


--

Summary of my perl5 (revision 5 version 23 subversion 7) configuration:
   
  Platform:
    osname=linux, osvers=3.2.0-4-amd64, archname=x86_64-linux
    uname='linux eserte 3.2.0-4-amd64 #1 smp debian 3.2.73-2+deb7u2 x86_64 gnulinux '
    config_args='-ds -e -Dprefix=/opt/perl-5.23.7 -Dusedevel -Dusemallocwrap=no -Dcf_email=srezic@cpan.org'
    hint=recommended, useposix=true, d_sigaction=define
    useithreads=undef, usemultiplicity=undef
    use64bitint=define, use64bitall=define, uselongdouble=undef
    usemymalloc=n, bincompat5005=undef
  Compiler:
    cc='cc', ccflags ='-fwrapv -fno-strict-aliasing -pipe -fstack-protector -I/usr/local/include -D_LARGEFILE_SOURCE -D_FILE_OFFSET_BITS=64 -D_FORTIFY_SOURCE=2',
    optimize='-O2',
    cppflags='-fwrapv -fno-strict-aliasing -pipe -fstack-protector -I/usr/local/include'
    ccversion='', gccversion='4.7.2', gccosandvers=''
    intsize=4, longsize=8, ptrsize=8, doublesize=8, byteorder=12345678, doublekind=3
    d_longlong=define, longlongsize=8, d_longdbl=define, longdblsize=16, longdblkind=3
    ivtype='long', ivsize=8, nvtype='double', nvsize=8, Off_t='off_t', lseeksize=8
    alignbytes=8, prototype=define
  Linker and Libraries:
    ld='cc', ldflags =' -fstack-protector -L/usr/local/lib'
    libpth=/usr/local/lib /usr/lib/gcc/x86_64-linux-gnu/4.7/include-fixed /usr/include/x86_64-linux-gnu /usr/lib /lib/x86_64-linux-gnu /lib/../lib /usr/lib/x86_64-linux-gnu /usr/lib/../lib /lib
    libs=-lpthread -lnsl -ldb -ldl -lm -lcrypt -lutil -lc
    perllibs=-lpthread -lnsl -ldl -lm -lcrypt -lutil -lc
    libc=libc-2.13.so, so=so, useshrplib=false, libperl=libperl.a
    gnulibc_version='2.13'
  Dynamic Linking:
    dlsrc=dl_dlopen.xs, dlext=so, d_dlsymun=undef, ccdlflags='-Wl,-E'
    cccdlflags='-fPIC', lddlflags='-shared -O2 -L/usr/local/lib -fstack-protector'


Characteristics of this binary (from libperl): 
  Compile-time options: HAS_TIMES PERLIO_LAYERS PERL_COPY_ON_WRITE
                        PERL_DONT_CREATE_GVSV
                        PERL_HASH_FUNC_ONE_AT_A_TIME_HARD PERL_PRESERVE_IVUV
                        PERL_USE_DEVEL USE_64_BIT_ALL USE_64_BIT_INT
                        USE_LARGE_FILES USE_LOCALE USE_LOCALE_COLLATE
                        USE_LOCALE_CTYPE USE_LOCALE_NUMERIC USE_LOCALE_TIME
                        USE_PERLIO USE_PERL_ATOF
  Built under linux
  Compiled at Jan 20 2016 22:05:18
  %ENV:
    PERL5LIB=""
    PERL5OPT=""
    PERL5_CPANPLUS_IS_RUNNING="23964"
    PERL5_CPAN_IS_RUNNING="23964"
    PERL5_CPAN_IS_RUNNING_IN_RECURSION="23764,23964"
    PERLDOC="-MPod::Perldoc::ToTextOverstrike"
    PERL_BATCH="yes"
    PERL_CANARY_STABILITY_NOPROMPT="1"
    PERL_CPAN_REPORTER_CONFIG="/var/tmp/cpansmoker-1001/2016013012/cpanreporter_000_config.ini"
    PERL_EXTUTILS_AUTOINSTALL="--defaultdeps"
    PERL_PARALLEL_SMOKER="yes"
  @INC:
    /opt/perl-5.23.7/lib/site_perl/5.23.7/x86_64-linux
    /opt/perl-5.23.7/lib/site_perl/5.23.7
    /opt/perl-5.23.7/lib/5.23.7/x86_64-linux
    /opt/perl-5.23.7/lib/5.23.7
    .