Config-IOD v0.353 Perl 5 v5.40.0 x86_64-linux

Status
Pass
From
Slaven Rezić
Dist
Config-IOD v0.353
Platform
Perl 5 v5.40.0 x86_64-linux
Date
2025-07-28 16:34:50
ID
c811befc-6bd0-11f0-8abd-e4266e8775ea
This distribution has been tested as part of the CPAN Testers
project, supporting the Perl programming language.  See
http://wiki.cpantesters.org/ for more information or email
questions to cpan-testers-discuss@perl.org


--
Dear perlancar,

This is a computer-generated report for Config-IOD-0.353
on perl 5.40.0, created by CPAN-Reporter-1.2019.

Thank you for uploading your work to CPAN.  Congratulations!
All tests were successful.

Sections of this report:

    * Tester comments
    * Program output
    * Prerequisites
    * Environment and other context

------------------------------
TESTER COMMENTS
------------------------------

Additional comments from tester:

none provided

------------------------------
PROGRAM OUTPUT
------------------------------

Output from '/usr/bin/make test':

PERL_DL_NONLAZY=1 "/opt/perl-5.40.0/bin/perl" "-MExtUtils::Command::MM" "-MTest::Harness" "-e" "undef *Test::Harness::Switches; test_harness(0, 'blib/lib', 'blib/arch')" t/*.t
t/00-compile.t ........... ok
t/01-common.t ............ ok
t/author-critic.t ........ skipped: these tests are for testing by the author
t/author-pod-coverage.t .. skipped: these tests are for testing by the author
t/author-pod-syntax.t .... skipped: these tests are for testing by the author
t/delete_key.t ........... ok
t/delete_section.t ....... ok
t/dump.t ................. ok
t/each_key.t ............. ok
t/each_section.t ......... ok
t/empty.t ................ ok
t/encoding_path.t ........ ok
t/get_value.t ............ ok
t/insert_key.t ........... ok
t/insert_section.t ....... ok
t/list_keys.t ............ ok
t/list_sections.t ........ ok
t/set_value.t ............ ok
# .IOD files are at /var/tmp/cpansmoker-1023/2025072800/cTsaVqUnCE
# [
#   '/var/tmp/cpansmoker-1023/2025072800/cTsaVqUnCE/examples/comment.iod',
#   '/var/tmp/cpansmoker-1023/2025072800/cTsaVqUnCE/examples/dir-include-child.iod',
#   '/var/tmp/cpansmoker-1023/2025072800/cTsaVqUnCE/examples/dir-include.iod',
#   '/var/tmp/cpansmoker-1023/2025072800/cTsaVqUnCE/examples/dir-include2.iod',
#   '/var/tmp/cpansmoker-1023/2025072800/cTsaVqUnCE/examples/dir-merge-self.iod',
#   '/var/tmp/cpansmoker-1023/2025072800/cTsaVqUnCE/examples/dir-merge.iod',
#   '/var/tmp/cpansmoker-1023/2025072800/cTsaVqUnCE/examples/dir-merge2.iod',
#   '/var/tmp/cpansmoker-1023/2025072800/cTsaVqUnCE/examples/dirsyntax.iod',
#   '/var/tmp/cpansmoker-1023/2025072800/cTsaVqUnCE/examples/empty-section.iod',
#   '/var/tmp/cpansmoker-1023/2025072800/cTsaVqUnCE/examples/empty.iod',
#   '/var/tmp/cpansmoker-1023/2025072800/cTsaVqUnCE/examples/encoding-base64.iod',
#   '/var/tmp/cpansmoker-1023/2025072800/cTsaVqUnCE/examples/encoding-hex.iod',
#   '/var/tmp/cpansmoker-1023/2025072800/cTsaVqUnCE/examples/encoding-json-multi.iod',
#   '/var/tmp/cpansmoker-1023/2025072800/cTsaVqUnCE/examples/encoding-json.iod',
#   '/var/tmp/cpansmoker-1023/2025072800/cTsaVqUnCE/examples/encoding-none.iod',
#   '/var/tmp/cpansmoker-1023/2025072800/cTsaVqUnCE/examples/extra-bench-basic-compat.iod',
#   '/var/tmp/cpansmoker-1023/2025072800/cTsaVqUnCE/examples/extra-bench-basic.iod',
#   '/var/tmp/cpansmoker-1023/2025072800/cTsaVqUnCE/examples/extra-bench-typical1.iod',
#   '/var/tmp/cpansmoker-1023/2025072800/cTsaVqUnCE/examples/invalid-dir-args.iod',
#   '/var/tmp/cpansmoker-1023/2025072800/cTsaVqUnCE/examples/invalid-dir-include-nofile.iod',
#   '/var/tmp/cpansmoker-1023/2025072800/cTsaVqUnCE/examples/invalid-dir-include-notfound.iod',
#   '/var/tmp/cpansmoker-1023/2025072800/cTsaVqUnCE/examples/invalid-dir-include-recursive.iod',
#   '/var/tmp/cpansmoker-1023/2025072800/cTsaVqUnCE/examples/invalid-dir-unknown.iod',
#   '/var/tmp/cpansmoker-1023/2025072800/cTsaVqUnCE/examples/invalid-directive-unknown.iod',
#   '/var/tmp/cpansmoker-1023/2025072800/cTsaVqUnCE/examples/invalid-encoding-json.iod',
#   '/var/tmp/cpansmoker-1023/2025072800/cTsaVqUnCE/examples/invalid-encoding-unknown.iod',
#   '/var/tmp/cpansmoker-1023/2025072800/cTsaVqUnCE/examples/invalid-key-emptyname.iod',
#   '/var/tmp/cpansmoker-1023/2025072800/cTsaVqUnCE/examples/invalid-key-noassign.iod',
#   '/var/tmp/cpansmoker-1023/2025072800/cTsaVqUnCE/examples/invalid-section.iod',
#   '/var/tmp/cpansmoker-1023/2025072800/cTsaVqUnCE/examples/key.iod',
#   '/var/tmp/cpansmoker-1023/2025072800/cTsaVqUnCE/examples/multisection.iod',
#   '/var/tmp/cpansmoker-1023/2025072800/cTsaVqUnCE/examples/multival.iod',
#   '/var/tmp/cpansmoker-1023/2025072800/cTsaVqUnCE/examples/nested-section.iod',
#   '/var/tmp/cpansmoker-1023/2025072800/cTsaVqUnCE/examples/nested-section2.iod',
#   '/var/tmp/cpansmoker-1023/2025072800/cTsaVqUnCE/examples/nosection.iod',
#   '/var/tmp/cpansmoker-1023/2025072800/cTsaVqUnCE/examples/section.iod',
#   '/var/tmp/cpansmoker-1023/2025072800/cTsaVqUnCE/examples/simple.iod',
#   '/var/tmp/cpansmoker-1023/2025072800/cTsaVqUnCE/examples/whitespace.iod',
#   '/var/tmp/cpansmoker-1023/2025072800/cTsaVqUnCE/examples/expr/encoding-expr-var.iod',
#   '/var/tmp/cpansmoker-1023/2025072800/cTsaVqUnCE/examples/expr/encoding-expr.iod'
# ]
t/spec.t ................. ok
All tests successful.
Files=19, Tests=83,  2 wallclock secs ( 0.08 usr  0.03 sys +  1.11 cusr  0.25 csys =  1.47 CPU)
Result: PASS

------------------------------
PREREQUISITES
------------------------------

Prerequisite modules loaded:

requires:

    Module                    Need     Have    
    ------------------------- -------- --------
    Config::IOD::Base         0.344    0.345   
    constant                  0        1.33    
    Exporter                  5.57     5.78    
    overload                  0        1.37    
    parent                    0        0.241   
    perl                      5.010001 5.040000
    strict                    0        1.13    
    Test::Differences         0        0.71    
    Test::Exception           0        0.43    
    Test::More                0.98     1.302211
    warnings                  0        1.70    

build_requires:

    Module                    Need     Have    
    ------------------------- -------- --------
    ExtUtils::MakeMaker       0        7.70    
    File::ShareDir::Tarball   0        0.2.2   
    File::Slurper             0        0.014   
    File::Spec                0        3.90    
    File::Temp                0.2307   0.2311  
    IO::Handle                0        1.55    
    IOD::Examples             0.201    0.201   
    IPC::Open3                0        1.22    
    Test::Config::IOD::Common 0        0.345   
    Test::More                0.98     1.302211

configure_requires:

    Module                    Need     Have    
    ------------------------- -------- --------
    ExtUtils::MakeMaker       0        7.70    


------------------------------
ENVIRONMENT AND OTHER CONTEXT
------------------------------

Environment variables:

    LANG = en_US.UTF-8
    PATH = /usr/local/bin:/usr/bin:/bin:/usr/local/sbin:/usr/sbin:/sbin:/home/cpansand/bin/linux-gnu:/home/cpansand/bin/sh:/home/cpansand/bin:/usr/games:/home/cpansand/devel:/home/eserte/src/srezic-misc/scripts
    PERL5LIB = 
    PERL5OPT = 
    PERL5_CPANPLUS_IS_RUNNING = 258675
    PERL5_CPAN_IS_RUNNING = 258675
    PERL5_CPAN_IS_RUNNING_IN_RECURSION = 257542,258675
    PERLDOC = -MPod::Perldoc::ToTextOverstrike
    PERL_BATCH = yes
    PERL_CANARY_STABILITY_NOPROMPT = 1
    PERL_CPAN_REPORTER_CONFIG = /var/tmp/cpansmoker-1023/2025072800/cpanreporter_000_config.ini
    PERL_EXTUTILS_AUTOINSTALL = --defaultdeps
    PERL_USE_UNSAFE_INC = 1
    SHELL = /usr/bin/zsh
    TERM = screen
    TMPDIR = /var/tmp/cpansmoker-1023/2025072800

Perl special variables (and OS-specific diagnostics, for MSWin32):

    $^X = /opt/perl-5.40.0/bin/perl
    $UID/$EUID = 1023 / 1023
    $GID = 1023 1023
    $EGID = 1023 1023

Perl module toolchain versions installed:

    Module              Have    
    ------------------- --------
    CPAN                2.37    
    CPAN::Meta          2.150010
    Cwd                 3.90    
    ExtUtils::CBuilder  0.280240
    ExtUtils::Command   7.70    
    ExtUtils::Install   2.22    
    ExtUtils::MakeMaker 7.70    
    ExtUtils::Manifest  1.75    
    ExtUtils::ParseXS   3.58    
    File::Spec          3.90    
    JSON                4.10    
    JSON::PP            4.16    
    Module::Build       0.4234  
    Module::Signature   n/a     
    Parse::CPAN::Meta   2.150010
    Test2               1.302211
    Test::Harness       3.50    
    Test::More          1.302211
    YAML                1.31    
    YAML::Syck          1.34    
    version             0.9930  


--

Summary of my perl5 (revision 5 version 40 subversion 0) configuration:
   
  Platform:
    osname=linux
    osvers=5.14.0-427.24.1.el9_4.x86_64
    archname=x86_64-linux
    uname='linux rockylinux9-2gb-ash-1-cloud3.cloud 5.14.0-427.24.1.el9_4.x86_64 #1 smp preempt_dynamic mon jul 8 17:47:19 utc 2024 x86_64 x86_64 x86_64 gnulinux '
    config_args='-ds -e -Dprefix=/opt/perl-5.40.0 -Uinstallusrbinperl -Dcf_email=srezic@cpan.org'
    hint=recommended
    useposix=true
    d_sigaction=define
    useithreads=undef
    usemultiplicity=undef
    use64bitint=define
    use64bitall=define
    uselongdouble=undef
    usemymalloc=n
    default_inc_excludes_dot=define
  Compiler:
    cc='cc'
    ccflags ='-fwrapv -fno-strict-aliasing -pipe -fstack-protector-strong -I/usr/local/include -D_LARGEFILE_SOURCE -D_FILE_OFFSET_BITS=64 -D_FORTIFY_SOURCE=2'
    optimize='-O2'
    cppflags='-fwrapv -fno-strict-aliasing -pipe -fstack-protector-strong -I/usr/local/include'
    ccversion=''
    gccversion='11.4.1 20231218 (Red Hat 11.4.1-3)'
    gccosandvers=''
    intsize=4
    longsize=8
    ptrsize=8
    doublesize=8
    byteorder=12345678
    doublekind=3
    d_longlong=define
    longlongsize=8
    d_longdbl=define
    longdblsize=16
    longdblkind=3
    ivtype='long'
    ivsize=8
    nvtype='double'
    nvsize=8
    Off_t='off_t'
    lseeksize=8
    alignbytes=8
    prototype=define
  Linker and Libraries:
    ld='cc'
    ldflags =' -fstack-protector-strong -L/usr/local/lib'
    libpth=/usr/local/lib /usr/lib /usr/lib64 /usr/local/lib64
    libs=-lpthread -ldb -ldl -lm -lcrypt -lutil -lc
    perllibs=-lpthread -ldl -lm -lcrypt -lutil -lc
    libc=/lib/../lib64/libc.so.6
    so=so
    useshrplib=false
    libperl=libperl.a
    gnulibc_version='2.34'
  Dynamic Linking:
    dlsrc=dl_dlopen.xs
    dlext=so
    d_dlsymun=undef
    ccdlflags='-Wl,-E'
    cccdlflags='-fPIC'
    lddlflags='-shared -O2 -L/usr/local/lib -fstack-protector-strong'


Characteristics of this binary (from libperl): 
  Compile-time options:
    HAS_LONG_DOUBLE
    HAS_STRTOLD
    HAS_TIMES
    PERLIO_LAYERS
    PERL_COPY_ON_WRITE
    PERL_DONT_CREATE_GVSV
    PERL_HASH_FUNC_SIPHASH13
    PERL_HASH_USE_SBOX32
    PERL_MALLOC_WRAP
    PERL_OP_PARENT
    PERL_PRESERVE_IVUV
    PERL_USE_SAFE_PUTENV
    USE_64_BIT_ALL
    USE_64_BIT_INT
    USE_LARGE_FILES
    USE_LOCALE
    USE_LOCALE_COLLATE
    USE_LOCALE_CTYPE
    USE_LOCALE_NUMERIC
    USE_LOCALE_TIME
    USE_PERLIO
    USE_PERL_ATOF
  Built under linux
  Compiled at Jul 13 2024 17:20:22
  %ENV:
    PERL5LIB=""
    PERL5OPT=""
    PERL5_CPANPLUS_IS_RUNNING="258675"
    PERL5_CPAN_IS_RUNNING="258675"
    PERL5_CPAN_IS_RUNNING_IN_RECURSION="257542,258675"
    PERLDOC="-MPod::Perldoc::ToTextOverstrike"
    PERL_BATCH="yes"
    PERL_CANARY_STABILITY_NOPROMPT="1"
    PERL_CPAN_REPORTER_CONFIG="/var/tmp/cpansmoker-1023/2025072800/cpanreporter_000_config.ini"
    PERL_EXTUTILS_AUTOINSTALL="--defaultdeps"
    PERL_USE_UNSAFE_INC="1"
  @INC:
    /opt/perl-5.40.0/lib/site_perl/5.40.0/x86_64-linux
    /opt/perl-5.40.0/lib/site_perl/5.40.0
    /opt/perl-5.40.0/lib/5.40.0/x86_64-linux
    /opt/perl-5.40.0/lib/5.40.0
    .