File-ByLine v1.192590 Perl 5 v5.24.3 x86_64-linux-thread-multi-ld

Status
Pass
From
Andreas J. König (ANDK)
Dist
File-ByLine v1.192590
Platform
Perl 5 v5.24.3 x86_64-linux-thread-multi-ld
Date
2019-09-16 01:53:29
ID
c8066a66-d824-11e9-b6db-a1bf50df33b6
This distribution has been tested as part of the CPAN Testers
project, supporting the Perl programming language.  See
http://wiki.cpantesters.org/ for more information or email
questions to cpan-testers-discuss@perl.org


--
Dear Joelle Maslak,

This is a computer-generated report for File-ByLine-1.192590
on perl 5.24.3, created by CPAN-Reporter-1.2018.

Thank you for uploading your work to CPAN.  Congratulations!
All tests were successful.

Sections of this report:

    * Tester comments
    * Program output
    * Prerequisites
    * Environment and other context

------------------------------
TESTER COMMENTS
------------------------------

Additional comments from tester:

this report is from an automated smoke testing program
and was not reviewed by a human for accuracy

------------------------------
PROGRAM OUTPUT
------------------------------

Output from '/usr/bin/make test':

PERL_DL_NONLAZY=1 "/home/sand/src/perl/repoperls/installed-perls/host/k93msid/v5.24.3/8854/bin/perl" "-MExtUtils::Command::MM" "-MTest::Harness" "-e" "undef *Test::Harness::Switches; test_harness(0, 'blib/lib', 'blib/arch')" t/*.t
t/00-load.t ...................... ok
# 
# Versions for all modules listed in MYMETA.json (including optional ones):
# 
# === Configure Requires ===
# 
#     Module              Want    Have
#     ------------------- ---- -------
#     ExtUtils::MakeMaker  any 7.37_04
# 
# === Build Requires ===
# 
#     Module              Want Have
#     ------------------- ---- ----
#     Test::UseAllModules 0.17 0.17
# 
# === Test Requires ===
# 
#     Module                 Want     Have
#     ---------------------- ---- --------
#     ExtUtils::MakeMaker     any  7.37_04
#     File::Spec              any     3.75
#     File::Temp              any   0.2309
#     Test2::Require::Module  any 0.000126
#     Test2::V0               any 0.000126
#     Test::More              any 1.302167
#     Test::UseAllModules    0.17     0.17
#     overload                any     1.26
# 
# === Test Recommends ===
# 
#     Module         Want     Have
#     ---------- -------- --------
#     CPAN::Meta 2.120900 2.150010
# 
# === Runtime Requires ===
# 
#     Module       Want Have
#     ------------ ---- ----
#     Carp          any 1.50
#     Exporter      any 5.73
#     Fcntl         any 1.13
#     Scalar::Util  any 1.50
#     autodie       any 2.29
#     strict        any 1.11
#     warnings      any 1.36
# 
# === Runtime Recommends ===
# 
#     Module                 Want     Have
#     ------------------ -------- --------
#     Parallel::WorkUnit 2.181850 2.191820
# 
t/00-report-prereqs.t ............ ok
t/01-Basic.t ..................... ok
    # PDL 1: /tmp/bnaTAh24od
    # PDL 2: /tmp/WvsmwTm6eZ
    # PDL 3: /tmp/qj0blSuTOw
t/02-Parallel.t .................. ok
t/03-construction.t .............. ok
t/04-attributes.t ................ ok
t/05-write-file.t ................ ok
t/06-append-file.t ............... ok
t/20-github-0005.t ............... ok
t/99-bug-zero-length-parallel.t .. ok
t/author-critic.t ................ skipped: these tests are for testing by the author
t/author-eol.t ................... skipped: these tests are for testing by the author
t/author-no-tabs.t ............... skipped: these tests are for testing by the author
t/author-pod-syntax.t ............ skipped: these tests are for testing by the author
t/author-test-version.t .......... skipped: these tests are for testing by the author
t/release-changes_has_content.t .. skipped: these tests are for release candidate testing
t/release-kwalitee.t ............. skipped: these tests are for release candidate testing
t/release-trailing-space.t ....... skipped: these tests are for release candidate testing
t/release-unused-vars.t .......... skipped: these tests are for release candidate testing
All tests successful.
Files=19, Tests=73, 11 wallclock secs ( 0.06 usr  0.10 sys +  1.87 cusr  1.70 csys =  3.73 CPU)
Result: PASS

------------------------------
PREREQUISITES
------------------------------

Prerequisite modules loaded:

requires:

    Module                 Need     Have    
    ---------------------- -------- --------
    autodie                0        2.29    
    Carp                   0        1.50    
    Exporter               0        5.73    
    Fcntl                  0        1.13    
    perl                   5.010000 5.024003
    Scalar::Util           0        1.50    
    strict                 0        1.11    
    warnings               0        1.36    

build_requires:

    Module                 Need     Have    
    ---------------------- -------- --------
    ExtUtils::MakeMaker    0        7.37_04 
    File::Spec             0        3.75    
    File::Temp             0        0.2309  
    overload               0        1.26    
    Test2::Require::Module 0        0.000126
    Test2::V0              0        0.000126
    Test::More             0        1.302167
    Test::UseAllModules    0.17     0.17    

configure_requires:

    Module                 Need     Have    
    ---------------------- -------- --------
    ExtUtils::MakeMaker    0        7.37_04 

opt_requires:

    Module                 Need     Have    
    ---------------------- -------- --------
    Parallel::WorkUnit     2.181850 2.191820


------------------------------
ENVIRONMENT AND OTHER CONTEXT
------------------------------

Environment variables:

    AUTOMATED_TESTING = 1
    LANG = en_US.UTF-8
    PATH = /home/sand/bin:/usr/local/bin:/usr/bin:/bin:/usr/games:/usr/local/perl/bin:/usr/X11/bin:/sbin:/usr/sbin
    PERL5LIB = 
    PERL5OPT = 
    PERL5_CPANPLUS_IS_RUNNING = 20517
    PERL5_CPAN_IS_RUNNING = 20517
    PERL_CANARY_STABILITY_NOPROMPT = 1
    PERL_MM_USE_DEFAULT = 1
    PERL_USE_UNSAFE_INC = 1
    SHELL = /usr/bin/zsh
    TERM = screen

Perl special variables (and OS-specific diagnostics, for MSWin32):

    $^X = /home/sand/src/perl/repoperls/installed-perls/host/k93msid/v5.24.3/8854/bin/perl
    $UID/$EUID = 1005 / 1005
    $GID = 1005 1005
    $EGID = 1005 1005

Perl module toolchain versions installed:

    Module              Have    
    ------------------- --------
    CPAN                2.27    
    CPAN::Meta          2.150010
    Cwd                 3.75    
    ExtUtils::CBuilder  0.280231
    ExtUtils::Command   7.37_04 
    ExtUtils::Install   2.06    
    ExtUtils::MakeMaker 7.37_04 
    ExtUtils::Manifest  1.72    
    ExtUtils::ParseXS   3.35    
    File::Spec          3.75    
    JSON                4.02    
    JSON::PP            4.04    
    Module::Build       0.4229  
    Module::Signature   0.83    
    Parse::CPAN::Meta   2.150010
    Test::Harness       3.42    
    Test::More          1.302167
    YAML                1.29    
    YAML::Syck          1.31    
    version             0.9924  


--

Summary of my perl5 (revision 5 version 24 subversion 3) configuration:
  Derived from: 9f1d3884c227a955e9ecaaadba4cba3280c47e3a
  Platform:
    osname=linux, osvers=4.18.0-2-amd64, archname=x86_64-linux-thread-multi-ld
    uname='linux k93msid 4.18.0-2-amd64 #1 smp debian 4.18.10-2 (2018-10-07) x86_64 gnulinux '
    config_args='-Dprefix=/home/sand/src/perl/repoperls/installed-perls/host/k93msid/v5.24.3/8854 -Dmyhostname=k93msid -Dinstallusrbinperl=n -Uversiononly -Dusedevel -des -Ui_db -Dlibswanted=cl pthread socket inet nsl gdbm dbm malloc dl ld sun m crypt sec util c cposix posix ucb BSD gdbm_compat -Duseithreads -Duselongdouble -DEBUGGING=-g'
    hint=recommended, useposix=true, d_sigaction=define
    useithreads=define, usemultiplicity=define
    use64bitint=define, use64bitall=define, uselongdouble=define
    usemymalloc=n, bincompat5005=undef
  Compiler:
    cc='cc', ccflags ='-D_REENTRANT -D_GNU_SOURCE -fwrapv -fno-strict-aliasing -pipe -fstack-protector-strong -I/usr/local/include -D_LARGEFILE_SOURCE -D_FILE_OFFSET_BITS=64',
    optimize='-O2 -g',
    cppflags='-D_REENTRANT -D_GNU_SOURCE -fwrapv -fno-strict-aliasing -pipe -fstack-protector-strong -I/usr/local/include'
    ccversion='', gccversion='8.2.0', gccosandvers=''
    intsize=4, longsize=8, ptrsize=8, doublesize=8, byteorder=12345678, doublekind=3
    d_longlong=define, longlongsize=8, d_longdbl=define, longdblsize=16, longdblkind=3
    ivtype='long', ivsize=8, nvtype='long double', nvsize=16, Off_t='off_t', lseeksize=8
    alignbytes=16, prototype=define
  Linker and Libraries:
    ld='cc', ldflags =' -fstack-protector-strong -L/usr/local/lib'
    libpth=/usr/local/lib /usr/lib/gcc/x86_64-linux-gnu/8/include-fixed /usr/include/x86_64-linux-gnu /usr/lib /lib/x86_64-linux-gnu /lib/../lib /usr/lib/x86_64-linux-gnu /usr/lib/../lib /lib
    libs=-lpthread -lnsl -ldl -lm -lcrypt -lutil -lc
    perllibs=-lpthread -lnsl -ldl -lm -lcrypt -lutil -lc
    libc=libc-2.27.so, so=so, useshrplib=false, libperl=libperl.a
    gnulibc_version='2.27'
  Dynamic Linking:
    dlsrc=dl_dlopen.xs, dlext=so, d_dlsymun=undef, ccdlflags='-Wl,-E'
    cccdlflags='-fPIC', lddlflags='-shared -O2 -g -L/usr/local/lib -fstack-protector-strong'


Characteristics of this binary (from libperl): 
  Compile-time options: HAS_TIMES MULTIPLICITY PERLIO_LAYERS
                        PERL_COPY_ON_WRITE PERL_DONT_CREATE_GVSV
                        PERL_HASH_FUNC_ONE_AT_A_TIME_HARD
                        PERL_IMPLICIT_CONTEXT PERL_MALLOC_WRAP
                        PERL_PRESERVE_IVUV PERL_USE_DEVEL USE_64_BIT_ALL
                        USE_64_BIT_INT USE_ITHREADS USE_LARGE_FILES
                        USE_LOCALE USE_LOCALE_COLLATE USE_LOCALE_CTYPE
                        USE_LOCALE_NUMERIC USE_LOCALE_TIME USE_LONG_DOUBLE
                        USE_PERLIO USE_PERL_ATOF USE_REENTRANT_API
  Locally applied patches:
	uncommitted-changes
  Built under linux
  Compiled at Oct 28 2018 07:56:58
  %ENV:
    PERL5LIB=""
    PERL5OPT=""
    PERL5_CPANPLUS_IS_RUNNING="20517"
    PERL5_CPAN_IS_RUNNING="20517"
    PERL_CANARY_STABILITY_NOPROMPT="1"
    PERL_MM_USE_DEFAULT="1"
    PERL_USE_UNSAFE_INC="1"
  @INC:
    /home/sand/src/perl/repoperls/installed-perls/host/k93msid/v5.24.3/8854/lib/site_perl/5.24.3/x86_64-linux-thread-multi-ld
    /home/sand/src/perl/repoperls/installed-perls/host/k93msid/v5.24.3/8854/lib/site_perl/5.24.3
    /home/sand/src/perl/repoperls/installed-perls/host/k93msid/v5.24.3/8854/lib/5.24.3/x86_64-linux-thread-multi-ld
    /home/sand/src/perl/repoperls/installed-perls/host/k93msid/v5.24.3/8854/lib/5.24.3
    .