DateTime-Format-Strptime v1.79 Perl 5 v5.28.3 arm64-freebsd

Status
Pass
From
Slaven Rezić
Dist
DateTime-Format-Strptime v1.79
Platform
Perl 5 v5.28.3 arm64-freebsd
Date
2023-12-28 00:05:16
ID
c7eba8f4-a514-11ee-9007-1f366e8775ea
This distribution has been tested as part of the CPAN Testers
project, supporting the Perl programming language.  See
http://wiki.cpantesters.org/ for more information or email
questions to cpan-testers-discuss@perl.org


--
Dear Dave Rolsky,

This is a computer-generated report for DateTime-Format-Strptime-1.79
on perl 5.28.3, created by CPAN-Reporter-1.2019.

Thank you for uploading your work to CPAN.  Congratulations!
All tests were successful.

Sections of this report:

    * Tester comments
    * Program output
    * Prerequisites
    * Environment and other context

------------------------------
TESTER COMMENTS
------------------------------

Additional comments from tester:

none provided

------------------------------
PROGRAM OUTPUT
------------------------------

Output from '/usr/bin/make test':

PERL_DL_NONLAZY=1 "/usr/perl5.28.3/bin/perl" "-MExtUtils::Command::MM" "-MTest::Harness" "-e" "undef *Test::Harness::Switches; test_harness(0, 'blib/lib', 'blib/arch')" t/*.t
# 
# Versions for all modules listed in MYMETA.json (including optional ones):
# 
# === Configure Requires ===
# 
#     Module              Want Have
#     ------------------- ---- ----
#     ExtUtils::MakeMaker  any 7.70
# 
# === Configure Suggests ===
# 
#     Module      Want    Have
#     -------- ------- -------
#     JSON::PP 2.27300 2.97001
# 
# === Build Requires ===
# 
#     Module              Want Have
#     ------------------- ---- ----
#     ExtUtils::MakeMaker  any 7.70
# 
# === Test Requires ===
# 
#     Module              Want     Have
#     ------------------- ---- --------
#     ExtUtils::MakeMaker  any     7.70
#     File::Spec           any     3.74
#     FindBin              any     1.51
#     Test::Builder        any 1.302198
#     Test::Fatal          any    0.017
#     Test::More          0.96 1.302198
#     Test::Warnings       any    0.032
#     lib                  any     0.64
#     utf8                 any     1.21
# 
# === Test Recommends ===
# 
#     Module         Want     Have
#     ---------- -------- --------
#     CPAN::Meta 2.120900 2.150010
# 
# === Runtime Requires ===
# 
#     Module                     Want  Have
#     -------------------------- ---- -----
#     Carp                        any  1.50
#     DateTime                   1.00  1.65
#     DateTime::Locale           1.30  1.40
#     DateTime::Locale::Base      any  1.40
#     DateTime::Locale::FromData  any  1.40
#     DateTime::TimeZone         2.09  2.60
#     Exporter                    any  5.73
#     Params::ValidationCompiler  any  0.31
#     Specio                     0.33  0.48
#     Specio::Declare             any  0.48
#     Specio::Exporter            any  0.48
#     Specio::Library::Builtins   any  0.48
#     Specio::Library::String     any  0.48
#     Try::Tiny                   any  0.31
#     constant                    any  1.33
#     parent                      any 0.236
#     strict                      any  1.11
#     warnings                    any  1.42
# 
t/00-report-prereqs.t .... ok
t/basic.t ................ ok
t/edge.t ................. ok
t/errors.t ............... ok
t/format-datetime.t ...... ok
t/format-with-locale.t ... ok
t/generated-locale-de.t .. ok
t/generated-locale-en.t .. ok
t/generated-locale-ga.t .. ok
t/generated-locale-pt.t .. ok
t/generated-locale-zh.t .. ok
t/import.t ............... ok
t/zones.t ................ ok
All tests successful.
Files=13, Tests=143,  4 wallclock secs ( 0.12 usr  0.03 sys +  3.16 cusr  0.34 csys =  3.66 CPU)
Result: PASS

------------------------------
PREREQUISITES
------------------------------

Prerequisite modules loaded:

requires:

    Module                     Need Have    
    -------------------------- ---- --------
    Carp                       0    1.50    
    constant                   0    1.33    
    DateTime                   1.00 1.65    
    DateTime::Locale           1.30 1.40    
    DateTime::Locale::Base     0    1.40    
    DateTime::Locale::FromData 0    1.40    
    DateTime::TimeZone         2.09 2.60    
    Exporter                   0    5.73    
    Params::ValidationCompiler 0    0.31    
    parent                     0    0.236   
    Specio                     0.33 0.48    
    Specio::Declare            0    0.48    
    Specio::Exporter           0    0.48    
    Specio::Library::Builtins  0    0.48    
    Specio::Library::String    0    0.48    
    strict                     0    1.11    
    Try::Tiny                  0    0.31    
    warnings                   0    1.42    

build_requires:

    Module                     Need Have    
    -------------------------- ---- --------
    ExtUtils::MakeMaker        0    7.70    
    File::Spec                 0    3.74    
    FindBin                    0    1.51    
    lib                        0    0.64    
    Test::Builder              0    1.302198
    Test::Fatal                0    0.017   
    Test::More                 0.96 1.302198
    Test::Warnings             0    0.032   
    utf8                       0    1.21    

configure_requires:

    Module                     Need Have    
    -------------------------- ---- --------
    ExtUtils::MakeMaker        0    7.70    


------------------------------
ENVIRONMENT AND OTHER CONTEXT
------------------------------

Environment variables:

    LANG = C.UTF-8
    PATH = /usr/local/bin:/usr/bin:/bin:/usr/local/sbin:/usr/sbin:/sbin:/home/cpansand/bin/sh:/home/cpansand/bin:/usr/games:/home/cpansand/devel:/home/eserte/src/srezic-misc/scripts
    PERL5LIB = 
    PERL5OPT = 
    PERL5_CPANPLUS_IS_RUNNING = 23619
    PERL5_CPAN_IS_RUNNING = 23619
    PERL5_CPAN_IS_RUNNING_IN_RECURSION = 69520,23619
    PERL_BATCH = yes
    PERL_CANARY_STABILITY_NOPROMPT = 1
    PERL_CPAN_REPORTER_CONFIG = /var/tmp/cpansmoker-1023/2023122721/cpanreporter_002_config.ini
    PERL_EXTUTILS_AUTOINSTALL = --defaultdeps
    PERL_USE_UNSAFE_INC = 1
    SHELL = /bin/sh
    TMPDIR = /var/tmp/cpansmoker-1023/2023122721

Perl special variables (and OS-specific diagnostics, for MSWin32):

    $^X = /usr/perl5.28.3/bin/perl
    $UID/$EUID = 1023 / 1023
    $GID = 1023 1023
    $EGID = 1023 1023

Perl module toolchain versions installed:

    Module              Have    
    ------------------- --------
    CPAN                2.20    
    CPAN::Meta          2.150010
    Cwd                 3.74    
    ExtUtils::CBuilder  0.280236
    ExtUtils::Command   7.70    
    ExtUtils::Install   2.14    
    ExtUtils::MakeMaker 7.70    
    ExtUtils::Manifest  1.70    
    ExtUtils::ParseXS   3.39    
    File::Spec          3.74    
    JSON                4.10    
    JSON::PP            2.97001 
    Module::Build       0.4234  
    Module::Signature   n/a     
    Parse::CPAN::Meta   2.150010
    Test2               1.302198
    Test::Harness       3.42    
    Test::More          1.302198
    YAML                1.30    
    YAML::Syck          1.34    
    version             0.9923  


--

Summary of my perl5 (revision 5 version 28 subversion 3) configuration:
   
  Platform:
    osname=freebsd
    osvers=14.0-stable
    archname=arm64-freebsd
    uname='freebsd cloud9.bbbike.org 14.0-stable freebsd 14.0-stable #0 stable14-ac83f3fa4: mon dec 25 18:44:17 utc 2023 root@cloud9.bbbike.org:usrobjhomeprojectsfreebsd-srcarm64.aarch64sysgeneric arm64 '
    config_args='-ds -e -Dprefix=/usr/perl5.28.3 -Dcf_email=srezic@cpan.org -Doptimize=-O2 -pipe'
    hint=recommended
    useposix=true
    d_sigaction=define
    useithreads=undef
    usemultiplicity=undef
    use64bitint=define
    use64bitall=define
    uselongdouble=undef
    usemymalloc=n
    default_inc_excludes_dot=define
    bincompat5005=undef
  Compiler:
    cc='cc'
    ccflags ='-DHAS_FPSETMASK -DHAS_FLOATINGPOINT_H -fno-strict-aliasing -pipe -fstack-protector-strong -I/usr/local/include'
    optimize='-O2 -pipe'
    cppflags='-DHAS_FPSETMASK -DHAS_FLOATINGPOINT_H -fno-strict-aliasing -pipe -fstack-protector-strong -I/usr/local/include'
    ccversion=''
    gccversion='FreeBSD Clang 16.0.6 (https://github.com/llvm/llvm-project.git llvmorg-16.0.6-0-g7cbf1a259152)'
    gccosandvers=''
    intsize=4
    longsize=8
    ptrsize=8
    doublesize=8
    byteorder=12345678
    doublekind=3
    d_longlong=define
    longlongsize=8
    d_longdbl=define
    longdblsize=16
    longdblkind=1
    ivtype='long'
    ivsize=8
    nvtype='double'
    nvsize=8
    Off_t='off_t'
    lseeksize=8
    alignbytes=8
    prototype=define
  Linker and Libraries:
    ld='cc'
    ldflags ='-Wl,-E  -fstack-protector-strong -L/usr/local/lib'
    libpth=/usr/lib /usr/local/lib /usr/lib/clang/16/lib /usr/lib
    libs=-lpthread -lgdbm -ldl -lm -lcrypt -lutil -lc
    perllibs=-lpthread -ldl -lm -lcrypt -lutil -lc
    libc=
    so=so
    useshrplib=false
    libperl=libperl.a
    gnulibc_version=''
  Dynamic Linking:
    dlsrc=dl_dlopen.xs
    dlext=so
    d_dlsymun=undef
    ccdlflags=' '
    cccdlflags='-DPIC -fPIC'
    lddlflags='-shared  -L/usr/local/lib -fstack-protector-strong'


Characteristics of this binary (from libperl): 
  Compile-time options:
    HAS_TIMES
    PERLIO_LAYERS
    PERL_COPY_ON_WRITE
    PERL_DONT_CREATE_GVSV
    PERL_MALLOC_WRAP
    PERL_OP_PARENT
    PERL_PRESERVE_IVUV
    USE_64_BIT_ALL
    USE_64_BIT_INT
    USE_LARGE_FILES
    USE_LOCALE
    USE_LOCALE_COLLATE
    USE_LOCALE_CTYPE
    USE_LOCALE_NUMERIC
    USE_LOCALE_TIME
    USE_PERLIO
    USE_PERL_ATOF
  Locally applied patches:
    Devel::PatchPerl 2.08
  Built under freebsd
  Compiled at Dec 27 2023 08:38:14
  %ENV:
    PERL5LIB=""
    PERL5OPT=""
    PERL5_CPANPLUS_IS_RUNNING="23619"
    PERL5_CPAN_IS_RUNNING="23619"
    PERL5_CPAN_IS_RUNNING_IN_RECURSION="69520,23619"
    PERL_BATCH="yes"
    PERL_CANARY_STABILITY_NOPROMPT="1"
    PERL_CPAN_REPORTER_CONFIG="/var/tmp/cpansmoker-1023/2023122721/cpanreporter_002_config.ini"
    PERL_EXTUTILS_AUTOINSTALL="--defaultdeps"
    PERL_USE_UNSAFE_INC="1"
  @INC:
    /usr/perl5.28.3/lib/site_perl/5.28.3/arm64-freebsd
    /usr/perl5.28.3/lib/site_perl/5.28.3
    /usr/perl5.28.3/lib/5.28.3/arm64-freebsd
    /usr/perl5.28.3/lib/5.28.3
    .