Shell-Config-Generate v0.34 Perl 5 v5.34.0 x86_64-linux

Status
Pass
From
Andreas J. König (ANDK)
Dist
Shell-Config-Generate v0.34
Platform
Perl 5 v5.34.0 x86_64-linux
Date
2022-03-03 14:25:31
ID
c7e30136-9afd-11ec-a93a-9f3a2f22c06c
This distribution has been tested as part of the CPAN Testers
project, supporting the Perl programming language.  See
http://wiki.cpantesters.org/ for more information or email
questions to cpan-testers-discuss@perl.org


--
Dear Graham Ollis,

This is a computer-generated report for Shell-Config-Generate-0.34
on perl 5.34.0, created by CPAN-Reporter-1.2018.

Thank you for uploading your work to CPAN.  Congratulations!
All tests were successful.

Sections of this report:

    * Tester comments
    * Program output
    * Prerequisites
    * Environment and other context

------------------------------
TESTER COMMENTS
------------------------------

Additional comments from tester:

this report is from an automated smoke testing program
and was not reviewed by a human for accuracy

------------------------------
PROGRAM OUTPUT
------------------------------

Output from '/usr/bin/make test':

PERL_DL_NONLAZY=1 "/home/sand/src/perl/repoperls/installed-perls/host/k93msid/v5.34.0/da1c/bin/perl" "-MExtUtils::Command::MM" "-MTest::Harness" "-e" "undef *Test::Harness::Switches; test_harness(0, 'blib/lib', 'blib/arch')" t/*.t
# 
# 
# 
# HARNESS_ACTIVE=1
# HARNESS_VERSION=3.43
# LANG=en_US.UTF-8
# PERL5LIB=/tmp/loop_over_bdir-1759336-Ruu7GN/Shell-Config-Generate-0.34-0/blib/lib:/tmp/loop_over_bdir-1759336-Ruu7GN/Shell-Config-Generate-0.34-0/blib/arch:
# PERL5OPT=
# PERL5_CPANPLUS_IS_RUNNING=1759343
# PERL5_CPAN_IS_RUNNING=1759343
# PERL_CANARY_STABILITY_NOPROMPT=1
# PERL_DL_NONLAZY=1
# PERL_MM_USE_DEFAULT=1
# PERL_USE_UNSAFE_INC=1
# SHELL=/usr/bin/zsh
# 
# 
# 
# PERL5LIB path
# /tmp/loop_over_bdir-1759336-Ruu7GN/Shell-Config-Generate-0.34-0/blib/lib
# /tmp/loop_over_bdir-1759336-Ruu7GN/Shell-Config-Generate-0.34-0/blib/arch
# 
# 
# 
# perl                5.034000
# ExtUtils::MakeMaker 7.62
# Shell::Guess        0.09
# Test2::API          1.302188
# Test2::Mock         0.000141
# Test2::V0           0.000141
# 
# 
# 
t/00_diag.t .............................. ok
# 
# 
# 
# found /usr/bin / [
# found /usr/bin / test
# found /usr/bin / zsh (shell)
# found /bin / bash (shell)
# found /bin / sh (shell)
# found /bin / zsh (shell)
# 
# 
# 
t/01_diag.t .............................. ok
t/shell_config_generate__alias.t ......... ok
t/shell_config_generate__append_path.t ... ok
t/shell_config_generate__comment.t ....... ok
t/shell_config_generate__echo_off.t ...... ok
t/shell_config_generate__generate.t ...... ok
t/shell_config_generate__prepend_path.t .. ok
t/shell_config_generate__set.t ........... ok
t/shell_config_generate__set_path.t ...... ok
t/shell_config_generate__shebang.t ....... ok
t/shell_config_generate__space_else.t .... ok
t/shell_config_generate__space_win32.t ... skipped: test only for cygwin and MSWin32
All tests successful.
Files=13, Tests=80, 11 wallclock secs ( 0.05 usr  0.04 sys +  2.38 cusr  0.89 csys =  3.36 CPU)
Result: PASS

------------------------------
PREREQUISITES
------------------------------

Prerequisite modules loaded:

requires:

    Module              Need     Have    
    ------------------- -------- --------
    perl                5.008001 5.034000
    Shell::Guess        0.02     0.09    

build_requires:

    Module              Need     Have    
    ------------------- -------- --------
    ExtUtils::MakeMaker 0        7.62    
    Test2::API          1.302015 1.302188
    Test2::Mock         0.000060 0.000141
    Test2::V0           0.000060 0.000141

configure_requires:

    Module              Need     Have    
    ------------------- -------- --------
    ExtUtils::MakeMaker 0        7.62    
    perl                5.008001 5.034000


------------------------------
ENVIRONMENT AND OTHER CONTEXT
------------------------------

Environment variables:

    AUTOMATED_TESTING = 1
    LANG = en_US.UTF-8
    NO_NETWORK_TESTING = 1
    PATH = /home/sand/bin:/usr/local/bin:/usr/bin:/bin:/usr/games:/usr/local/perl/bin:/usr/X11/bin:/sbin:/usr/sbin
    PERL5LIB = 
    PERL5OPT = 
    PERL5_CPANPLUS_IS_RUNNING = 1759343
    PERL5_CPAN_IS_RUNNING = 1759343
    PERL_CANARY_STABILITY_NOPROMPT = 1
    PERL_MM_USE_DEFAULT = 1
    PERL_USE_UNSAFE_INC = 1
    SHELL = /usr/bin/zsh
    TERM = screen

Perl special variables (and OS-specific diagnostics, for MSWin32):

    $^X = /home/sand/src/perl/repoperls/installed-perls/host/k93msid/v5.34.0/da1c/bin/perl
    $UID/$EUID = 1005 / 1005
    $GID = 1005 1005
    $EGID = 1005 1005

Perl module toolchain versions installed:

    Module              Have    
    ------------------- --------
    CPAN                2.29    
    CPAN::Meta          2.150010
    Cwd                 3.80    
    ExtUtils::CBuilder  0.280236
    ExtUtils::Command   7.62    
    ExtUtils::Install   2.20    
    ExtUtils::MakeMaker 7.62    
    ExtUtils::Manifest  1.73    
    ExtUtils::ParseXS   3.43    
    File::Spec          3.80    
    JSON                4.05    
    JSON::PP            4.06    
    Module::Build       0.4231  
    Module::Signature   0.87    
    Parse::CPAN::Meta   2.150010
    Test::Harness       3.43    
    Test::More          1.302188
    YAML                1.30    
    YAML::Syck          1.34    
    version             0.9929  


--

Summary of my perl5 (revision 5 version 34 subversion 0) configuration:
  Commit id: 79a7b254d85a10b65126ad99bf10e70480569d68
  Platform:
    osname=linux
    osvers=5.3.0-2-amd64
    archname=x86_64-linux
    uname='linux k93msid 5.3.0-2-amd64 #1 smp debian 5.3.9-3 (2019-11-19) x86_64 gnulinux '
    config_args='-Dprefix=/home/sand/src/perl/repoperls/installed-perls/host/k93msid/v5.34.0/da1c -Dmyhostname=k93msid -Dinstallusrbinperl=n -Uversiononly -Dusedevel -des -Ui_db -Dlibswanted=cl pthread socket inet nsl gdbm dbm malloc dl ld sun m crypt sec util c cposix posix ucb BSD gdbm_compat -Uuseithreads -Uuselongdouble -DEBUGGING=-g'
    hint=recommended
    useposix=true
    d_sigaction=define
    useithreads=undef
    usemultiplicity=undef
    use64bitint=define
    use64bitall=define
    uselongdouble=undef
    usemymalloc=n
    default_inc_excludes_dot=define
  Compiler:
    cc='cc'
    ccflags ='-fwrapv -fno-strict-aliasing -pipe -fstack-protector-strong -I/usr/local/include -D_LARGEFILE_SOURCE -D_FILE_OFFSET_BITS=64 -D_FORTIFY_SOURCE=2'
    optimize='-O2 -g'
    cppflags='-fwrapv -fno-strict-aliasing -pipe -fstack-protector-strong -I/usr/local/include'
    ccversion=''
    gccversion='9.2.1 20191109'
    gccosandvers=''
    intsize=4
    longsize=8
    ptrsize=8
    doublesize=8
    byteorder=12345678
    doublekind=3
    d_longlong=define
    longlongsize=8
    d_longdbl=define
    longdblsize=16
    longdblkind=3
    ivtype='long'
    ivsize=8
    nvtype='double'
    nvsize=8
    Off_t='off_t'
    lseeksize=8
    alignbytes=8
    prototype=define
  Linker and Libraries:
    ld='cc'
    ldflags =' -fstack-protector-strong -L/usr/local/lib'
    libpth=/usr/local/lib /usr/lib/x86_64-linux-gnu /usr/lib /lib/x86_64-linux-gnu /lib
    libs=-lpthread -lnsl -ldl -lm -lcrypt -lutil -lc
    perllibs=-lpthread -lnsl -ldl -lm -lcrypt -lutil -lc
    libc=libc-2.29.so
    so=so
    useshrplib=false
    libperl=libperl.a
    gnulibc_version='2.29'
  Dynamic Linking:
    dlsrc=dl_dlopen.xs
    dlext=so
    d_dlsymun=undef
    ccdlflags='-Wl,-E'
    cccdlflags='-fPIC'
    lddlflags='-shared -O2 -g -L/usr/local/lib -fstack-protector-strong'


Characteristics of this binary (from libperl): 
  Compile-time options:
    HAS_TIMES
    PERLIO_LAYERS
    PERL_COPY_ON_WRITE
    PERL_DONT_CREATE_GVSV
    PERL_MALLOC_WRAP
    PERL_OP_PARENT
    PERL_PRESERVE_IVUV
    PERL_USE_DEVEL
    USE_64_BIT_ALL
    USE_64_BIT_INT
    USE_LARGE_FILES
    USE_LOCALE
    USE_LOCALE_COLLATE
    USE_LOCALE_CTYPE
    USE_LOCALE_NUMERIC
    USE_LOCALE_TIME
    USE_PERLIO
    USE_PERL_ATOF
  Built under linux
  Compiled at May 24 2021 09:27:55
  %ENV:
    PERL5LIB=""
    PERL5OPT=""
    PERL5_CPANPLUS_IS_RUNNING="1759343"
    PERL5_CPAN_IS_RUNNING="1759343"
    PERL_CANARY_STABILITY_NOPROMPT="1"
    PERL_MM_USE_DEFAULT="1"
    PERL_USE_UNSAFE_INC="1"
  @INC:
    /home/sand/src/perl/repoperls/installed-perls/host/k93msid/v5.34.0/da1c/lib/site_perl/5.34.0/x86_64-linux
    /home/sand/src/perl/repoperls/installed-perls/host/k93msid/v5.34.0/da1c/lib/site_perl/5.34.0
    /home/sand/src/perl/repoperls/installed-perls/host/k93msid/v5.34.0/da1c/lib/5.34.0/x86_64-linux
    /home/sand/src/perl/repoperls/installed-perls/host/k93msid/v5.34.0/da1c/lib/5.34.0
    .