Back
From: metabase:user:30f4dfbe-2aae-11df-837a-5e0a49663a4f
Subject: PASS libwww-perl-6.05 v5.12.0 Windows (Cygwin)
Date: 2013-05-11T15:54:58Z
This distribution has been tested as part of the CPAN Testers
project, supporting the Perl programming language. See
http://wiki.cpantesters.org/ for more information or email
questions to cpan-testers-discuss@perl.org
--
Dear Gisle Aas,
This is a computer-generated report for libwww-perl-6.05
on perl 5.12.0, created by CPAN-Reporter-1.2009.
Thank you for uploading your work to CPAN. Congratulations!
All tests were successful.
Sections of this report:
* Tester comments
* Program output
* Prerequisites
* Environment and other context
------------------------------
TESTER COMMENTS
------------------------------
Additional comments from tester:
none provided
------------------------------
PROGRAM OUTPUT
------------------------------
Output from '/usr/bin/make test':
/home/Nigel/perl5/perlbrew/perls/perl-5.12.0/bin/perl.exe t/TEST 0
base/protocols.t ...... ok
base/ua.t ............. ok
robot/ua-get.t ........ ok
robot/ua.t ............ ok
local/autoload-get.t .. ok
local/autoload.t ...... ok
local/get.t ........... ok
local/http.t .......... ok
local/protosub.t ...... ok
All tests successful.
Files=9, Tests=125, 17 wallclock secs ( 0.03 usr 0.08 sys + 2.15 cusr 2.22 csys = 4.47 CPU)
Result: PASS
------------------------------
PREREQUISITES
------------------------------
Prerequisite modules loaded:
requires:
Module Need Have
--------------------- -------- --------
Digest::MD5 0 2.52
Encode 2.12 2.47
Encode::Locale 0 1.03
File::Listing 6 6.04
HTML::Entities 0 3.69
HTML::HeadParser 0 3.71
HTTP::Cookies 6 6.01
HTTP::Daemon 6 6.01
HTTP::Date 6 6.01
HTTP::Negotiate 6 6.01
HTTP::Request 6 6.00
HTTP::Request::Common 6 6.03
HTTP::Response 6 6.03
HTTP::Status 6 6.03
IO::Select 0 1.17
IO::Socket 0 1.31
LWP::MediaTypes 6 6.02
MIME::Base64 2.1 3.13
Net::FTP 2.58 2.77
Net::HTTP 6.04 6.06
perl 5.008001 5.012000
URI 1.10 1.60
URI::Escape 0 3.31
WWW::RobotRules 6 6.01
build_requires:
Module Need Have
--------------------- -------- --------
ExtUtils::MakeMaker 0 6.62
configure_requires:
Module Need Have
--------------------- -------- --------
ExtUtils::MakeMaker 0 6.62
------------------------------
ENVIRONMENT AND OTHER CONTEXT
------------------------------
Environment variables:
COMSPEC = C:\Windows\system32\cmd.exe
LANG = en_US.UTF-8
MANPATH_WITHOUT_PERLBREW = /usr/local/man:/usr/share/man:/usr/man::/usr/ssl/man
NUMBER_OF_PROCESSORS = 2
PATH = /home/Nigel/perl5/perlbrew/bin:/home/Nigel/perl5/perlbrew/perls/perl-5.12.0/bin:/home/Nigel/bin:/home/Nigel/perl5/perlbrew/bin:/usr/local/bin:/usr/bin:/cygdrive/c/Program Files/Common Files/Microsoft Shared/Windows Live:/cygdrive/c/Windows/system32:/cygdrive/c/Windows:/cygdrive/c/Windows/System32/Wbem:/cygdrive/c/hp/bin/Python:/cygdrive/c/Windows/System32/WindowsPowerShell/v1.0:/cygdrive/c/Program Files/Windows Live/Shared:/cygdrive/c/Program Files/QuickTime/QTSystem
PATH_WITHOUT_PERLBREW = /usr/local/bin:/usr/bin:/cygdrive/c/Program Files/Common Files/Microsoft Shared/Windows Live:/cygdrive/c/Windows/system32:/cygdrive/c/Windows:/cygdrive/c/Windows/System32/Wbem:/cygdrive/c/hp/bin/Python:/cygdrive/c/Windows/System32/WindowsPowerShell/v1.0:/cygdrive/c/Program Files/Windows Live/Shared:/cygdrive/c/Program Files/QuickTime/QTSystem
PERL5LIB =
PERL5OPT =
PERL5_CPANPLUS_IS_RUNNING = 5444
PERL5_CPAN_IS_RUNNING = 5444
PERLBREW_BASHRC_VERSION = 0.43
PERLBREW_HOME = /home/Nigel/.perlbrew
PERLBREW_MANPATH = /home/Nigel/perl5/perlbrew/perls/perl-5.12.0/man
PERLBREW_PATH = /home/Nigel/perl5/perlbrew/bin:/home/Nigel/perl5/perlbrew/perls/perl-5.12.0/bin
PERLBREW_PERL = perl-5.12.0
PERLBREW_ROOT = /home/Nigel/perl5/perlbrew
PERLBREW_VERSION = 0.43
PROCESSOR_IDENTIFIER = x86 Family 15 Model 107 Stepping 2, AuthenticAMD
SHELL = /bin/bash
TERM = ansi
Perl special variables (and OS-specific diagnostics, for MSWin32):
$^X = /home/Nigel/perl5/perlbrew/perls/perl-5.12.0/bin/perl
$UID/$EUID = 1000 / 1000
$GID = 513 545 513
$EGID = 513 545 513
Perl module toolchain versions installed:
Module Have
------------------- --------
CPAN 2.00
CPAN::Meta 2.120921
Cwd 3.33
ExtUtils::CBuilder 0.280205
ExtUtils::Command 1.17
ExtUtils::Install 1.55
ExtUtils::MakeMaker 6.62
ExtUtils::Manifest 1.60
ExtUtils::ParseXS 3.15
File::Spec 3.33
JSON 2.53
JSON::PP 2.27200
Module::Build 0.40
Module::Signature n/a
Parse::CPAN::Meta 1.4404
Test::Harness 3.25
Test::More 0.98
YAML 0.81
YAML::Syck 1.22
version 0.88
--
Summary of my perl5 (revision 5 version 12 subversion 0) configuration:
Platform:
osname=cygwin, osvers=1.7.9(0.23753), archname=cygwin-thread-multi-64int
uname='cygwin_nt-6.0 compaq 1.7.9(0.23753) 2011-03-29 10:10 i686 cygwin '
config_args='-de -Dprefix=/home/Nigel/perl5/perlbrew/perls/perl-5.12.0 -Accflags=-O2'
hint=recommended, useposix=true, d_sigaction=define
useithreads=define, usemultiplicity=define
useperlio=define, d_sfio=undef, uselargefiles=define, usesocks=undef
use64bitint=define, use64bitall=undef, uselongdouble=undef
usemymalloc=y, bincompat5005=undef
Compiler:
cc='gcc', ccflags ='-DPERL_USE_SAFE_PUTENV -U__STRICT_ANSI__ -O2 -fno-strict-aliasing -pipe -fstack-protector',
optimize='-O3',
cppflags='-DPERL_USE_SAFE_PUTENV -U__STRICT_ANSI__ -O2 -fno-strict-aliasing -pipe -fstack-protector'
ccversion='', gccversion='4.5.3', gccosandvers=''
intsize=4, longsize=4, ptrsize=4, doublesize=8, byteorder=12345678
d_longlong=define, longlongsize=8, d_longdbl=define, longdblsize=12
ivtype='long long', ivsize=8, nvtype='double', nvsize=8, Off_t='off_t', lseeksize=8
alignbytes=8, prototype=define
Linker and Libraries:
ld='g++', ldflags =' -Wl,--enable-auto-import -Wl,--export-all-symbols -Wl,--stack,8388608 -Wl,--enable-auto-image-base -fstack-protector -L/usr/local/lib'
libpth=/usr/local/lib /usr/lib /lib
libs=-ldl -lcrypt
perllibs=-ldl -lcrypt
libc=/usr/lib/libc.a, so=dll, useshrplib=true, libperl=cygperl5_12_0.dll
gnulibc_version=''
Dynamic Linking:
dlsrc=dl_dlopen.xs, dlext=dll, d_dlsymun=undef, ccdlflags=' '
cccdlflags=' ', lddlflags=' --shared -Wl,--enable-auto-import -Wl,--export-all-symbols -Wl,--stack,8388608 -Wl,--enable-auto-image-base -L/usr/local/lib -fstack-protector'
Characteristics of this binary (from libperl):
Compile-time options: MULTIPLICITY MYMALLOC PERL_DONT_CREATE_GVSV
PERL_IMPLICIT_CONTEXT PERL_USE_SAFE_PUTENV
USE_64_BIT_INT USE_ITHREADS USE_LARGE_FILES
USE_PERLIO USE_PERL_ATOF USE_REENTRANT_API
Built under cygwin
Compiled at Dec 24 2011 12:45:39
%ENV:
PERL5LIB=""
PERL5OPT=""
PERL5_CPANPLUS_IS_RUNNING="5444"
PERL5_CPAN_IS_RUNNING="5444"
PERLBREW_BASHRC_VERSION="0.43"
PERLBREW_HOME="/home/Nigel/.perlbrew"
PERLBREW_MANPATH="/home/Nigel/perl5/perlbrew/perls/perl-5.12.0/man"
PERLBREW_PATH="/home/Nigel/perl5/perlbrew/bin:/home/Nigel/perl5/perlbrew/perls/perl-5.12.0/bin"
PERLBREW_PERL="perl-5.12.0"
PERLBREW_ROOT="/home/Nigel/perl5/perlbrew"
PERLBREW_VERSION="0.43"
CYGWIN=""
@INC:
/home/Nigel/perl5/perlbrew/perls/perl-5.12.0/lib/site_perl/5.12.0/cygwin-thread-multi-64int
/home/Nigel/perl5/perlbrew/perls/perl-5.12.0/lib/site_perl/5.12.0
/home/Nigel/perl5/perlbrew/perls/perl-5.12.0/lib/5.12.0/cygwin-thread-multi-64int
/home/Nigel/perl5/perlbrew/perls/perl-5.12.0/lib/5.12.0
.