Back
From: metabase:user:9820532a-708b-1014-9a05-b18a96298da1
Subject: PASS Catalyst-Model-CacheFunky-Loader-0.06 v5.15.4 FreeBSD
Date: 2011-11-05T22:01:57Z
This distribution has been tested as part of the CPAN Testers
project, supporting the Perl programming language. See
http://wiki.cpantesters.org/ for more information or email
questions to cpan-testers-discuss@perl.org
--
Dear Tomohiro Teranishi,
This is a computer-generated report for Catalyst-Model-CacheFunky-Loader-0.06
on perl 5.15.4, created by CPAN-Reporter-1.2002.
Thank you for uploading your work to CPAN. Congratulations!
All tests were successful.
Sections of this report:
* Tester comments
* Program output
* Prerequisites
* Environment and other context
------------------------------
TESTER COMMENTS
------------------------------
Additional comments from tester:
this report is from an automated smoke testing program
and was not reviewed by a human for accuracy
------------------------------
PROGRAM OUTPUT
------------------------------
Output from '/usr/bin/make test':
/usr/home/test/perl5/perlbrew/perls/perl-5.15.4-th/bin/perl5.15.4 "-Iinc" Makefile.PL --config= --installdeps=Cache::Funky,0
Cannot determine perl version info from lib/Catalyst/Model/CacheFunky/Loader.pm
PERL_DL_NONLAZY=1 /usr/home/test/perl5/perlbrew/perls/perl-5.15.4-th/bin/perl5.15.4 "-MExtUtils::Command::MM" "-e" "test_harness(0, 'inc', 'blib/lib', 'blib/arch')" t/00-load.t t/01_app.t t/boilerplate.t t/pod-coverage.t t/pod.t t/spelling.t
# Testing Catalyst::Model::CacheFunky::Loader 0.06, Perl 5.015004, /usr/home/test/perl5/perlbrew/perls/perl-5.15.4-th/bin/perl5.15.4
t/00-load.t ....... ok
Catalyst::Model::CacheFunky::Loader uses NEXT, which is deprecated. Please see the Class::C3::Adopt::NEXT documentation for details. NEXT used at /usr/home/test/.cpan/build/Catalyst-Model-CacheFunky-Loader-0.06-UoZGnM/blib/lib/Catalyst/Model/CacheFunky/Loader.pm line 13
[debug] Debug messages enabled
[debug] Statistics enabled
[debug] Loaded plugins:
.----------------------------------------------------------------------------.
| Catalyst::Plugin::ConfigLoader 0.30 |
'----------------------------------------------------------------------------'
[debug] Loaded dispatcher "Catalyst::Dispatcher"
[debug] Loaded engine "Catalyst::Engine::CGI"
[debug] Found home "/usr/home/test/.cpan/build/Catalyst-Model-CacheFunky-Loader-0.06-UoZGnM/t/lib/TestApp"
[debug] Loaded components:
.-----------------------------------------------------------------+----------.
| Class | Type |
+-----------------------------------------------------------------+----------+
| TestApp::Controller::Root | instance |
| TestApp::Model::Funky | instance |
| TestApp::Model::Funky::Context | class |
| TestApp::Model::Funky::Date | class |
'-----------------------------------------------------------------+----------'
[debug] Loaded Private actions:
.----------------------+--------------------------------------+--------------.
| Private | Class | Method |
+----------------------+--------------------------------------+--------------+
| /date | TestApp::Controller::Root | date |
| /context | TestApp::Controller::Root | context |
| /default | TestApp::Controller::Root | default |
'----------------------+--------------------------------------+--------------'
[debug] Loaded Path actions:
.-------------------------------------+--------------------------------------.
| Path | Private |
+-------------------------------------+--------------------------------------+
| /context/... | /context |
| /date/... | /date |
'-------------------------------------+--------------------------------------'
[info] TestApp powered by Catalyst 5.80033
[info] *** Request 1 (1.000/s) [65582] [Sat Nov 5 22:01:52 2011] ***
[debug] "GET" request for "date" from "127.0.0.1"
[debug] Path is "date"
[debug] Response Code: 200; Content-Type: unknown; Content-Length: 1
[info] Request took 1.011643s (0.988/s)
.------------------------------------------------------------+-----------.
| Action | Time |
+------------------------------------------------------------+-----------+
| /date | 1.006846s |
'------------------------------------------------------------+-----------'
[info] *** Request 2 (2.000/s) [65582] [Sat Nov 5 22:01:53 2011] ***
[debug] "GET" request for "context" from "127.0.0.1"
[debug] Path is "context"
[debug] Response Code: 200; Content-Type: unknown; Content-Length: 1
[info] Request took 0.002880s (347.222/s)
.------------------------------------------------------------+-----------.
| Action | Time |
+------------------------------------------------------------+-----------+
| /context | 0.000533s |
'------------------------------------------------------------+-----------'
t/01_app.t ........ ok
t/boilerplate.t ... ok
t/pod-coverage.t .. ok
t/pod.t ........... ok
t/spelling.t ...... ok
All tests successful.
Files=6, Tests=9, 5 wallclock secs ( 0.09 usr 0.11 sys + 1.88 cusr 0.67 csys = 2.75 CPU)
Result: PASS
------------------------------
PREREQUISITES
------------------------------
Prerequisite modules loaded:
requires:
Module Need Have
------------------------------ ---- -------
Cache::Funky 0 0.06
Catalyst 0 5.80033
Catalyst::Plugin::ConfigLoader 0 0.30
Module::Recursive::Require 0.04 0.04
Test::More 0 0.98
Test::Spelling 0 0.15
build_requires:
Module Need Have
------------------------------ ---- -------
ExtUtils::MakeMaker 0 6.63_02
------------------------------
ENVIRONMENT AND OTHER CONTEXT
------------------------------
Environment variables:
AUTOMATED_TESTING = 1
LANG = C
LC_ALL = C
PATH = /home/test/perl5/perlbrew/bin:/home/test/perl5/perlbrew/perls/perl-5.15.4-th/bin:~/bin:/sbin:/bin:/usr/sbin:/usr/bin:/usr/games:/usr/local/sbin:/usr/local/bin:/home/test/bin
PATH_WITHOUT_PERLBREW = ~/bin:/sbin:/bin:/usr/sbin:/usr/bin:/usr/games:/usr/local/sbin:/usr/local/bin:/home/test/bin
PERL5LIB =
PERL5OPT =
PERL5_CPANPLUS_IS_RUNNING = 65179
PERL5_CPAN_IS_RUNNING = 65179
PERL5_CPAN_IS_RUNNING_IN_RECURSION = 43248,65179
PERLBREW_BASHRC_VERSION = 0.30
PERLBREW_HOME = /home/test/.perlbrew
PERLBREW_PATH = /home/test/perl5/perlbrew/bin:/home/test/perl5/perlbrew/perls/perl-5.15.4-th/bin
PERLBREW_PERL = perl-5.15.4-th
PERLBREW_ROOT = /home/test/perl5/perlbrew
PERLBREW_VERSION = 0.30
PERL_CPANM_OPT = --prompt --mirror http://172.16.1.3/cpan/
PERL_CR_SMOKER_CURRENT = Catalyst-Model-CacheFunky-Loader-0.06
PERL_EXTUTILS_AUTOINSTALL = --defaultdeps
PERL_MM_USE_DEFAULT = 1
SHELL = /usr/local/bin/bash
TERM = linux
Perl special variables (and OS-specific diagnostics, for MSWin32):
$^X = /usr/home/test/perl5/perlbrew/perls/perl-5.15.4-th/bin/perl5.15.4
$UID/$EUID = 1002 / 1002
$GID = 1002 1002
$EGID = 1002 1002
Perl module toolchain versions installed:
Module Have
------------------- --------
CPAN 1.9800
CPAN::Meta 2.112621
Cwd 3.33
ExtUtils::CBuilder 0.280202
ExtUtils::Command 1.17
ExtUtils::Install 1.52
ExtUtils::MakeMaker 6.63_02
ExtUtils::Manifest 1.60
ExtUtils::ParseXS 3.05
File::Spec 3.33
JSON 2.53
JSON::PP 2.27008
Module::Build 0.39_01
Module::Signature n/a
Parse::CPAN::Meta 1.4401
Test::Harness 3.23
Test::More 0.98
YAML 0.73
YAML::Syck 1.17_02
version 0.94
--
Summary of my perl5 (revision 5 version 15 subversion 4) configuration:
Platform:
osname=freebsd, osvers=8.1-release, archname=amd64-freebsd-thread-multi
uname='freebsd fbsd.local 8.1-release freebsd 8.1-release #0: mon jul 19 02:36:49 utc 2010 root@mason.cse.buffalo.edu:usrobjusrsrcsysgeneric amd64 '
config_args='-de -Dprefix=/home/test/perl5/perlbrew/perls/perl-5.15.4-th -Dusethreads -Dusedevel'
hint=recommended, useposix=true, d_sigaction=define
useithreads=define, usemultiplicity=define
useperlio=define, d_sfio=undef, uselargefiles=define, usesocks=undef
use64bitint=define, use64bitall=define, uselongdouble=undef
usemymalloc=n, bincompat5005=undef
Compiler:
cc='cc', ccflags ='-DHAS_FPSETMASK -DHAS_FLOATINGPOINT_H -fno-strict-aliasing -pipe -fstack-protector -I/usr/local/include',
optimize='-O',
cppflags='-DHAS_FPSETMASK -DHAS_FLOATINGPOINT_H -fno-strict-aliasing -pipe -fstack-protector -I/usr/local/include'
ccversion='', gccversion='4.2.1 20070719 [FreeBSD]', gccosandvers=''
intsize=4, longsize=8, ptrsize=8, doublesize=8, byteorder=12345678
d_longlong=define, longlongsize=8, d_longdbl=define, longdblsize=16
ivtype='long', ivsize=8, nvtype='double', nvsize=8, Off_t='off_t', lseeksize=8
alignbytes=8, prototype=define
Linker and Libraries:
ld='cc', ldflags ='-pthread -Wl,-E -fstack-protector -L/usr/local/lib'
libpth=/usr/lib /usr/local/lib
libs=-lm -lcrypt
perllibs=-lm -lcrypt
libc=, so=so, useshrplib=false, libperl=libperl.a
gnulibc_version=''
Dynamic Linking:
dlsrc=dl_dlopen.xs, dlext=so, d_dlsymun=undef, ccdlflags=' '
cccdlflags='-DPIC -fPIC', lddlflags='-shared -L/usr/local/lib -fstack-protector'
Characteristics of this binary (from libperl):
Compile-time options: HAS_TIMES MULTIPLICITY PERLIO_LAYERS
PERL_DONT_CREATE_GVSV PERL_IMPLICIT_CONTEXT
PERL_MALLOC_WRAP PERL_PRESERVE_IVUV PERL_USE_DEVEL
USE_64_BIT_ALL USE_64_BIT_INT USE_ITHREADS
USE_LARGE_FILES USE_LOCALE USE_LOCALE_COLLATE
USE_LOCALE_CTYPE USE_LOCALE_NUMERIC USE_PERLIO
USE_PERL_ATOF USE_REENTRANT_API
Built under freebsd
Compiled at Oct 30 2011 17:49:27
%ENV:
PERL5LIB=""
PERL5OPT=""
PERL5_CPANPLUS_IS_RUNNING="65179"
PERL5_CPAN_IS_RUNNING="65179"
PERL5_CPAN_IS_RUNNING_IN_RECURSION="43248,65179"
PERLBREW_BASHRC_VERSION="0.30"
PERLBREW_HOME="/home/test/.perlbrew"
PERLBREW_PATH="/home/test/perl5/perlbrew/bin:/home/test/perl5/perlbrew/perls/perl-5.15.4-th/bin"
PERLBREW_PERL="perl-5.15.4-th"
PERLBREW_ROOT="/home/test/perl5/perlbrew"
PERLBREW_VERSION="0.30"
PERL_CPANM_OPT="--prompt --mirror http://172.16.1.3/cpan/"
PERL_CR_SMOKER_CURRENT="Catalyst-Model-CacheFunky-Loader-0.06"
PERL_EXTUTILS_AUTOINSTALL="--defaultdeps"
PERL_MM_USE_DEFAULT="1"
@INC:
/home/test/perl5/perlbrew/perls/perl-5.15.4-th/lib/site_perl/5.15.4/amd64-freebsd-thread-multi
/home/test/perl5/perlbrew/perls/perl-5.15.4-th/lib/site_perl/5.15.4
/home/test/perl5/perlbrew/perls/perl-5.15.4-th/lib/5.15.4/amd64-freebsd-thread-multi
/home/test/perl5/perlbrew/perls/perl-5.15.4-th/lib/5.15.4
.