Math-Int128 v0.22 Perl 5 v5.22.1 x86_64-linux-thread-multi

Status
Pass
From
Nigel Horne
Dist
Math-Int128 v0.22
Platform
Perl 5 v5.22.1 x86_64-linux-thread-multi
Date
2020-01-21 09:02:41
ID
c7a1f77c-3c2c-11ea-81bc-fd49b518dca7
This distribution has been tested as part of the CPAN Testers
project, supporting the Perl programming language.  See
http://wiki.cpantesters.org/ for more information or email
questions to cpan-testers-discuss@perl.org


--
Dear Salvador Fandino Garcia,

This is a computer-generated report for Math-Int128-0.22
on perl 5.22.1, created by CPAN-Reporter-1.2018.

Thank you for uploading your work to CPAN.  Congratulations!
All tests were successful.

Sections of this report:

    * Tester comments
    * Program output
    * Prerequisites
    * Environment and other context

------------------------------
TESTER COMMENTS
------------------------------

Additional comments from tester:

this report is from an automated smoke testing program
and was not reviewed by a human for accuracy

------------------------------
PROGRAM OUTPUT
------------------------------

Output from '/usr/bin/make test':

"/home/njh/perl5/perlbrew/perls/perl-5.22.1-thread/bin/perl5.22.1" -MExtUtils::Command::MM -e 'cp_nonempty' -- Int128.bs blib/arch/auto/Math/Int128/Int128.bs 644
PERL_DL_NONLAZY=1 "/home/njh/perl5/perlbrew/perls/perl-5.22.1-thread/bin/perl5.22.1" "-MExtUtils::Command::MM" "-MTest::Harness" "-e" "undef *Test::Harness::Switches; test_harness(0, 'blib/lib', 'blib/arch')" t/*.t
t/author-eol.t ............ skipped: these tests are for testing by the author
t/release-pod-syntax.t .... skipped: these tests are for release candidate testing
t/bugs.t .................. ok
t/author-no-tabs.t ........ skipped: these tests are for testing by the author
t/author-pod-spell.t ...... skipped: these tests are for testing by the author
t/00-compile.t ............ ok
t/release-cpan-changes.t .. skipped: these tests are for release candidate testing
t/release-portability.t ... skipped: these tests are for release candidate testing
t/release-synopsis.t ...... skipped: these tests are for release candidate testing
# 
# Versions for all modules listed in MYMETA.json (including optional ones):
# 
# === Configure Requires ===
# 
#     Module              Want Have
#     ------------------- ---- ----
#     ExtUtils::MakeMaker  any 7.42
# 
# === Build Requires ===
# 
#     Module              Want Have
#     ------------------- ---- ----
#     ExtUtils::MakeMaker  any 7.42
# 
# === Test Requires ===
# 
#     Module              Want     Have
#     ------------------- ---- --------
#     ExtUtils::MakeMaker  any     7.42
#     File::Spec           any     3.56
#     IO::Handle           any     1.35
#     IPC::Open3           any     1.18
#     Math::BigInt         any   1.9997
#     Test::More          0.96 1.302171
#     integer              any     1.01
# 
# === Test Recommends ===
# 
#     Module         Want     Have
#     ---------- -------- --------
#     CPAN::Meta 2.120900 2.150010
# 
# === Runtime Requires ===
# 
#     Module      Want Have
#     ----------- ---- ----
#     Exporter     any 5.72
#     Math::Int64 0.51 0.54
#     XSLoader     any 0.20
#     constant     any 1.33
#     overload     any 1.26
#     strict       any 1.09
#     warnings     any 1.34
# 
t/00-report-prereqs.t ..... ok
t/Math-UInt128.t .......... ok
t/Math-Int128.t ........... ok
All tests successful.
Files=12, Tests=2177,  0 wallclock secs ( 0.13 usr  0.00 sys +  0.89 cusr  0.13 csys =  1.15 CPU)
Result: PASS

------------------------------
PREREQUISITES
------------------------------

Prerequisite modules loaded:

requires:

    Module              Need  Have    
    ------------------- ----- --------
    constant            0     1.33    
    Exporter            0     5.72    
    Math::Int64         0.51  0.54    
    overload            0     1.26    
    perl                5.006 5.022001
    strict              0     1.09    
    warnings            0     1.34    
    XSLoader            0     0.20    

build_requires:

    Module              Need  Have    
    ------------------- ----- --------
    ExtUtils::MakeMaker 0     7.42    
    File::Spec          0     3.56    
    integer             0     1.01    
    IO::Handle          0     1.35    
    IPC::Open3          0     1.18    
    Math::BigInt        0     1.9997  
    Test::More          0.96  1.302171

configure_requires:

    Module              Need  Have    
    ------------------- ----- --------
    ExtUtils::MakeMaker 0     7.42    


------------------------------
ENVIRONMENT AND OTHER CONTEXT
------------------------------

Environment variables:

    AUTOMATED_TESTING = 1
    HARNESS_OPTIONS = j10
    LANG = en_GB.UTF-8
    NONINTERACTIVE_TESTING = 1
    PATH = /home/njh/perl5/perlbrew/bin:/home/njh/perl5/perlbrew/perls/perl-5.22.1-thread/bin:/usr/bin:/bin:/home/njh/src/njh/smoker/bin
    PERL5LIB = /tmp/user/1000/build/Math-Int64-0.54-5/blib/arch:/tmp/user/1000/build/Math-Int64-0.54-5/blib/lib:/tmp/user/1000/build/Data-Validate-IP-0.27-5/blib/arch:/tmp/user/1000/build/Data-Validate-IP-0.27-5/blib/lib:/tmp/user/1000/build/NetAddr-IP-4.079-5/blib/arch:/tmp/user/1000/build/NetAddr-IP-4.079-5/blib/lib
    PERL5OPT = 
    PERL5_CPANPLUS_IS_RUNNING = 1349799
    PERL5_CPAN_IS_RUNNING = 1349799
    PERL5_CPAN_IS_RUNNING_IN_RECURSION = 1349782,1349799
    PERLBREW_HOME = /home/njh/.perlbrew
    PERLBREW_MANPATH = /home/njh/perl5/perlbrew/perls/perl-5.22.1-thread/man
    PERLBREW_PATH = /home/njh/perl5/perlbrew/bin:/home/njh/perl5/perlbrew/perls/perl-5.22.1-thread/bin
    PERLBREW_PERL = perl-5.22.1-thread
    PERLBREW_ROOT = /home/njh/perl5/perlbrew
    PERLBREW_SHELLRC_VERSION = 0.87
    PERLBREW_VERSION = 0.87
    PERL_MM_USE_DEFAULT = 1
    PERL_USE_UNSAFE_INC = 1
    SHELL = /bin/sh
    TEMP = /tmp/user/1000
    TMPDIR = /tmp/user/1000/testwrapper.1349785

Perl special variables (and OS-specific diagnostics, for MSWin32):

    $^X = /home/njh/perl5/perlbrew/perls/perl-5.22.1-thread/bin/perl5.22.1
    $UID/$EUID = 1000 / 1000
    $GID = 1000 4 24 25 29 30 44 46 107 112 118 996 1000
    $EGID = 1000 4 24 25 29 30 44 46 107 112 118 996 1000

Perl module toolchain versions installed:

    Module              Have    
    ------------------- --------
    CPAN                2.27    
    CPAN::Meta          2.150010
    Cwd                 3.56    
    ExtUtils::CBuilder  0.280221
    ExtUtils::Command   7.42    
    ExtUtils::Install   2.06    
    ExtUtils::MakeMaker 7.42    
    ExtUtils::Manifest  1.70    
    ExtUtils::ParseXS   3.28    
    File::Spec          3.56    
    JSON                4.02    
    JSON::PP            2.27300 
    Module::Build       0.4229  
    Module::Signature   n/a     
    Parse::CPAN::Meta   2.150010
    Test::Harness       3.35    
    Test::More          1.302171
    YAML                1.29    
    YAML::Syck          1.31    
    version             0.9909  


--

Summary of my perl5 (revision 5 version 22 subversion 1) configuration:
   
  Platform:
    osname=linux, osvers=5.2.0-3-amd64, archname=x86_64-linux-thread-multi
    uname='linux microcenter 5.2.0-3-amd64 #1 smp debian 5.2.17-1 (2019-09-26) x86_64 gnulinux '
    config_args='-de -Dprefix=/home/njh/perl5/perlbrew/perls/perl-5.22.1-thread -Dusedevel -Dusethreads -Accflags= -Aeval:scriptdir=/home/njh/perl5/perlbrew/perls/perl-5.22.1-thread/bin'
    hint=recommended, useposix=true, d_sigaction=define
    useithreads=define, usemultiplicity=define
    use64bitint=define, use64bitall=define, uselongdouble=undef
    usemymalloc=n, bincompat5005=undef
  Compiler:
    cc='cc', ccflags ='-D_REENTRANT -D_GNU_SOURCE -fwrapv -fno-strict-aliasing -pipe -fstack-protector-strong -I/usr/local/include -D_LARGEFILE_SOURCE -D_FILE_OFFSET_BITS=64',
    optimize='-O2',
    cppflags='-D_REENTRANT -D_GNU_SOURCE -fwrapv -fno-strict-aliasing -pipe -fstack-protector-strong -I/usr/local/include'
    ccversion='', gccversion='9.2.1 20191102', gccosandvers=''
    intsize=4, longsize=8, ptrsize=8, doublesize=8, byteorder=12345678, doublekind=3
    d_longlong=define, longlongsize=8, d_longdbl=define, longdblsize=16, longdblkind=3
    ivtype='long', ivsize=8, nvtype='double', nvsize=8, Off_t='off_t', lseeksize=8
    alignbytes=8, prototype=define
  Linker and Libraries:
    ld='cc', ldflags =' -fstack-protector-strong -L/usr/local/lib'
    libpth=/usr/local/lib /usr/lib/gcc/x86_64-linux-gnu/9/include-fixed /usr/include/x86_64-linux-gnu /usr/lib /lib/x86_64-linux-gnu /lib/../lib /usr/lib/x86_64-linux-gnu /usr/lib/../lib /lib
    libs=-lpthread -lnsl -lgdbm -ldb -ldl -lm -lcrypt -lutil -lc
    perllibs=-lpthread -lnsl -ldl -lm -lcrypt -lutil -lc
    libc=libc-2.29.so, so=so, useshrplib=false, libperl=libperl.a
    gnulibc_version='2.29'
  Dynamic Linking:
    dlsrc=dl_dlopen.xs, dlext=so, d_dlsymun=undef, ccdlflags='-Wl,-E'
    cccdlflags='-fPIC', lddlflags='-shared -O2 -L/usr/local/lib -fstack-protector-strong'


Characteristics of this binary (from libperl): 
  Compile-time options: HAS_TIMES MULTIPLICITY PERLIO_LAYERS
                        PERL_DONT_CREATE_GVSV
                        PERL_HASH_FUNC_ONE_AT_A_TIME_HARD
                        PERL_IMPLICIT_CONTEXT PERL_MALLOC_WRAP
                        PERL_NEW_COPY_ON_WRITE PERL_PRESERVE_IVUV
                        PERL_USE_DEVEL USE_64_BIT_ALL USE_64_BIT_INT
                        USE_ITHREADS USE_LARGE_FILES USE_LOCALE
                        USE_LOCALE_COLLATE USE_LOCALE_CTYPE
                        USE_LOCALE_NUMERIC USE_LOCALE_TIME USE_PERLIO
                        USE_PERL_ATOF USE_REENTRANT_API
  Built under linux
  Compiled at Nov  9 2019 00:32:59
  %ENV:
    PERL5LIB="/tmp/user/1000/build/Math-Int64-0.54-5/blib/arch:/tmp/user/1000/build/Math-Int64-0.54-5/blib/lib:/tmp/user/1000/build/Data-Validate-IP-0.27-5/blib/arch:/tmp/user/1000/build/Data-Validate-IP-0.27-5/blib/lib:/tmp/user/1000/build/NetAddr-IP-4.079-5/blib/arch:/tmp/user/1000/build/NetAddr-IP-4.079-5/blib/lib"
    PERL5OPT=""
    PERL5_CPANPLUS_IS_RUNNING="1349799"
    PERL5_CPAN_IS_RUNNING="1349799"
    PERL5_CPAN_IS_RUNNING_IN_RECURSION="1349782,1349799"
    PERLBREW_HOME="/home/njh/.perlbrew"
    PERLBREW_MANPATH="/home/njh/perl5/perlbrew/perls/perl-5.22.1-thread/man"
    PERLBREW_PATH="/home/njh/perl5/perlbrew/bin:/home/njh/perl5/perlbrew/perls/perl-5.22.1-thread/bin"
    PERLBREW_PERL="perl-5.22.1-thread"
    PERLBREW_ROOT="/home/njh/perl5/perlbrew"
    PERLBREW_SHELLRC_VERSION="0.87"
    PERLBREW_VERSION="0.87"
    PERL_MM_USE_DEFAULT="1"
    PERL_USE_UNSAFE_INC="1"
  @INC:
    /tmp/user/1000/build/Math-Int64-0.54-5/blib/arch
    /tmp/user/1000/build/Math-Int64-0.54-5/blib/lib
    /tmp/user/1000/build/Data-Validate-IP-0.27-5/blib/arch
    /tmp/user/1000/build/Data-Validate-IP-0.27-5/blib/lib
    /tmp/user/1000/build/NetAddr-IP-4.079-5/blib/arch
    /tmp/user/1000/build/NetAddr-IP-4.079-5/blib/lib
    /home/njh/perl5/perlbrew/perls/perl-5.22.1-thread/lib/site_perl/5.22.1/x86_64-linux-thread-multi
    /home/njh/perl5/perlbrew/perls/perl-5.22.1-thread/lib/site_perl/5.22.1
    /home/njh/perl5/perlbrew/perls/perl-5.22.1-thread/lib/5.22.1/x86_64-linux-thread-multi
    /home/njh/perl5/perlbrew/perls/perl-5.22.1-thread/lib/5.22.1
    .