WebService-HealthGraph v0.000004 Perl 5 v5.26.1 OpenBSD.amd64-openbsd-thread-multi-ld
- Status
- Pass
- From
- Alceu Rodrigues de Freitas Junior
- Dist
-
WebService-HealthGraph v0.000004
- Platform
- Perl 5 v5.26.1 OpenBSD.amd64-openbsd-thread-multi-ld
- Date
- 2018-03-12 14:08:03
- ID
- c79a693a-25fe-11e8-ae09-c2a554930dd2
This distribution has been tested as part of the CPAN Testers
project, supporting the Perl programming language. See
http://wiki.cpantesters.org/ for more information or email
questions to cpan-testers-discuss@perl.org
--
Dear Olaf Alders,
This is a computer-generated report for WebService-HealthGraph-0.000004
on perl 5.26.1, created by CPAN-Reporter-1.2018.
Thank you for uploading your work to CPAN. Congratulations!
All tests were successful.
Sections of this report:
* Tester comments
* Program output
* Prerequisites
* Environment and other context
------------------------------
TESTER COMMENTS
------------------------------
Additional comments from tester:
this report is from an automated smoke testing program
and was not reviewed by a human for accuracy
------------------------------
PROGRAM OUTPUT
------------------------------
Output from '/usr/bin/make test':
PERL_DL_NONLAZY=1 "/home/vegeta/perl5/perlbrew/perls/perl-5.26.1/bin/perl" "-MExtUtils::Command::MM" "-MTest::Harness" "-e" "undef *Test::Harness::Switches; test_harness(0, 'blib/lib', 'blib/arch')" t/*.t
t/author-pod-coverage.t ... skipped: these tests are for testing by the author
t/author-pod-spell.t ...... skipped: these tests are for testing by the author
t/healthgraph-live.t ...... ok
GET https://api.runkeeper.com/user
.---------------------------------+-----------------------------------------.
| Request (before sending) Header | Value |
+---------------------------------+-----------------------------------------+
| Accept | application/vnd.com.runkeeper.User+json |
| User-Agent | libwww-perl/6.26 |
'---------------------------------+-----------------------------------------'
.--------------------------------+-----------------------------------------.
| Request (after sending) Header | Value |
+--------------------------------+-----------------------------------------+
| Accept | application/vnd.com.runkeeper.User+json |
| User-Agent | libwww-perl/6.26 |
'--------------------------------+-----------------------------------------'
==> 401 Unauthorized
.-------------------------+-----------------------------------------------------------------------------------------------------------------------------------------------------------.
| Response Header | Value |
+-------------------------+-----------------------------------------------------------------------------------------------------------------------------------------------------------+
| Client-Date | Mon, 12 Mar 2018 14:07:59 GMT |
| Client-Peer | 34.198.84.76:443 |
| Client-Response-Num | 1 |
| Client-SSL-Cert-Issuer | /C=US/ST=Arizona/L=Scottsdale/O=Starfield Technologies, Inc./OU=http://certs.starfieldtech.com/repository//CN=Starfield Secure Certificate Authority - G2 |
| Client-SSL-Cert-Subject | /OU=Domain Control Validated/CN=runkeeper.com |
| Client-SSL-Cipher | ECDHE-RSA-AES128-GCM-SHA256 |
| Client-SSL-Socket-Class | IO::Socket::SSL |
| Connection | close |
| Content-Language | en-US |
| Content-Length | 0 |
| Date | Mon, 12 Mar 2018 14:10:11 GMT |
| Server | Apache-Coyote/1.1 |
| WWW-Authenticate | Bearer |
'-------------------------+-----------------------------------------------------------------------------------------------------------------------------------------------------------'
t/healthgraph.t ........... ok
t/release-cpan-changes.t .. skipped: these tests are for release candidate testing
t/release-synopsis.t ...... skipped: these tests are for release candidate testing
t/release-tidyall.t ....... skipped: these tests are for release candidate testing
All tests successful.
Files=7, Tests=7, 4 wallclock secs ( 0.04 usr 0.06 sys + 1.92 cusr 0.80 csys = 2.82 CPU)
Result: PASS
------------------------------
PREREQUISITES
------------------------------
Prerequisite modules loaded:
requires:
Module Need Have
------------------------- -------- --------
Array::Iterator 0 0.12
JSON::MaybeXS 1.003005 1.003010
LWP::ConsoleLogger::Easy 0 0.000037
LWP::Protocol::https 0 6.07
LWP::UserAgent 6.15 6.26
Moo 2.001001 2.003004
perl 5.006 5.026001
strict 0 1.11
Type::Tiny 1.000005 1.002001
Types::Standard 0 1.002001
Types::URI 0 0.006
URI 1.71 1.73
URI::FromHash 0 0.05
warnings 0 1.37
build_requires:
Module Need Have
------------------------- -------- --------
Data::Printer 0 0.40
DateTime 0 1.46
ExtUtils::MakeMaker 0 7.33_03
List::AllUtils 0 0.14
Test2::Bundle::Extended 0 0.000104
Test2::Plugin::BailOnFail 0 0.000104
Test::RequiresInternet 0 0.05
configure_requires:
Module Need Have
------------------------- -------- --------
ExtUtils::MakeMaker 0 7.33_03
perl 5.006 5.026001
------------------------------
ENVIRONMENT AND OTHER CONTEXT
------------------------------
Environment variables:
AUTOMATED_TESTING = 1
DBD_MYSQL_TESTDB = test
DBD_MYSQL_TESTHOST = localhost
DBD_MYSQL_TESTPASSWORD =
DBD_MYSQL_TESTPORT = 3306
DBD_MYSQL_TESTUSER = vegeta
EXTENDED_TESTING = 1
PATH = /home/vegeta/perl5/perlbrew/bin:/home/vegeta/perl5/perlbrew/perls/perl-5.26.1/bin:/home/vegeta/bin:/usr/bin:/bin:/usr/sbin:/sbin:/usr/X11R6/bin:/usr/local/bin:/usr/local/sbin
PERL5LIB =
PERL5OPT =
PERL5_CPANPLUS_IS_RUNNING = 75350
PERL5_CPAN_IS_RUNNING = 75350
PERL5_CPAN_IS_RUNNING_IN_RECURSION = 55315,75350
PERLBREW_HOME = /home/vegeta/.perlbrew
PERLBREW_MANPATH = /home/vegeta/perl5/perlbrew/perls/perl-5.26.1/man
PERLBREW_PATH = /home/vegeta/perl5/perlbrew/bin:/home/vegeta/perl5/perlbrew/perls/perl-5.26.1/bin
PERLBREW_PERL = perl-5.26.1
PERLBREW_ROOT = /home/vegeta/perl5/perlbrew
PERLBREW_SHELLRC_VERSION = 0.82
PERLBREW_VERSION = 0.82
PERL_CR_SMOKER_CURRENT = WebService-HealthGraph-0.000004
PERL_EXTUTILS_AUTOINSTALL = --defaultdeps
PERL_MM_USE_DEFAULT = 1
SHELL = /usr/local/bin/bash
TERM = xterm
Perl special variables (and OS-specific diagnostics, for MSWin32):
$^X = /home/vegeta/perl5/perlbrew/perls/perl-5.26.1/bin/perl
$UID/$EUID = 1002 / 1002
$GID = 1002 1002 1001
$EGID = 1002 1002 1001
Perl module toolchain versions installed:
Module Have
------------------- --------
CPAN 2.16
CPAN::Meta 2.150010
Cwd 3.74
ExtUtils::CBuilder 0.280230
ExtUtils::Command 7.33_03
ExtUtils::Install 2.14
ExtUtils::MakeMaker 7.33_03
ExtUtils::Manifest 1.70
ExtUtils::ParseXS 3.35
File::Spec 3.74
JSON 2.97001
JSON::PP 2.97001
Module::Build 0.4224
Module::Signature n/a
Parse::CPAN::Meta 2.150010
Test::Harness 3.41
Test::More 1.302128
YAML 1.24
YAML::Syck 1.30
version 0.9918
--
Summary of my perl5 (revision 5 version 26 subversion 1) configuration:
Platform:
osname=openbsd
osvers=6.2
archname=OpenBSD.amd64-openbsd-thread-multi-ld
uname='openbsd cpan-smoker-openbsd 6.2 generic.mp#134 amd64 '
config_args='-de -Dprefix=/home/vegeta/perl5/perlbrew/perls/perl-5.26.1 -Dman1dir=none -Dman3dir=none -Duse64bitint -Duselongdouble -Duse64bitall -Dusethreads -Dusemultiplicity -Aeval:scriptdir=/home/vegeta/perl5/perlbrew/perls/perl-5.26.1/bin'
hint=recommended
useposix=true
d_sigaction=define
useithreads=define
usemultiplicity=define
use64bitint=define
use64bitall=define
uselongdouble=define
usemymalloc=n
default_inc_excludes_dot=define
bincompat5005=undef
Compiler:
cc='cc'
ccflags ='-pthread -fno-strict-aliasing -pipe -fstack-protector-strong -I/usr/local/include -D_FORTIFY_SOURCE=2'
optimize='-O2'
cppflags='-pthread -fno-strict-aliasing -pipe -fstack-protector-strong -I/usr/local/include'
ccversion=''
gccversion='4.2.1 Compatible OpenBSD Clang 4.0.0 (tags/RELEASE_400/final)'
gccosandvers=''
intsize=4
longsize=8
ptrsize=8
doublesize=8
byteorder=12345678
doublekind=3
d_longlong=define
longlongsize=8
d_longdbl=define
longdblsize=16
longdblkind=3
ivtype='long'
ivsize=8
nvtype='long double'
nvsize=16
Off_t='off_t'
lseeksize=8
alignbytes=16
prototype=define
Linker and Libraries:
ld='cc'
ldflags ='-pthread -Wl,-E -fstack-protector-strong -L/usr/local/lib'
libpth=/usr/lib /usr/local/lib
libs=-lpthread -lm -lutil -lc
perllibs=-lpthread -lm -lutil -lc
libc=/usr/lib/libc.so.90.0
so=so
useshrplib=false
libperl=libperl.a
gnulibc_version=''
Dynamic Linking:
dlsrc=dl_dlopen.xs
dlext=so
d_dlsymun=undef
ccdlflags=' '
cccdlflags='-DPIC -fPIC '
lddlflags='-shared -fPIC -L/usr/local/lib -fstack-protector-strong'
Characteristics of this binary (from libperl):
Compile-time options:
HAS_TIMES
MULTIPLICITY
PERLIO_LAYERS
PERL_COPY_ON_WRITE
PERL_DONT_CREATE_GVSV
PERL_IMPLICIT_CONTEXT
PERL_MALLOC_WRAP
PERL_OP_PARENT
PERL_PRESERVE_IVUV
USE_64_BIT_ALL
USE_64_BIT_INT
USE_ITHREADS
USE_LARGE_FILES
USE_LOCALE
USE_LOCALE_COLLATE
USE_LOCALE_CTYPE
USE_LOCALE_NUMERIC
USE_LOCALE_TIME
USE_LONG_DOUBLE
USE_PERLIO
USE_PERL_ATOF
USE_REENTRANT_API
Locally applied patches:
Devel::PatchPerl 1.48
Built under openbsd
Compiled at Mar 6 2018 14:52:27
%ENV:
PERL5LIB=""
PERL5OPT=""
PERL5_CPANPLUS_IS_RUNNING="75350"
PERL5_CPAN_IS_RUNNING="75350"
PERL5_CPAN_IS_RUNNING_IN_RECURSION="55315,75350"
PERLBREW_HOME="/home/vegeta/.perlbrew"
PERLBREW_MANPATH="/home/vegeta/perl5/perlbrew/perls/perl-5.26.1/man"
PERLBREW_PATH="/home/vegeta/perl5/perlbrew/bin:/home/vegeta/perl5/perlbrew/perls/perl-5.26.1/bin"
PERLBREW_PERL="perl-5.26.1"
PERLBREW_ROOT="/home/vegeta/perl5/perlbrew"
PERLBREW_SHELLRC_VERSION="0.82"
PERLBREW_VERSION="0.82"
PERL_CR_SMOKER_CURRENT="WebService-HealthGraph-0.000004"
PERL_EXTUTILS_AUTOINSTALL="--defaultdeps"
PERL_MM_USE_DEFAULT="1"
@INC:
/home/vegeta/perl5/perlbrew/perls/perl-5.26.1/lib/site_perl/5.26.1/OpenBSD.amd64-openbsd-thread-multi-ld
/home/vegeta/perl5/perlbrew/perls/perl-5.26.1/lib/site_perl/5.26.1
/home/vegeta/perl5/perlbrew/perls/perl-5.26.1/lib/5.26.1/OpenBSD.amd64-openbsd-thread-multi-ld
/home/vegeta/perl5/perlbrew/perls/perl-5.26.1/lib/5.26.1