Curses-UI v0.9607 Perl 5 v5.12.0 i386-freebsd-thread-multi

Status
Pass
From
Chris Williams (BINGOS)
Dist
Curses-UI v0.9607
Platform
Perl 5 v5.12.0 i386-freebsd-thread-multi
Date
2010-05-14 22:12:26
ID
c75ae95e-5fa5-11df-a648-0fd78fbefd91
This distribution has been tested as part of the CPAN Testers
project, supporting the Perl programming language.  See
http://wiki.cpantesters.org/ for more information or email
questions to cpan-testers-discuss@perl.org


--

Dear Shawn Boyette,
    
This is a computer-generated error report created automatically by
CPANPLUS, version 0.9004. Testers personal comments may appear 
at the end of this report.

MAKE TEST passed: /usr/home/cpan/pit/thr/perl-5.12.0/bin/perl "-Iinc" /usr/home/cpan/pit/thr/conf/perl-5.12.0/.cpanplus/5.12.0/build/Curses-UI-0.9607/Makefile.PL --config= --installdeps=Curses,0,Term::ReadKey,0
Cannot determine perl version info from lib/Curses/UI.pm
WARNING: 'All rights reserved' in copyright may invalidate Open Source license.
PERL_DL_NONLAZY=1 /usr/home/cpan/pit/thr/perl-5.12.0/bin/perl "-MExtUtils::Command::MM" "-e" "test_harness(0, 'inc', 'blib/lib', 'blib/arch')" t/01base_classes.t t/02widget_classes.t t/03dialog_classes.t t/04language_classes.t t/05pod.t t/06ui.t t/07widget.t t/08common.t t/09label.t t/10texteditor.t t/11listbox.t t/12gpm_handler.t t/13notebook.t t/99misc.t
Prototype after '@' for Curses::UI::Widget::width_by_windowscrwidth : $@; at /usr/home/cpan/pit/thr/conf/perl-5.12.0/.cpanplus/5.12.0/build/Curses-UI-0.9607/t/../lib/Curses/UI/Widget.pm line 356.
Prototype after '@' for Curses::UI::Widget::height_by_windowscrheight : $@; at /usr/home/cpan/pit/thr/conf/perl-5.12.0/.cpanplus/5.12.0/build/Curses-UI-0.9607/t/../lib/Curses/UI/Widget.pm line 380.
Prototype after '@' for Curses::UI::Widget::set_binding : $@; at /usr/home/cpan/pit/thr/conf/perl-5.12.0/.cpanplus/5.12.0/build/Curses-UI-0.9607/t/../lib/Curses/UI/Widget.pm line 898.
Prototype after '@' for Curses::UI::Widget::set_mouse_binding : $@; at /usr/home/cpan/pit/thr/conf/perl-5.12.0/.cpanplus/5.12.0/build/Curses-UI-0.9607/t/../lib/Curses/UI/Widget.pm line 924.
Prototype after '@' for Curses::UI::Container::add : $@; at /usr/home/cpan/pit/thr/conf/perl-5.12.0/.cpanplus/5.12.0/build/Curses-UI-0.9607/t/../lib/Curses/UI/Container.pm line 67.
Prototype after '@' for Curses::UI::Container::set_focusorder : @; at /usr/home/cpan/pit/thr/conf/perl-5.12.0/.cpanplus/5.12.0/build/Curses-UI-0.9607/t/../lib/Curses/UI/Container.pm line 475.
Prototype after '@' for Curses::UI::Container::set_draworder : @; at /usr/home/cpan/pit/thr/conf/perl-5.12.0/.cpanplus/5.12.0/build/Curses-UI-0.9607/t/../lib/Curses/UI/Container.pm line 483.
t/01base_classes.t ...... ok
Prototype after '@' for Curses::UI::Widget::width_by_windowscrwidth : $@; at /usr/home/cpan/pit/thr/conf/perl-5.12.0/.cpanplus/5.12.0/build/Curses-UI-0.9607/blib/lib/Curses/UI/Widget.pm line 356.
Prototype after '@' for Curses::UI::Widget::height_by_windowscrheight : $@; at /usr/home/cpan/pit/thr/conf/perl-5.12.0/.cpanplus/5.12.0/build/Curses-UI-0.9607/blib/lib/Curses/UI/Widget.pm line 380.
Prototype after '@' for Curses::UI::Widget::set_binding : $@; at /usr/home/cpan/pit/thr/conf/perl-5.12.0/.cpanplus/5.12.0/build/Curses-UI-0.9607/blib/lib/Curses/UI/Widget.pm line 898.
Prototype after '@' for Curses::UI::Widget::set_mouse_binding : $@; at /usr/home/cpan/pit/thr/conf/perl-5.12.0/.cpanplus/5.12.0/build/Curses-UI-0.9607/blib/lib/Curses/UI/Widget.pm line 924.
Prototype after '@' for Curses::UI::Container::add : $@; at /usr/home/cpan/pit/thr/conf/perl-5.12.0/.cpanplus/5.12.0/build/Curses-UI-0.9607/blib/lib/Curses/UI/Container.pm line 67.
Prototype after '@' for Curses::UI::Container::set_focusorder : @; at /usr/home/cpan/pit/thr/conf/perl-5.12.0/.cpanplus/5.12.0/build/Curses-UI-0.9607/blib/lib/Curses/UI/Container.pm line 475.
Prototype after '@' for Curses::UI::Container::set_draworder : @; at /usr/home/cpan/pit/thr/conf/perl-5.12.0/.cpanplus/5.12.0/build/Curses-UI-0.9607/blib/lib/Curses/UI/Container.pm line 483.
Prototype after '@' for Curses::UI::Listbox::maxlabelwidth : @; at /usr/home/cpan/pit/thr/conf/perl-5.12.0/.cpanplus/5.12.0/build/Curses-UI-0.9607/blib/lib/Curses/UI/Listbox.pm line 221.
t/02widget_classes.t .... ok
Prototype after '@' for Curses::UI::Widget::width_by_windowscrwidth : $@; at /usr/home/cpan/pit/thr/conf/perl-5.12.0/.cpanplus/5.12.0/build/Curses-UI-0.9607/blib/lib/Curses/UI/Widget.pm line 356.
Prototype after '@' for Curses::UI::Widget::height_by_windowscrheight : $@; at /usr/home/cpan/pit/thr/conf/perl-5.12.0/.cpanplus/5.12.0/build/Curses-UI-0.9607/blib/lib/Curses/UI/Widget.pm line 380.
Prototype after '@' for Curses::UI::Widget::set_binding : $@; at /usr/home/cpan/pit/thr/conf/perl-5.12.0/.cpanplus/5.12.0/build/Curses-UI-0.9607/blib/lib/Curses/UI/Widget.pm line 898.
Prototype after '@' for Curses::UI::Widget::set_mouse_binding : $@; at /usr/home/cpan/pit/thr/conf/perl-5.12.0/.cpanplus/5.12.0/build/Curses-UI-0.9607/blib/lib/Curses/UI/Widget.pm line 924.
Prototype after '@' for Curses::UI::Container::add : $@; at /usr/home/cpan/pit/thr/conf/perl-5.12.0/.cpanplus/5.12.0/build/Curses-UI-0.9607/blib/lib/Curses/UI/Container.pm line 67.
Prototype after '@' for Curses::UI::Container::set_focusorder : @; at /usr/home/cpan/pit/thr/conf/perl-5.12.0/.cpanplus/5.12.0/build/Curses-UI-0.9607/blib/lib/Curses/UI/Container.pm line 475.
Prototype after '@' for Curses::UI::Container::set_draworder : @; at /usr/home/cpan/pit/thr/conf/perl-5.12.0/.cpanplus/5.12.0/build/Curses-UI-0.9607/blib/lib/Curses/UI/Container.pm line 483.
t/03dialog_classes.t .... ok
Prototype after '@' for Curses::UI::Widget::width_by_windowscrwidth : $@; at /usr/home/cpan/pit/thr/conf/perl-5.12.0/.cpanplus/5.12.0/build/Curses-UI-0.9607/t/../lib/Curses/UI/Widget.pm line 356.
Prototype after '@' for Curses::UI::Widget::height_by_windowscrheight : $@; at /usr/home/cpan/pit/thr/conf/perl-5.12.0/.cpanplus/5.12.0/build/Curses-UI-0.9607/t/../lib/Curses/UI/Widget.pm line 380.
Prototype after '@' for Curses::UI::Widget::set_binding : $@; at /usr/home/cpan/pit/thr/conf/perl-5.12.0/.cpanplus/5.12.0/build/Curses-UI-0.9607/t/../lib/Curses/UI/Widget.pm line 898.
Prototype after '@' for Curses::UI::Widget::set_mouse_binding : $@; at /usr/home/cpan/pit/thr/conf/perl-5.12.0/.cpanplus/5.12.0/build/Curses-UI-0.9607/t/../lib/Curses/UI/Widget.pm line 924.
Prototype after '@' for Curses::UI::Container::add : $@; at /usr/home/cpan/pit/thr/conf/perl-5.12.0/.cpanplus/5.12.0/build/Curses-UI-0.9607/t/../lib/Curses/UI/Container.pm line 67.
Prototype after '@' for Curses::UI::Container::set_focusorder : @; at /usr/home/cpan/pit/thr/conf/perl-5.12.0/.cpanplus/5.12.0/build/Curses-UI-0.9607/t/../lib/Curses/UI/Container.pm line 475.
Prototype after '@' for Curses::UI::Container::set_draworder : @; at /usr/home/cpan/pit/thr/conf/perl-5.12.0/.cpanplus/5.12.0/build/Curses-UI-0.9607/t/../lib/Curses/UI/Container.pm line 483.
t/04language_classes.t .. ok
t/05pod.t ............... skipped: Test::Pod required for testing POD
Prototype after '@' for Curses::UI::Widget::width_by_windowscrwidth : $@; at /usr/home/cpan/pit/thr/conf/perl-5.12.0/.cpanplus/5.12.0/build/Curses-UI-0.9607/blib/lib/Curses/UI/Widget.pm line 356.
Prototype after '@' for Curses::UI::Widget::height_by_windowscrheight : $@; at /usr/home/cpan/pit/thr/conf/perl-5.12.0/.cpanplus/5.12.0/build/Curses-UI-0.9607/blib/lib/Curses/UI/Widget.pm line 380.
Prototype after '@' for Curses::UI::Widget::set_binding : $@; at /usr/home/cpan/pit/thr/conf/perl-5.12.0/.cpanplus/5.12.0/build/Curses-UI-0.9607/blib/lib/Curses/UI/Widget.pm line 898.
Prototype after '@' for Curses::UI::Widget::set_mouse_binding : $@; at /usr/home/cpan/pit/thr/conf/perl-5.12.0/.cpanplus/5.12.0/build/Curses-UI-0.9607/blib/lib/Curses/UI/Widget.pm line 924.
Prototype after '@' for Curses::UI::Container::add : $@; at /usr/home/cpan/pit/thr/conf/perl-5.12.0/.cpanplus/5.12.0/build/Curses-UI-0.9607/blib/lib/Curses/UI/Container.pm line 67.
Prototype after '@' for Curses::UI::Container::set_focusorder : @; at /usr/home/cpan/pit/thr/conf/perl-5.12.0/.cpanplus/5.12.0/build/Curses-UI-0.9607/blib/lib/Curses/UI/Container.pm line 475.
Prototype after '@' for Curses::UI::Container::set_draworder : @; at /usr/home/cpan/pit/thr/conf/perl-5.12.0/.cpanplus/5.12.0/build/Curses-UI-0.9607/blib/lib/Curses/UI/Container.pm line 483.
t/06ui.t ................ ok
Prototype after '@' for Curses::UI::Widget::width_by_windowscrwidth : $@; at /usr/home/cpan/pit/thr/conf/perl-5.12.0/.cpanplus/5.12.0/build/Curses-UI-0.9607/blib/lib/Curses/UI/Widget.pm line 356.
Prototype after '@' for Curses::UI::Widget::height_by_windowscrheight : $@; at /usr/home/cpan/pit/thr/conf/perl-5.12.0/.cpanplus/5.12.0/build/Curses-UI-0.9607/blib/lib/Curses/UI/Widget.pm line 380.
Prototype after '@' for Curses::UI::Widget::set_binding : $@; at /usr/home/cpan/pit/thr/conf/perl-5.12.0/.cpanplus/5.12.0/build/Curses-UI-0.9607/blib/lib/Curses/UI/Widget.pm line 898.
Prototype after '@' for Curses::UI::Widget::set_mouse_binding : $@; at /usr/home/cpan/pit/thr/conf/perl-5.12.0/.cpanplus/5.12.0/build/Curses-UI-0.9607/blib/lib/Curses/UI/Widget.pm line 924.
Prototype after '@' for Curses::UI::Container::add : $@; at /usr/home/cpan/pit/thr/conf/perl-5.12.0/.cpanplus/5.12.0/build/Curses-UI-0.9607/blib/lib/Curses/UI/Container.pm line 67.
Prototype after '@' for Curses::UI::Container::set_focusorder : @; at /usr/home/cpan/pit/thr/conf/perl-5.12.0/.cpanplus/5.12.0/build/Curses-UI-0.9607/blib/lib/Curses/UI/Container.pm line 475.
Prototype after '@' for Curses::UI::Container::set_draworder : @; at /usr/home/cpan/pit/thr/conf/perl-5.12.0/.cpanplus/5.12.0/build/Curses-UI-0.9607/blib/lib/Curses/UI/Container.pm line 483.
t/07widget.t ............ ok
Prototype after '@' for Curses::UI::Widget::width_by_windowscrwidth : $@; at /usr/home/cpan/pit/thr/conf/perl-5.12.0/.cpanplus/5.12.0/build/Curses-UI-0.9607/blib/lib/Curses/UI/Widget.pm line 356.
Prototype after '@' for Curses::UI::Widget::height_by_windowscrheight : $@; at /usr/home/cpan/pit/thr/conf/perl-5.12.0/.cpanplus/5.12.0/build/Curses-UI-0.9607/blib/lib/Curses/UI/Widget.pm line 380.
Prototype after '@' for Curses::UI::Widget::set_binding : $@; at /usr/home/cpan/pit/thr/conf/perl-5.12.0/.cpanplus/5.12.0/build/Curses-UI-0.9607/blib/lib/Curses/UI/Widget.pm line 898.
Prototype after '@' for Curses::UI::Widget::set_mouse_binding : $@; at /usr/home/cpan/pit/thr/conf/perl-5.12.0/.cpanplus/5.12.0/build/Curses-UI-0.9607/blib/lib/Curses/UI/Widget.pm line 924.
Prototype after '@' for Curses::UI::Container::add : $@; at /usr/home/cpan/pit/thr/conf/perl-5.12.0/.cpanplus/5.12.0/build/Curses-UI-0.9607/blib/lib/Curses/UI/Container.pm line 67.
Prototype after '@' for Curses::UI::Container::set_focusorder : @; at /usr/home/cpan/pit/thr/conf/perl-5.12.0/.cpanplus/5.12.0/build/Curses-UI-0.9607/blib/lib/Curses/UI/Container.pm line 475.
Prototype after '@' for Curses::UI::Container::set_draworder : @; at /usr/home/cpan/pit/thr/conf/perl-5.12.0/.cpanplus/5.12.0/build/Curses-UI-0.9607/blib/lib/Curses/UI/Container.pm line 483.
t/08common.t ............ ok
Prototype after '@' for Curses::UI::Widget::width_by_windowscrwidth : $@; at /usr/home/cpan/pit/thr/conf/perl-5.12.0/.cpanplus/5.12.0/build/Curses-UI-0.9607/blib/lib/Curses/UI/Widget.pm line 356.
Prototype after '@' for Curses::UI::Widget::height_by_windowscrheight : $@; at /usr/home/cpan/pit/thr/conf/perl-5.12.0/.cpanplus/5.12.0/build/Curses-UI-0.9607/blib/lib/Curses/UI/Widget.pm line 380.
Prototype after '@' for Curses::UI::Widget::set_binding : $@; at /usr/home/cpan/pit/thr/conf/perl-5.12.0/.cpanplus/5.12.0/build/Curses-UI-0.9607/blib/lib/Curses/UI/Widget.pm line 898.
Prototype after '@' for Curses::UI::Widget::set_mouse_binding : $@; at /usr/home/cpan/pit/thr/conf/perl-5.12.0/.cpanplus/5.12.0/build/Curses-UI-0.9607/blib/lib/Curses/UI/Widget.pm line 924.
Prototype after '@' for Curses::UI::Container::add : $@; at /usr/home/cpan/pit/thr/conf/perl-5.12.0/.cpanplus/5.12.0/build/Curses-UI-0.9607/blib/lib/Curses/UI/Container.pm line 67.
Prototype after '@' for Curses::UI::Container::set_focusorder : @; at /usr/home/cpan/pit/thr/conf/perl-5.12.0/.cpanplus/5.12.0/build/Curses-UI-0.9607/blib/lib/Curses/UI/Container.pm line 475.
Prototype after '@' for Curses::UI::Container::set_draworder : @; at /usr/home/cpan/pit/thr/conf/perl-5.12.0/.cpanplus/5.12.0/build/Curses-UI-0.9607/blib/lib/Curses/UI/Container.pm line 483.
t/09label.t ............. ok
Prototype after '@' for Curses::UI::Widget::width_by_windowscrwidth : $@; at /usr/home/cpan/pit/thr/conf/perl-5.12.0/.cpanplus/5.12.0/build/Curses-UI-0.9607/blib/lib/Curses/UI/Widget.pm line 356.
Prototype after '@' for Curses::UI::Widget::height_by_windowscrheight : $@; at /usr/home/cpan/pit/thr/conf/perl-5.12.0/.cpanplus/5.12.0/build/Curses-UI-0.9607/blib/lib/Curses/UI/Widget.pm line 380.
Prototype after '@' for Curses::UI::Widget::set_binding : $@; at /usr/home/cpan/pit/thr/conf/perl-5.12.0/.cpanplus/5.12.0/build/Curses-UI-0.9607/blib/lib/Curses/UI/Widget.pm line 898.
Prototype after '@' for Curses::UI::Widget::set_mouse_binding : $@; at /usr/home/cpan/pit/thr/conf/perl-5.12.0/.cpanplus/5.12.0/build/Curses-UI-0.9607/blib/lib/Curses/UI/Widget.pm line 924.
Prototype after '@' for Curses::UI::Container::add : $@; at /usr/home/cpan/pit/thr/conf/perl-5.12.0/.cpanplus/5.12.0/build/Curses-UI-0.9607/blib/lib/Curses/UI/Container.pm line 67.
Prototype after '@' for Curses::UI::Container::set_focusorder : @; at /usr/home/cpan/pit/thr/conf/perl-5.12.0/.cpanplus/5.12.0/build/Curses-UI-0.9607/blib/lib/Curses/UI/Container.pm line 475.
Prototype after '@' for Curses::UI::Container::set_draworder : @; at /usr/home/cpan/pit/thr/conf/perl-5.12.0/.cpanplus/5.12.0/build/Curses-UI-0.9607/blib/lib/Curses/UI/Container.pm line 483.
t/10texteditor.t ........ ok
Prototype after '@' for Curses::UI::Widget::width_by_windowscrwidth : $@; at /usr/home/cpan/pit/thr/conf/perl-5.12.0/.cpanplus/5.12.0/build/Curses-UI-0.9607/blib/lib/Curses/UI/Widget.pm line 356.
Prototype after '@' for Curses::UI::Widget::height_by_windowscrheight : $@; at /usr/home/cpan/pit/thr/conf/perl-5.12.0/.cpanplus/5.12.0/build/Curses-UI-0.9607/blib/lib/Curses/UI/Widget.pm line 380.
Prototype after '@' for Curses::UI::Widget::set_binding : $@; at /usr/home/cpan/pit/thr/conf/perl-5.12.0/.cpanplus/5.12.0/build/Curses-UI-0.9607/blib/lib/Curses/UI/Widget.pm line 898.
Prototype after '@' for Curses::UI::Widget::set_mouse_binding : $@; at /usr/home/cpan/pit/thr/conf/perl-5.12.0/.cpanplus/5.12.0/build/Curses-UI-0.9607/blib/lib/Curses/UI/Widget.pm line 924.
Prototype after '@' for Curses::UI::Container::add : $@; at /usr/home/cpan/pit/thr/conf/perl-5.12.0/.cpanplus/5.12.0/build/Curses-UI-0.9607/blib/lib/Curses/UI/Container.pm line 67.
Prototype after '@' for Curses::UI::Container::set_focusorder : @; at /usr/home/cpan/pit/thr/conf/perl-5.12.0/.cpanplus/5.12.0/build/Curses-UI-0.9607/blib/lib/Curses/UI/Container.pm line 475.
Prototype after '@' for Curses::UI::Container::set_draworder : @; at /usr/home/cpan/pit/thr/conf/perl-5.12.0/.cpanplus/5.12.0/build/Curses-UI-0.9607/blib/lib/Curses/UI/Container.pm line 483.
Prototype after '@' for Curses::UI::Listbox::maxlabelwidth : @; at /usr/home/cpan/pit/thr/conf/perl-5.12.0/.cpanplus/5.12.0/build/Curses-UI-0.9607/blib/lib/Curses/UI/Listbox.pm line 221.
t/11listbox.t ........... ok
Prototype after '@' for Curses::UI::Widget::width_by_windowscrwidth : $@; at /usr/home/cpan/pit/thr/conf/perl-5.12.0/.cpanplus/5.12.0/build/Curses-UI-0.9607/blib/lib/Curses/UI/Widget.pm line 356.
Prototype after '@' for Curses::UI::Widget::height_by_windowscrheight : $@; at /usr/home/cpan/pit/thr/conf/perl-5.12.0/.cpanplus/5.12.0/build/Curses-UI-0.9607/blib/lib/Curses/UI/Widget.pm line 380.
Prototype after '@' for Curses::UI::Widget::set_binding : $@; at /usr/home/cpan/pit/thr/conf/perl-5.12.0/.cpanplus/5.12.0/build/Curses-UI-0.9607/blib/lib/Curses/UI/Widget.pm line 898.
Prototype after '@' for Curses::UI::Widget::set_mouse_binding : $@; at /usr/home/cpan/pit/thr/conf/perl-5.12.0/.cpanplus/5.12.0/build/Curses-UI-0.9607/blib/lib/Curses/UI/Widget.pm line 924.
Prototype after '@' for Curses::UI::Container::add : $@; at /usr/home/cpan/pit/thr/conf/perl-5.12.0/.cpanplus/5.12.0/build/Curses-UI-0.9607/blib/lib/Curses/UI/Container.pm line 67.
Prototype after '@' for Curses::UI::Container::set_focusorder : @; at /usr/home/cpan/pit/thr/conf/perl-5.12.0/.cpanplus/5.12.0/build/Curses-UI-0.9607/blib/lib/Curses/UI/Container.pm line 475.
Prototype after '@' for Curses::UI::Container::set_draworder : @; at /usr/home/cpan/pit/thr/conf/perl-5.12.0/.cpanplus/5.12.0/build/Curses-UI-0.9607/blib/lib/Curses/UI/Container.pm line 483.
t/12gpm_handler.t ....... ok
Prototype after '@' for Curses::UI::Widget::width_by_windowscrwidth : $@; at /usr/home/cpan/pit/thr/conf/perl-5.12.0/.cpanplus/5.12.0/build/Curses-UI-0.9607/blib/lib/Curses/UI/Widget.pm line 356.
Prototype after '@' for Curses::UI::Widget::height_by_windowscrheight : $@; at /usr/home/cpan/pit/thr/conf/perl-5.12.0/.cpanplus/5.12.0/build/Curses-UI-0.9607/blib/lib/Curses/UI/Widget.pm line 380.
Prototype after '@' for Curses::UI::Widget::set_binding : $@; at /usr/home/cpan/pit/thr/conf/perl-5.12.0/.cpanplus/5.12.0/build/Curses-UI-0.9607/blib/lib/Curses/UI/Widget.pm line 898.
Prototype after '@' for Curses::UI::Widget::set_mouse_binding : $@; at /usr/home/cpan/pit/thr/conf/perl-5.12.0/.cpanplus/5.12.0/build/Curses-UI-0.9607/blib/lib/Curses/UI/Widget.pm line 924.
Prototype after '@' for Curses::UI::Container::add : $@; at /usr/home/cpan/pit/thr/conf/perl-5.12.0/.cpanplus/5.12.0/build/Curses-UI-0.9607/blib/lib/Curses/UI/Container.pm line 67.
Prototype after '@' for Curses::UI::Container::set_focusorder : @; at /usr/home/cpan/pit/thr/conf/perl-5.12.0/.cpanplus/5.12.0/build/Curses-UI-0.9607/blib/lib/Curses/UI/Container.pm line 475.
Prototype after '@' for Curses::UI::Container::set_draworder : @; at /usr/home/cpan/pit/thr/conf/perl-5.12.0/.cpanplus/5.12.0/build/Curses-UI-0.9607/blib/lib/Curses/UI/Container.pm line 483.
t/13notebook.t .......... ok
Prototype after '@' for Curses::UI::Widget::width_by_windowscrwidth : $@; at /usr/home/cpan/pit/thr/conf/perl-5.12.0/.cpanplus/5.12.0/build/Curses-UI-0.9607/blib/lib/Curses/UI/Widget.pm line 356.
Prototype after '@' for Curses::UI::Widget::height_by_windowscrheight : $@; at /usr/home/cpan/pit/thr/conf/perl-5.12.0/.cpanplus/5.12.0/build/Curses-UI-0.9607/blib/lib/Curses/UI/Widget.pm line 380.
Prototype after '@' for Curses::UI::Widget::set_binding : $@; at /usr/home/cpan/pit/thr/conf/perl-5.12.0/.cpanplus/5.12.0/build/Curses-UI-0.9607/blib/lib/Curses/UI/Widget.pm line 898.
Prototype after '@' for Curses::UI::Widget::set_mouse_binding : $@; at /usr/home/cpan/pit/thr/conf/perl-5.12.0/.cpanplus/5.12.0/build/Curses-UI-0.9607/blib/lib/Curses/UI/Widget.pm line 924.
Prototype after '@' for Curses::UI::Container::add : $@; at /usr/home/cpan/pit/thr/conf/perl-5.12.0/.cpanplus/5.12.0/build/Curses-UI-0.9607/blib/lib/Curses/UI/Container.pm line 67.
Prototype after '@' for Curses::UI::Container::set_focusorder : @; at /usr/home/cpan/pit/thr/conf/perl-5.12.0/.cpanplus/5.12.0/build/Curses-UI-0.9607/blib/lib/Curses/UI/Container.pm line 475.
Prototype after '@' for Curses::UI::Container::set_draworder : @; at /usr/home/cpan/pit/thr/conf/perl-5.12.0/.cpanplus/5.12.0/build/Curses-UI-0.9607/blib/lib/Curses/UI/Container.pm line 483.
t/99misc.t .............. ok
All tests successful.
Files=14, Tests=124,  4 wallclock secs ( 0.12 usr  0.14 sys +  2.43 cusr  0.76 csys =  3.45 CPU)
Result: PASS

[MSG] [Fri May 14 23:12:26 2010] Sending test report for 'Curses-UI-0.9607'

This report was machine-generated by CPANPLUS::Dist::YACSmoke 0.56.
Powered by minismokebox version 0.26

------------------------------
ENVIRONMENT AND OTHER CONTEXT
------------------------------

Environment variables:

    AUTOMATED_TESTING = 1
    PATH = /sbin:/bin:/usr/sbin:/usr/bin:/usr/games:/usr/local/sbin:/usr/local/bin:/home/cpan/bin
    PERL5LIB = :/usr/home/cpan/pit/thr/conf/perl-5.12.0/.cpanplus/5.12.0/build/Class-Field-0.15/blib/lib:/usr/home/cpan/pit/thr/conf/perl-5.12.0/.cpanplus/5.12.0/build/Class-Field-0.15/blib/arch:/usr/home/cpan/pit/thr/conf/perl-5.12.0/.cpanplus/5.12.0/build/Curses-1.28/blib/lib:/usr/home/cpan/pit/thr/conf/perl-5.12.0/.cpanplus/5.12.0/build/Curses-1.28/blib/arch:/usr/home/cpan/pit/thr/conf/perl-5.12.0/.cpanplus/5.12.0/build/TermReadKey-2.30/blib/lib:/usr/home/cpan/pit/thr/conf/perl-5.12.0/.cpanplus/5.12.0/build/TermReadKey-2.30/blib/arch:/usr/home/cpan/pit/thr/conf/perl-5.12.0/.cpanplus/5.12.0/build/Curses-UI-0.9607/blib/lib:/usr/home/cpan/pit/thr/conf/perl-5.12.0/.cpanplus/5.12.0/build/Curses-UI-0.9607/blib/arch
    PERL5_CPANPLUS_IS_RUNNING = 26038
    PERL5_CPANPLUS_IS_VERSION = 0.9004
    PERL5_MINISMOKEBOX = 0.26
    PERL5_YACSMOKE_BASE = /usr/home/cpan/pit/thr/conf/perl-5.12.0/
    PERL_EXTUTILS_AUTOINSTALL = --defaultdeps
    PERL_MM_USE_DEFAULT = 1
    SHELL = /usr/local/bin/bash
    TERM = screen

Perl special variables (and OS-specific diagnostics, for MSWin32):

    Perl: $^X = /usr/home/cpan/pit/thr/perl-5.12.0/bin/perl
    UID:  $<  = 1003
    EUID: $>  = 1003
    GID:  $(  = 1003 1003 1003
    EGID: $)  = 1003 1003 1003


-------------------------------


--

Summary of my perl5 (revision 5 version 12 subversion 0) configuration:
   
  Platform:
    osname=freebsd, osvers=7.2-release, archname=i386-freebsd-thread-multi
    uname='freebsd wintermute.staffordshire.gov.uk 7.2-release freebsd 7.2-release #0: fri may 1 08:49:13 utc 2009 root@walker.cse.buffalo.edu:usrobjusrsrcsysgeneric i386 '
    config_args='-des -Dusethreads -Dprefix=/usr/home/cpan/pit/thr/perl-5.12.0'
    hint=recommended, useposix=true, d_sigaction=define
    useithreads=define, usemultiplicity=define
    useperlio=define, d_sfio=undef, uselargefiles=define, usesocks=undef
    use64bitint=undef, use64bitall=undef, uselongdouble=undef
    usemymalloc=n, bincompat5005=undef
  Compiler:
    cc='cc', ccflags ='-DHAS_FPSETMASK -DHAS_FLOATINGPOINT_H -fno-strict-aliasing -pipe -fstack-protector -I/usr/local/include',
    optimize='-O',
    cppflags='-DHAS_FPSETMASK -DHAS_FLOATINGPOINT_H -fno-strict-aliasing -pipe -fstack-protector -I/usr/local/include'
    ccversion='', gccversion='4.2.1 20070719  [FreeBSD]', gccosandvers=''
    intsize=4, longsize=4, ptrsize=4, doublesize=8, byteorder=1234
    d_longlong=define, longlongsize=8, d_longdbl=define, longdblsize=12
    ivtype='long', ivsize=4, nvtype='double', nvsize=8, Off_t='off_t', lseeksize=8
    alignbytes=4, prototype=define
  Linker and Libraries:
    ld='cc', ldflags ='-pthread -Wl,-E  -fstack-protector -L/usr/local/lib'
    libpth=/usr/lib /usr/local/lib
    libs=-lgdbm -lm -lcrypt
    perllibs=-lm -lcrypt
    libc=, so=so, useshrplib=false, libperl=libperl.a
    gnulibc_version=''
  Dynamic Linking:
    dlsrc=dl_dlopen.xs, dlext=so, d_dlsymun=undef, ccdlflags=' '
    cccdlflags='-DPIC -fPIC', lddlflags='-shared  -L/usr/local/lib -fstack-protector'


Characteristics of this binary (from libperl): 
  Compile-time options: MULTIPLICITY PERL_DONT_CREATE_GVSV
                        PERL_IMPLICIT_CONTEXT PERL_MALLOC_WRAP USE_ITHREADS
                        USE_LARGE_FILES USE_PERLIO USE_PERL_ATOF
                        USE_REENTRANT_API
  Built under freebsd
  Compiled at May 13 2010 11:39:21
  %ENV:
    PERL5LIB=":/usr/home/cpan/pit/thr/conf/perl-5.12.0/.cpanplus/5.12.0/build/Class-Field-0.15/blib/lib:/usr/home/cpan/pit/thr/conf/perl-5.12.0/.cpanplus/5.12.0/build/Class-Field-0.15/blib/arch:/usr/home/cpan/pit/thr/conf/perl-5.12.0/.cpanplus/5.12.0/build/Curses-1.28/blib/lib:/usr/home/cpan/pit/thr/conf/perl-5.12.0/.cpanplus/5.12.0/build/Curses-1.28/blib/arch:/usr/home/cpan/pit/thr/conf/perl-5.12.0/.cpanplus/5.12.0/build/TermReadKey-2.30/blib/lib:/usr/home/cpan/pit/thr/conf/perl-5.12.0/.cpanplus/5.12.0/build/TermReadKey-2.30/blib/arch:/usr/home/cpan/pit/thr/conf/perl-5.12.0/.cpanplus/5.12.0/build/Curses-UI-0.9607/blib/lib:/usr/home/cpan/pit/thr/conf/perl-5.12.0/.cpanplus/5.12.0/build/Curses-UI-0.9607/blib/arch"
    PERL5_CPANPLUS_IS_RUNNING="26038"
    PERL5_CPANPLUS_IS_VERSION="0.9004"
    PERL5_MINISMOKEBOX="0.26"
    PERL5_YACSMOKE_BASE="/usr/home/cpan/pit/thr/conf/perl-5.12.0/"
    PERL_EXTUTILS_AUTOINSTALL="--defaultdeps"
    PERL_MM_USE_DEFAULT="1"
  @INC:
    /usr/home/cpan/pit/thr/conf/perl-5.12.0/.cpanplus/5.12.0/build/Class-Field-0.15/blib/lib
    /usr/home/cpan/pit/thr/conf/perl-5.12.0/.cpanplus/5.12.0/build/Class-Field-0.15/blib/arch
    /usr/home/cpan/pit/thr/conf/perl-5.12.0/.cpanplus/5.12.0/build/Curses-1.28/blib/lib
    /usr/home/cpan/pit/thr/conf/perl-5.12.0/.cpanplus/5.12.0/build/Curses-1.28/blib/arch
    /usr/home/cpan/pit/thr/conf/perl-5.12.0/.cpanplus/5.12.0/build/TermReadKey-2.30/blib/lib
    /usr/home/cpan/pit/thr/conf/perl-5.12.0/.cpanplus/5.12.0/build/TermReadKey-2.30/blib/arch
    /usr/home/cpan/pit/thr/conf/perl-5.12.0/.cpanplus/5.12.0/build/Curses-UI-0.9607/blib/lib
    /usr/home/cpan/pit/thr/conf/perl-5.12.0/.cpanplus/5.12.0/build/Curses-UI-0.9607/blib/arch
    /usr/home/cpan/pit/thr/perl-5.12.0/lib/site_perl/5.12.0/i386-freebsd-thread-multi
    /usr/home/cpan/pit/thr/perl-5.12.0/lib/site_perl/5.12.0
    /usr/home/cpan/pit/thr/perl-5.12.0/lib/5.12.0/i386-freebsd-thread-multi
    /usr/home/cpan/pit/thr/perl-5.12.0/lib/5.12.0
    .