Back
From: metabase:user:0d96120c-29e2-11e5-b049-ede3035d37de
Subject: PASS MooseX-Meta-TypeConstraint-Mooish-0.001 v5.24.0 GNU/Linux
Date: 2016-12-02T02:55:27Z
This distribution has been tested as part of the CPAN Testers
project, supporting the Perl programming language. See
http://wiki.cpantesters.org/ for more information or email
questions to cpan-testers-discuss@perl.org
--
Dear Chris Weyl,
This is a computer-generated report for MooseX-Meta-TypeConstraint-Mooish-0.001
on perl 5.24.0, created by CPAN-Reporter-1.2018.
Thank you for uploading your work to CPAN. Congratulations!
All tests were successful.
Sections of this report:
* Tester comments
* Program output
* Prerequisites
* Environment and other context
------------------------------
TESTER COMMENTS
------------------------------
Additional comments from tester:
CPU : Intel(R) Xeon(R) CPU E5-1650 v3 @ 3.50GHz
MEMORY : 62.79 GB
ARCH : amd64
OS : Ubuntu 16.04
KERNEL : Linux 4.4.0-22-generic
VIRTUALIZATION : No Virtualization
------------------------------
PROGRAM OUTPUT
------------------------------
Output from '/usr/bin/make test':
PERL_DL_NONLAZY=1 "/data/home/jmaslak/perl5/perlbrew/perls/perl-5.24.0/bin/perl" "-MExtUtils::Command::MM" "-MTest::Harness" "-e" "undef *Test::Harness::Switches; test_harness(0, 'blib/lib', 'blib/arch')" t/*.t
t/00-check-deps.t ............. ok
t/00-compile.t ................ ok
#
#
# Generated by Dist::Zilla::Plugin::ReportVersions::Tiny v1.10
# perl: 5.024000 (wanted 5.006) on linux from /data/home/jmaslak/perl5/perlbrew/perls/perl-5.24.0/bin/perl
#
# ExtUtils::MakeMaker => 7.1001 (want any version)
# File::Spec => 3.63 (want any version)
# IO::Handle => 1.36 (want any version)
# IPC::Open3 => 1.20 (want any version)
# Moose => 2.1806 (want any version)
# Moose::Meta::TypeConstraint => 2.1806 (want any version)
# Moose::Role => 2.1806 (want any version)
# Test::CheckDeps => 0.010 (want 0.010)
# Test::Fatal => 0.014 (want any version)
# Test::Moose::More => 0.038 (want 0.028)
# Test::More => 1.302052 (want 0.94)
# Try::Tiny => 0.24 (want any version)
# aliased => 0.34 (want any version)
# namespace::autoclean => 0.28 (want 0.24)
# strict => 1.11 (want any version)
# warnings => 1.36 (want any version)
#
# Thanks for using my code. I hope it works for you.
# If not, please try and include this output in the bug report.
# That will help me reproduce the issue and solve your problem.
#
t/000-report-versions-tiny.t .. ok
t/isa-mooish.t ................ ok
t/public-interface.t .......... ok
All tests successful.
Files=5, Tests=44, 1 wallclock secs ( 0.02 usr 0.00 sys + 1.10 cusr 0.06 csys = 1.18 CPU)
Result: PASS
------------------------------
PREREQUISITES
------------------------------
Prerequisite modules loaded:
requires:
Module Need Have
--------------------------- ----- --------
Moose 0 2.1806
Moose::Meta::TypeConstraint 0 2.1806
Moose::Role 0 2.1806
namespace::autoclean 0.24 0.28
perl 5.006 5.024000
Try::Tiny 0 0.24
build_requires:
Module Need Have
--------------------------- ----- --------
aliased 0 0.34
ExtUtils::MakeMaker 0 7.10_01
File::Spec 0 3.63
IO::Handle 0 1.36
IPC::Open3 0 1.20
strict 0 1.11
Test::CheckDeps 0.010 0.010
Test::Fatal 0 0.014
Test::Moose::More 0.028 0.038
Test::More 0.94 1.302052
warnings 0 1.36
configure_requires:
Module Need Have
--------------------------- ----- --------
ExtUtils::MakeMaker 0 7.10_01
perl 5.006 5.024000
------------------------------
ENVIRONMENT AND OTHER CONTEXT
------------------------------
Environment variables:
LANG = en_US.UTF-8
LD_LIBRARY_PATH = :/usr/local/cuda-7.0/lib64
NONINTERACTIVE_TESTING = 1
PATH = /home/jmaslak/bin:~/bin:/home/jmaslak/perl5/perlbrew/bin:/home/jmaslak/perl5/perlbrew/perls/perl-5.24.0/bin:/home/jmaslak/.rakudobrew/bin:/usr/local/sbin:/usr/local/bin:/usr/sbin:/usr/bin:/sbin:/bin:/usr/games:/usr/local/games:/usr/local/cuda-7.0/bin:/usr/sbin
PERL5LIB =
PERL5OPT =
PERL5_CPANPLUS_IS_RUNNING = 18441
PERL5_CPAN_IS_RUNNING = 18441
PERLBREW_BASHRC_VERSION = 0.74
PERLBREW_HOME = /home/jmaslak/.perlbrew
PERLBREW_MANPATH = /home/jmaslak/perl5/perlbrew/perls/perl-5.24.0/man
PERLBREW_PATH = /home/jmaslak/perl5/perlbrew/bin:/home/jmaslak/perl5/perlbrew/perls/perl-5.24.0/bin
PERLBREW_PERL = perl-5.24.0
PERLBREW_ROOT = /home/jmaslak/perl5/perlbrew
PERLBREW_VERSION = 0.74
PERL_MM_USE_DEFAULT = 1
SHELL = -bash
TERM = xterm-256color
Perl special variables (and OS-specific diagnostics, for MSWin32):
$^X = /data/home/jmaslak/perl5/perlbrew/perls/perl-5.24.0/bin/perl
$UID/$EUID = 1000 / 1000
$GID = 1000 4 24 27 30 46 111 117 118 146 1000 5000 5001 5002 5003
$EGID = 1000 4 24 27 30 46 111 117 118 146 1000 5000 5001 5002 5003
Perl module toolchain versions installed:
Module Have
------------------- --------
CPAN 2.11
CPAN::Meta 2.150005
Cwd 3.63
ExtUtils::CBuilder 0.280225
ExtUtils::Command 7.10
ExtUtils::Install 2.04
ExtUtils::MakeMaker 7.10_01
ExtUtils::Manifest 1.70
ExtUtils::ParseXS 3.31
File::Spec 3.63
JSON 2.90
JSON::PP 2.27300
Module::Build 0.4218
Module::Signature 0.79
Parse::CPAN::Meta 1.4417
Test::Harness 3.36
Test::More 1.302052
YAML 1.15
YAML::Syck 1.29
version 0.9916
--
Summary of my perl5 (revision 5 version 24 subversion 0) configuration:
Platform:
osname=linux, osvers=3.19.0-43-generic, archname=x86_64-linux
uname='linux red 3.19.0-43-generic #49-ubuntu smp sun dec 27 19:43:07 utc 2015 x86_64 x86_64 x86_64 gnulinux '
config_args='-de -Dprefix=/home/jmaslak/perl5/perlbrew/perls/perl-5.24.0 -Aeval:scriptdir=/home/jmaslak/perl5/perlbrew/perls/perl-5.24.0/bin'
hint=recommended, useposix=true, d_sigaction=define
useithreads=undef, usemultiplicity=undef
use64bitint=define, use64bitall=define, uselongdouble=undef
usemymalloc=n, bincompat5005=undef
Compiler:
cc='cc', ccflags ='-fwrapv -fno-strict-aliasing -pipe -fstack-protector-strong -I/usr/local/include -D_LARGEFILE_SOURCE -D_FILE_OFFSET_BITS=64',
optimize='-O2',
cppflags='-fwrapv -fno-strict-aliasing -pipe -fstack-protector-strong -I/usr/local/include'
ccversion='', gccversion='4.9.3', gccosandvers=''
intsize=4, longsize=8, ptrsize=8, doublesize=8, byteorder=12345678, doublekind=3
d_longlong=define, longlongsize=8, d_longdbl=define, longdblsize=16, longdblkind=3
ivtype='long', ivsize=8, nvtype='double', nvsize=8, Off_t='off_t', lseeksize=8
alignbytes=8, prototype=define
Linker and Libraries:
ld='cc', ldflags =' -fstack-protector-strong -L/usr/local/lib'
libpth=/usr/local/lib /usr/lib/gcc/x86_64-linux-gnu/4.9/include-fixed /usr/include/x86_64-linux-gnu /usr/lib /lib/x86_64-linux-gnu /lib/../lib /usr/lib/x86_64-linux-gnu /usr/lib/../lib /lib
libs=-lpthread -lnsl -ldb -ldl -lm -lcrypt -lutil -lc
perllibs=-lpthread -lnsl -ldl -lm -lcrypt -lutil -lc
libc=libc-2.21.so, so=so, useshrplib=false, libperl=libperl.a
gnulibc_version='2.21'
Dynamic Linking:
dlsrc=dl_dlopen.xs, dlext=so, d_dlsymun=undef, ccdlflags='-Wl,-E'
cccdlflags='-fPIC', lddlflags='-shared -O2 -L/usr/local/lib -fstack-protector-strong'
Characteristics of this binary (from libperl):
Compile-time options: HAS_TIMES PERLIO_LAYERS PERL_COPY_ON_WRITE
PERL_DONT_CREATE_GVSV
PERL_HASH_FUNC_ONE_AT_A_TIME_HARD PERL_MALLOC_WRAP
PERL_PRESERVE_IVUV USE_64_BIT_ALL USE_64_BIT_INT
USE_LARGE_FILES USE_LOCALE USE_LOCALE_COLLATE
USE_LOCALE_CTYPE USE_LOCALE_NUMERIC USE_LOCALE_TIME
USE_PERLIO USE_PERL_ATOF
Locally applied patches:
Devel::PatchPerl 1.38
Built under linux
Compiled at May 10 2016 20:46:15
%ENV:
PERL5LIB=""
PERL5OPT=""
PERL5_CPANPLUS_IS_RUNNING="18441"
PERL5_CPAN_IS_RUNNING="18441"
PERLBREW_BASHRC_VERSION="0.74"
PERLBREW_HOME="/home/jmaslak/.perlbrew"
PERLBREW_MANPATH="/home/jmaslak/perl5/perlbrew/perls/perl-5.24.0/man"
PERLBREW_PATH="/home/jmaslak/perl5/perlbrew/bin:/home/jmaslak/perl5/perlbrew/perls/perl-5.24.0/bin"
PERLBREW_PERL="perl-5.24.0"
PERLBREW_ROOT="/home/jmaslak/perl5/perlbrew"
PERLBREW_VERSION="0.74"
PERL_MM_USE_DEFAULT="1"
@INC:
/home/jmaslak/perl5/perlbrew/perls/perl-5.24.0/lib/site_perl/5.24.0/x86_64-linux
/home/jmaslak/perl5/perlbrew/perls/perl-5.24.0/lib/site_perl/5.24.0
/home/jmaslak/perl5/perlbrew/perls/perl-5.24.0/lib/5.24.0/x86_64-linux
/home/jmaslak/perl5/perlbrew/perls/perl-5.24.0/lib/5.24.0
.