Back
From: metabase:user:30f4dfbe-2aae-11df-837a-5e0a49663a4f
Subject: PASS IO-Iron-0.09 v5.16.3 GNU/Linux
Date: 2014-04-20T06:05:31Z
This distribution has been tested as part of the CPAN Testers
project, supporting the Perl programming language. See
http://wiki.cpantesters.org/ for more information or email
questions to cpan-testers-discuss@perl.org
--
Dear Mikko Koivunalho,
This is a computer-generated report for IO-Iron-0.09
on perl 5.16.3, created by CPAN-Reporter-1.2011.
Thank you for uploading your work to CPAN. Congratulations!
All tests were successful.
Sections of this report:
* Tester comments
* Program output
* Prerequisites
* Environment and other context
------------------------------
TESTER COMMENTS
------------------------------
Additional comments from tester:
this report is from an automated smoke testing program
and was not reviewed by a human for accuracy
------------------------------
PROGRAM OUTPUT
------------------------------
Output from '/usr/bin/make test':
PERL_DL_NONLAZY=1 /home/njh/perl5/perlbrew/perls/perl-5.16.3/bin/perl "-MExtUtils::Command::MM" "-MTest::Harness" "-e" "undef *Test::Harness::Switches; test_harness(0, 'blib/lib', 'blib/arch')" t/*.t t/Iron/*.t t/IronCache/*.t t/IronMQ/*.t t/IronWorker/*.t
t/boilerplate.t ............. ok
# Testing IO::Iron::IronMQ 0.09, Perl 5.016003, /home/njh/perl5/perlbrew/perls/perl-5.16.3/bin/perl
# test ReadIronMQConfig
# Current dir config filename: ./iron.json
# Extra config filename: t/.IronMQTestConfig.json
t/Iron/client_readconfig.t .. ok
# Testing IO::Iron 0.09, Perl 5.016003, /home/njh/perl5/perlbrew/perls/perl-5.16.3/bin/perl
t/Iron/load.t ............... ok
# Testing IO::Iron::IronCache 0.09, Perl 5.016003, /home/njh/perl5/perlbrew/perls/perl-5.16.3/bin/perl
t/IronCache/load.t .......... ok
# Testing IO::Iron::IronMQ 0.09, Perl 5.016003, /home/njh/perl5/perlbrew/perls/perl-5.16.3/bin/perl
t/IronMQ/load.t ............. ok
# Testing IO::Iron::IronWorker 0.09, Perl 5.016003, /home/njh/perl5/perlbrew/perls/perl-5.16.3/bin/perl
t/IronWorker/load.t ......... ok
t/release-kwalitee.t ........ skipped: these tests are for release candidate testing
t/release-pod-coverage.t .... skipped: these tests are for release candidate testing
t/release-pod-syntax.t ...... skipped: these tests are for release candidate testing
All tests successful.
Test Summary Report
-------------------
t/boilerplate.t (Wstat: 0 Tests: 3 Failed: 0)
TODO passed: 1-3
Files=9, Tests=91, 0 wallclock secs ( 0.03 usr 0.00 sys + 0.31 cusr 0.02 csys = 0.36 CPU)
Result: PASS
------------------------------
PREREQUISITES
------------------------------
Prerequisite modules loaded:
requires:
Module Need Have
------------------ ---- --------
Carp 0 1.32
Carp::Assert 0 0.20
Carp::Assert::More 0 1.14
constant 0 1.27
Data::Dumper 0 2.145
Data::UUID 0 1.219
English 0 1.05
Exception::Class 0 1.37
Exporter 0 5.68
File::HomeDir 0 1.00
File::Slurp 0 9999.19
File::Spec 0 3.40
Hash::Util 0.06 0.11
JSON 0 2.61
Log::Any 0 0.15
Params::Validate 0 1.08
parent 0 0.228
REST::Client 0 271
Scalar::Util 0 1.35
strict 0 1.07
Try::Tiny 0 0.18
URI::Escape 0 3.31
warnings 0 1.13
build_requires:
Module Need Have
------------------ ---- --------
File::Copy 0 2.23
File::Remove 0 1.52
Test::More 0 1.001002
------------------------------
ENVIRONMENT AND OTHER CONTEXT
------------------------------
Environment variables:
AUTOMATED_TESTING = 1
LANG = en_GB.UTF-8
LANGUAGE = en_GB:en
LD_LIBRARY_PATH = /usr/local/lib::
PATH = /home/njh/perl5/perlbrew/bin:/home/njh/perl5/perlbrew/perls/perl-5.16.3/bin:/home/njh/perl5/perlbrew/bin:/usr/local/bin:/usr/bin:/bin:/usr/local/games:/usr/games:/home/njh/bin:/sbin
PERL5LIB = /home/njh/.cpan/build/REST-Client-271-ZDeq3q/blib/arch:/home/njh/.cpan/build/REST-Client-271-ZDeq3q/blib/lib
PERL5OPT =
PERL5_CPANPLUS_IS_RUNNING = 26302
PERL5_CPAN_IS_RUNNING = 26302
PERL5_MINISMOKEBOX = 0.58
PERLBREW_BASHRC_VERSION = 0.58
PERLBREW_HOME = /home/njh/.perlbrew
PERLBREW_MANPATH = /home/njh/perl5/perlbrew/perls/perl-5.16.3/man
PERLBREW_PATH = /home/njh/perl5/perlbrew/bin:/home/njh/perl5/perlbrew/perls/perl-5.16.3/bin
PERLBREW_PERL = perl-5.16.3
PERLBREW_ROOT = /home/njh/perl5/perlbrew
PERLBREW_VERSION = 0.67
PERL_EXTUTILS_AUTOINSTALL = --defaultdeps
PERL_MM_USE_DEFAULT = 1
SHELL = /bin/bash
TERM = linux
Perl special variables (and OS-specific diagnostics, for MSWin32):
$^X = /home/njh/perl5/perlbrew/perls/perl-5.16.3/bin/perl
$UID/$EUID = 1000 / 1000
$GID = 1000 4 24 25 29 30 44 46 108 112 1000
$EGID = 1000 4 24 25 29 30 44 46 108 112 1000
Perl module toolchain versions installed:
Module Have
------------------- --------
CPAN 2.00
CPAN::Meta 2.133380
Cwd 3.40
ExtUtils::CBuilder 0.280212
ExtUtils::Command 1.18
ExtUtils::Install 1.58
ExtUtils::MakeMaker 6.90
ExtUtils::Manifest 1.63
ExtUtils::ParseXS 3.22
File::Spec 3.40
JSON 2.61
JSON::PP 2.27203
Module::Build 0.4203
Module::Signature 0.73
Parse::CPAN::Meta 1.4409
Test::Harness 3.30
Test::More 1.001002
YAML 0.88
YAML::Syck 1.27
version 0.9904
--
Summary of my perl5 (revision 5 version 16 subversion 3) configuration:
Platform:
osname=linux, osvers=3.2.0-4-amd64, archname=x86_64-linux-thread-multi
uname='linux nigelhorne.force9.co.uk 3.2.0-4-amd64 #1 smp debian 3.2.32-1 x86_64 gnulinux '
config_args='-de -Dprefix=/home/njh/perl5/perlbrew/perls/perl-5.16.3 -Duseithreads -Dusemultiplicity -Accflags=-O2 -W -Wformat=2 -Wswitch -Wshadow -Wwrite-strings -Wuninitialized -Wall -pipe -mtune=native -march=native -fomit-frame-pointer -msse2 -msse -mmmx -mfpmath=sse -pedantic -D_FORTIFY_SOURCE=2 -Wpointer-arith -Wstrict-prototypes -fstack-protector -Wstack-protector -Wextra -Wbad-function-cast -Wcast-align -Wcast-qual -Wdisabled-optimization -Wendif-labels -Wfloat-equal -Wformat-nonliteral -Winline -Wmissing-declarations -Wmissing-prototypes -Wnested-externs -Wpointer-arith -Wundef -Wformat-security -ftree-vectorize -fassociative-math -ftree-vectorizer-verbose=2 -Aeval:scriptdir=/home/njh/perl5/perlbrew/perls/perl-5.16.3/bin'
hint=recommended, useposix=true, d_sigaction=define
useithreads=define, usemultiplicity=define
useperlio=define, d_sfio=undef, uselargefiles=define, usesocks=undef
use64bitint=define, use64bitall=define, uselongdouble=undef
usemymalloc=n, bincompat5005=undef
Compiler:
cc='cc', ccflags ='-D_REENTRANT -D_GNU_SOURCE -O2 -W -Wformat=2 -Wswitch -Wshadow -Wwrite-strings -Wuninitialized -Wall -pipe -mtune=native -march=native -fomit-frame-pointer -msse2 -msse -mmmx -mfpmath=sse -pedantic -D_FORTIFY_SOURCE=2 -Wpointer-arith -Wstrict-prototypes -fstack-protector -Wstack-protector -Wextra -Wbad-function-cast -Wcast-align -Wcast-qual -Wdisabled-optimization -Wendif-labels -Wfloat-equal -Wformat-nonliteral -Winline -Wmissing-declarations -Wmissing-prototypes -Wnested-externs -Wpointer-arith -Wundef -Wformat-security -ftree-vectorize -fassociative-math -ftree-vectorizer-verbose=2 -fno-strict-aliasing -I/usr/local/include -D_LARGEFILE_SOURCE -D_FILE_OFFSET_BITS=64',
optimize='-O2',
cppflags='-D_REENTRANT -D_GNU_SOURCE -O2 -W -Wformat=2 -Wswitch -Wshadow -Wwrite-strings -Wuninitialized -Wall -pipe -mtune=native -march=native -fomit-frame-pointer -msse2 -msse -mmmx -mfpmath=sse -pedantic -D_FORTIFY_SOURCE=2 -Wpointer-arith -Wstrict-prototypes -fstack-protector -Wstack-protector -Wextra -Wbad-function-cast -Wcast-align -Wcast-qual -Wdisabled-optimization -Wendif-labels -Wfloat-equal -Wformat-nonliteral -Winline -Wmissing-declarations -Wmissing-prototypes -Wnested-externs -Wpointer-arith -Wundef -Wformat-security -ftree-vectorize -fassociative-math -ftree-vectorizer-verbose=2 -fno-strict-aliasing -I/usr/local/include'
ccversion='', gccversion='4.7.2', gccosandvers=''
intsize=4, longsize=8, ptrsize=8, doublesize=8, byteorder=12345678
d_longlong=define, longlongsize=8, d_longdbl=define, longdblsize=16
ivtype='long', ivsize=8, nvtype='double', nvsize=8, Off_t='off_t', lseeksize=8
alignbytes=8, prototype=define
Linker and Libraries:
ld='cc', ldflags =' -fstack-protector -L/usr/local/lib'
libpth=/usr/local/lib /lib/x86_64-linux-gnu /lib/../lib /usr/lib/x86_64-linux-gnu /usr/lib/../lib /lib /usr/lib
libs=-lnsl -lgdbm -ldb -ldl -lm -lcrypt -lutil -lpthread -lc -lgdbm_compat
perllibs=-lnsl -ldl -lm -lcrypt -lutil -lpthread -lc
libc=, so=so, useshrplib=false, libperl=libperl.a
gnulibc_version='2.13'
Dynamic Linking:
dlsrc=dl_dlopen.xs, dlext=so, d_dlsymun=undef, ccdlflags='-Wl,-E'
cccdlflags='-fPIC', lddlflags='-shared -O2 -L/usr/local/lib -fstack-protector'
Characteristics of this binary (from libperl):
Compile-time options: HAS_TIMES MULTIPLICITY PERLIO_LAYERS
PERL_DONT_CREATE_GVSV PERL_IMPLICIT_CONTEXT
PERL_MALLOC_WRAP PERL_PRESERVE_IVUV USE_64_BIT_ALL
USE_64_BIT_INT USE_ITHREADS USE_LARGE_FILES
USE_LOCALE USE_LOCALE_COLLATE USE_LOCALE_CTYPE
USE_LOCALE_NUMERIC USE_PERLIO USE_PERL_ATOF
USE_REENTRANT_API
Built under linux
Compiled at Mar 22 2013 12:27:08
%ENV:
PERL5LIB="/home/njh/.cpan/build/REST-Client-271-ZDeq3q/blib/arch:/home/njh/.cpan/build/REST-Client-271-ZDeq3q/blib/lib"
PERL5OPT=""
PERL5_CPANPLUS_IS_RUNNING="26302"
PERL5_CPAN_IS_RUNNING="26302"
PERL5_MINISMOKEBOX="0.58"
PERLBREW_BASHRC_VERSION="0.58"
PERLBREW_HOME="/home/njh/.perlbrew"
PERLBREW_MANPATH="/home/njh/perl5/perlbrew/perls/perl-5.16.3/man"
PERLBREW_PATH="/home/njh/perl5/perlbrew/bin:/home/njh/perl5/perlbrew/perls/perl-5.16.3/bin"
PERLBREW_PERL="perl-5.16.3"
PERLBREW_ROOT="/home/njh/perl5/perlbrew"
PERLBREW_VERSION="0.67"
PERL_EXTUTILS_AUTOINSTALL="--defaultdeps"
PERL_MM_USE_DEFAULT="1"
@INC:
/home/njh/.cpan/build/REST-Client-271-ZDeq3q/blib/arch
/home/njh/.cpan/build/REST-Client-271-ZDeq3q/blib/lib
/home/njh/perl5/perlbrew/perls/perl-5.16.3/lib/site_perl/5.16.3/x86_64-linux-thread-multi
/home/njh/perl5/perlbrew/perls/perl-5.16.3/lib/site_perl/5.16.3
/home/njh/perl5/perlbrew/perls/perl-5.16.3/lib/5.16.3/x86_64-linux-thread-multi
/home/njh/perl5/perlbrew/perls/perl-5.16.3/lib/5.16.3
.